{"text_format":"3","workbook":"xlsx","n_sheets":3,"sheets":["Export","Coeff","Table"],"not_rendered":{"images":1,"macros":1,"defined_names":2},"read":"whole","date_system":"1900"}

{"sheet":"Export","index":0,"n_rows":38,"n_cols":9,"rows_kept":38}
[{"v":280,"d":"280.0"},{"v":1.5193420576855319,"d":"1.51934"},{"v":1.0261098384311313E-4,"d":"1.02611E-04"}]
[{"v":290,"d":"290.0"},{"v":1.5248871979574863,"d":"1.52489"},{"v":1.0627566183751003E-4,"d":"1.06276E-04"}]
[{"v":300,"d":"300.0"},{"v":1.530172009006394,"d":"1.53017"},{"v":1.0994033983190693E-4,"d":"1.09940E-04"},{"$nulls":4},"Type","Row"]
[{"v":310,"d":"310.0"},{"v":1.5351642056408308,"d":"1.53516"},{"v":1.1360501782630382E-4,"d":"1.13605E-04"},{"$nulls":4},"BACD18",10]
[{"v":320,"d":"320.0"},{"v":1.5398531916012619,"d":"1.53985"},{"v":6.4637467842675514E-6,"d":"6.46375E-06"}]
[{"v":330,"d":"330.0"},{"v":1.5442414790860968,"d":"1.54424"},{"v":2.8640931444832924E-6,"d":"2.86409E-06"}]
[{"v":340,"d":"340.0"},{"v":1.548339267818912,"d":"1.54834"},{"v":1.2890295214708945E-6,"d":"1.28903E-06"}]
[{"v":350,"d":"350.0"},{"v":1.5521610167116953,"d":"1.55216"},{"v":6.2498567832946033E-7,"d":"6.24986E-07"},null,"Converts Hoya Glass data to Wave (nm), n, k column format"]
[{"v":360,"d":"360.0"},{"v":1.5557232822470033,"d":"1.55572"},{"v":2.954765090932014E-7,"d":"2.95477E-07"}]
[{"v":370,"d":"370.0"},{"v":1.5590433672927844,"d":"1.55904"},{"v":1.5412722043693942E-7,"d":"1.54127E-07"},null,"Utilizes 2 , 5 or 10  mm internal transmittance values."]
[{"v":380,"d":"380.0"},{"v":1.5621384907446447,"d":"1.56214"},{"v":8.89910731244032e-08,"d":"8.89911E-08"}]
[{"v":390,"d":"390.0"},{"v":1.565025292589347,"d":"1.56503"},{"v":5.6372271375608661E-8,"d":"5.63723E-08"}]
[{"v":400,"d":"400.0"},{"v":1.567719554805165,"d":"1.56772"},{"v":4.1651611114198881E-8,"d":"4.16516E-08"}]
[{"v":420,"d":"420.0"},{"v":1.572588540690116,"d":"1.57259"},{"v":3.0216463213042004E-8,"d":"3.02165E-08"}]
[{"v":440,"d":"440.0"},{"v":1.5768511294563676,"d":"1.57685"},{"v":3.5190333878003777E-8,"d":"3.51903E-08"}]
[{"v":460,"d":"460.0"},{"v":1.5805968961856531,"d":"1.58060"},{"v":2.9402276075793877E-8,"d":"2.94023E-08"}]
[{"v":480,"d":"480.0"},{"v":1.583901045162246,"d":"1.58390"},{"v":2.2987343003947914E-8,"d":"2.29873E-08"}]
[{"v":500,"d":"500.0"},{"v":1.5868265002249993,"d":"1.58683"},{"v":1.59474104359087E-8,"d":"1.59474E-08"}]
[{"v":550,"d":"550.0"},{"v":1.592808263307769,"d":"1.59281"},{"v":4.3789507755097289E-9,"d":"4.37895E-09"}]
[{"v":600,"d":"600.0"},{"v":1.5973474672200434,"d":"1.59735"},{"v":9.5588586336232634E-9,"d":"9.55886E-09"}]
[{"v":650,"d":"650.0"},{"v":1.6008500475899765,"d":"1.60085"},{"v":1.5540930019702692E-8,"d":"1.55409E-08"}]
[{"v":700,"d":"700.0"},{"v":1.6035890946104683,"d":"1.60359"},{"v":5.5732100779214729E-9,"d":"5.57321E-09"}]
[{"v":750,"d":"750.0"},{"v":1.6057529860213478,"d":"1.60575"},{"v":1.1948573292029079E-8,"d":"1.19486E-08"}]
[{"v":780,"d":"780.0"},{"v":1.606832282617861,"d":"1.60683"},{"v":1.2426516223710241E-8,"d":"1.24265E-08"}]
[{"v":800,"d":"800.0"},{"v":1.6074747385610129,"d":"1.60747"},{"v":1.2745144844831018E-8,"d":"1.27451E-08"}]
[{"v":830,"d":"830.0"},{"v":1.6083366359170597,"d":"1.60834"},{"v":1.9844572179004974E-8,"d":"1.98446E-08"}]
[{"v":850,"d":"850.0"},{"v":1.608850295726854,"d":"1.60885"},{"v":2.0322754641149672E-8,"d":"2.03228E-08"}]
[{"v":900,"d":"900.0"},{"v":1.6099501990391116,"d":"1.60995"},{"v":2.1518210796511418E-8,"d":"2.15182E-08"}]
[{"v":950,"d":"950.0"},{"v":1.6108272149155076,"d":"1.61083"},{"v":2.2713666951873163E-8,"d":"2.27137E-08"}]
[{"v":1000,"d":"1000.0"},{"v":1.611521430953796,"d":"1.61152"},{"v":3.18948208718174E-8,"d":"3.18948E-08"}]
[{"v":1050,"d":"1050.0"},{"v":1.6120637322090514,"d":"1.61206"},{"v":3.3489561915408272E-8,"d":"3.34896E-08"}]
[{"v":1060,"d":"1060.0"},{"v":1.6121561817195664,"d":"1.61216"},{"v":3.3808510124126443E-8,"d":"3.38085E-08"}]
[{"v":1100,"d":"1100.0"},{"v":1.6124782177547554,"d":"1.61248"},{"v":3.5084302958999138E-8,"d":"3.50843E-08"}]
[{"v":1200,"d":"1200.0"},{"v":1.6129959828822573,"d":"1.61300"},{"v":2.8690947728681892E-8,"d":"2.86909E-08"}]
[{"v":1300,"d":"1300.0"},{"v":1.613185866024248,"d":"1.61319"},{"v":3.1081860039405384E-8,"d":"3.10819E-08"}]
[{"v":1400,"d":"1400.0"},{"v":1.6131210027697949,"d":"1.61312"},{"v":1.1196924415728474E-7,"d":"1.11969E-07"}]
[{"v":1500,"d":"1500.0"},{"v":1.6128510867987147,"d":"1.61285"},{"v":9.5876987203675688E-8,"d":"9.58770E-08"}]
[{"v":1550,"d":"1550.0"},{"v":1.6126505089658456,"d":"1.61265"},{"v":9.9072886777131553E-8,"d":"9.90729E-08"}]

{"sheet":"Coeff","index":1,"n_rows":208,"n_cols":7,"rows_kept":208,"hidden":true}
[{"$f":"Table!A5","v":"BAC4"},{"$f":"Table!B5*10^Table!C5","v":2.4196645},{"$f":"Table!D5*10^Table!E5","v":-0.0083329314},{"$f":"Table!F5*10^Table!G5","v":0.01539739},{"$f":"Table!H5*10^Table!I5","v":-1.7391654000000002E-4},{"$f":"Table!J5*10^Table!K5","v":6.218322e-05},{"$f":"Table!L5*10^Table!M5","v":-3.0621309999999997E-6}]
[{"$f":"Table!A6","v":"BACD11"},{"$f":"Table!B6*10^Table!C6","v":2.4095163},{"$f":"Table!D6*10^Table!E6","v":-0.0091904415},{"$f":"Table!F6*10^Table!G6","v":0.012939968},{"$f":"Table!H6*10^Table!I6","v":0.0002346143},{"$f":"Table!J6*10^Table!K6","v":-1.1130589E-5},{"$f":"Table!L6*10^Table!M6","v":1.0131863E-6}]
[{"$f":"Table!A7","v":"BACD14"},{"$f":"Table!B7*10^Table!C7","v":2.5335256},{"$f":"Table!D7*10^Table!E7","v":-0.011903338000000001},{"$f":"Table!F7*10^Table!G7","v":0.012257249},{"$f":"Table!H7*10^Table!I7","v":7.9172149000000011E-4},{"$f":"Table!J7*10^Table!K7","v":-7.7381829e-05},{"$f":"Table!L7*10^Table!M7","v":3.9935440999999994E-6}]
[{"$f":"Table!A8","v":"BACD15"},{"$f":"Table!B8*10^Table!C8","v":2.5864832},{"$f":"Table!D8*10^Table!E8","v":-0.0080357829},{"$f":"Table!F8*10^Table!G8","v":0.018080573},{"$f":"Table!H8*10^Table!I8","v":-4.5974172E-4},{"$f":"Table!J8*10^Table!K8","v":8.8484321e-05},{"$f":"Table!L8*10^Table!M8","v":-3.7544764999999997E-6}]
[{"$f":"Table!A9","v":"BACD16"},{"$f":"Table!B9*10^Table!C9","v":2.5859898},{"$f":"Table!D9*10^Table!E9","v":-0.011940432},{"$f":"Table!F9*10^Table!G9","v":0.013995502},{"$f":"Table!H9*10^Table!I9","v":0.00048974502},{"$f":"Table!J9*10^Table!K9","v":-3.9120717E-5},{"$f":"Table!L9*10^Table!M9","v":2.2611914999999997E-6}]
[{"$f":"Table!A10","v":"BACD18"},{"$f":"Table!B10*10^Table!C10","v":2.6365277},{"$f":"Table!D10*10^Table!E10","v":-0.009755846399999999},{"$f":"Table!F10*10^Table!G10","v":0.017143665},{"$f":"Table!H10*10^Table!I10","v":0.00022592497},{"$f":"Table!J10*10^Table!K10","v":3.0855342e-06},{"$f":"Table!L10*10^Table!M10","v":4.5831917E-7}]
[{"$f":"Table!A11","v":"BACD2"},{"$f":"Table!B11*10^Table!C11","v":2.5393255},{"$f":"Table!D11*10^Table!E11","v":-0.0087207883},{"$f":"Table!F11*10^Table!G11","v":0.015909566},{"$f":"Table!H11*10^Table!I11","v":8.8163036000000008E-5},{"$f":"Table!J11*10^Table!K11","v":2.5876593E-5},{"$f":"Table!L11*10^Table!M11","v":-1.1733522999999998E-6}]
[{"$f":"Table!A12","v":"BACD4"},{"$f":"Table!B12*10^Table!C12","v":2.5584621},{"$f":"Table!D12*10^Table!E12","v":-0.0097457283},{"$f":"Table!F12*10^Table!G12","v":0.015110495},{"$f":"Table!H12*10^Table!I12","v":0.00023273333},{"$f":"Table!J12*10^Table!K12","v":1.1137249e-06},{"$f":"Table!L12*10^Table!M12","v":1.6424767E-7}]
[{"$f":"Table!A13","v":"BACD5"},{"$f":"Table!B13*10^Table!C13","v":2.4861499},{"$f":"Table!D13*10^Table!E13","v":-0.0095684845},{"$f":"Table!F13*10^Table!G13","v":0.014685059},{"$f":"Table!H13*10^Table!I13","v":-1.1216487E-4},{"$f":"Table!J13*10^Table!K13","v":4.1978777000000009E-5},{"$f":"Table!L13*10^Table!M13","v":-1.8856189999999999E-6}]
[{"$f":"Table!A14","v":"BACED5"},{"$f":"Table!B14*10^Table!C14","v":2.6934245},{"$f":"Table!D14*10^Table!E14","v":-0.008637014},{"$f":"Table!F14*10^Table!G14","v":0.02049645},{"$f":"Table!H14*10^Table!I14","v":-9.3205453e-05},{"$f":"Table!J14*10^Table!K14","v":6.2709747000000009E-5},{"$f":"Table!L14*10^Table!M14","v":-2.0834652E-6}]
[{"$f":"Table!A15","v":"BAF10"},{"$f":"Table!B15*10^Table!C15","v":2.7324621},{"$f":"Table!D15*10^Table!E15","v":-0.012490460000000002},{"$f":"Table!F15*10^Table!G15","v":0.018562334},{"$f":"Table!H15*10^Table!I15","v":0.00099990536},{"$f":"Table!J15*10^Table!K15","v":-6.8388552000000013E-5},{"$f":"Table!L15*10^Table!M15","v":4.9257930999999995E-6}]
[{"$f":"Table!A16","v":"BAF11"},{"$f":"Table!B16*10^Table!C16","v":2.7272955},{"$f":"Table!D16*10^Table!E16","v":-0.013470236},{"$f":"Table!F16*10^Table!G16","v":0.014809270999999999},{"$f":"Table!H16*10^Table!I16","v":1.9615335000000003E-3},{"$f":"Table!J16*10^Table!K16","v":-1.9787663000000002E-4},{"$f":"Table!L16*10^Table!M16","v":1.0851117E-5}]
[{"$f":"Table!A17","v":"BAFD7"},{"$f":"Table!B17*10^Table!C17","v":2.8217211},{"$f":"Table!D17*10^Table!E17","v":-0.0097265483},{"$f":"Table!F17*10^Table!G17","v":0.024345979},{"$f":"Table!H17*10^Table!I17","v":0.00078406305},{"$f":"Table!J17*10^Table!K17","v":-2.2431497000000002E-5},{"$f":"Table!L17*10^Table!M17","v":4.6726029e-06}]
[{"$f":"Table!A18","v":"BAFD8"},{"$f":"Table!B18*10^Table!C18","v":2.8863236},{"$f":"Table!D18*10^Table!E18","v":-0.009802724},{"$f":"Table!F18*10^Table!G18","v":0.027654256},{"$f":"Table!H18*10^Table!I18","v":8.9006367E-4},{"$f":"Table!J18*10^Table!K18","v":-3.6309109000000006E-5},{"$f":"Table!L18*10^Table!M18","v":7.6181062e-06}]
[{"$f":"Table!A19","v":"BSC7"},{"$f":"Table!B19*10^Table!C19","v":2.2702566},{"$f":"Table!D19*10^Table!E19","v":-0.0091988101},{"$f":"Table!F19*10^Table!G19","v":0.011609706},{"$f":"Table!H19*10^Table!I19","v":-7.6123911000000008E-5},{"$f":"Table!J19*10^Table!K19","v":2.8558727000000002E-5},{"$f":"Table!L19*10^Table!M19","v":-1.2566485999999999E-6}]
[{"$f":"Table!A20","v":"E-ADF10"},{"$f":"Table!B20*10^Table!C20","v":2.5528983},{"$f":"Table!D20*10^Table!E20","v":-0.015709364},{"$f":"Table!F20*10^Table!G20","v":0.015647688},{"$f":"Table!H20*10^Table!I20","v":1.4461641E-3},{"$f":"Table!J20*10^Table!K20","v":-0.00014458879},{"$f":"Table!L20*10^Table!M20","v":9.5275733e-06}]
[{"$f":"Table!A21","v":"E-ADF50"},{"$f":"Table!B21*10^Table!C21","v":2.6680422},{"$f":"Table!D21*10^Table!E21","v":-0.013184258},{"$f":"Table!F21*10^Table!G21","v":0.023930479},{"$f":"Table!H21*10^Table!I21","v":0.00023928655},{"$f":"Table!J21*10^Table!K21","v":5.0697941000000007E-5},{"$f":"Table!L21*10^Table!M21","v":9.1240957999999986E-7}]
[{"$f":"Table!A22","v":"E-BACD10"},{"$f":"Table!B22*10^Table!C22","v":2.5906326},{"$f":"Table!D22*10^Table!E22","v":-0.010608994},{"$f":"Table!F22*10^Table!G22","v":0.014490916000000001},{"$f":"Table!H22*10^Table!I22","v":0.00067542247},{"$f":"Table!J22*10^Table!K22","v":-5.5303116000000006E-5},{"$f":"Table!L22*10^Table!M22","v":3.0061364e-06}]
[{"$f":"Table!A23","v":"E-BACED20"},{"$f":"Table!B23*10^Table!C23","v":2.6667537},{"$f":"Table!D23*10^Table!E23","v":-0.0097319259},{"$f":"Table!F23*10^Table!G23","v":0.017436284},{"$f":"Table!H23*10^Table!I23","v":4.7558014999999997E-4},{"$f":"Table!J23*10^Table!K23","v":-1.7144989e-05},{"$f":"Table!L23*10^Table!M23","v":1.1049589E-6}]
[{"$f":"Table!A24","v":"E-BAF8"},{"$f":"Table!B24*10^Table!C24","v":2.5801121},{"$f":"Table!D24*10^Table!E24","v":-0.0079717945},{"$f":"Table!F24*10^Table!G24","v":0.019728054},{"$f":"Table!H24*10^Table!I24","v":0.00013876076},{"$f":"Table!J24*10^Table!K24","v":3.7632071e-05},{"$f":"Table!L24*10^Table!M24","v":-7.4634717e-07}]
[{"$f":"Table!A25","v":"E-C3"},{"$f":"Table!B25*10^Table!C25","v":2.2725452},{"$f":"Table!D25*10^Table!E25","v":-0.008410491},{"$f":"Table!F25*10^Table!G25","v":0.011306843},{"$f":"Table!H25*10^Table!I25","v":0.00037782297},{"$f":"Table!J25*10^Table!K25","v":-2.6903423000000004E-5},{"$f":"Table!L25*10^Table!M25","v":1.5976488999999999E-6}]
[{"$f":"Table!A26","v":"E-CF6"},{"$f":"Table!B26*10^Table!C26","v":2.2668912},{"$f":"Table!D26*10^Table!E26","v":-0.0093866212},{"$f":"Table!F26*10^Table!G26","v":0.012174195},{"$f":"Table!H26*10^Table!I26","v":0.0005076903},{"$f":"Table!J26*10^Table!K26","v":-3.3573414000000004E-5},{"$f":"Table!L26*10^Table!M26","v":2.9059013e-06}]
[{"$f":"Table!A27","v":"E-F1"},{"$f":"Table!B27*10^Table!C27","v":2.5730565},{"$f":"Table!D27*10^Table!E27","v":-0.010203605000000001},{"$f":"Table!F27*10^Table!G27","v":0.023095784},{"$f":"Table!H27*10^Table!I27","v":8.7114252000000008E-4},{"$f":"Table!J27*10^Table!K27","v":-3.0730079e-05},{"$f":"Table!L27*10^Table!M27","v":6.9457986e-06}]
[{"$f":"Table!A28","v":"E-F2"},{"$f":"Table!B28*10^Table!C28","v":2.5561822},{"$f":"Table!D28*10^Table!E28","v":-0.010237038},{"$f":"Table!F28*10^Table!G28","v":0.022470348},{"$f":"Table!H28*10^Table!I28","v":0.00084580679},{"$f":"Table!J28*10^Table!K28","v":-3.3087089E-5},{"$f":"Table!L28*10^Table!M28","v":7.105491899999999E-6}]
[{"$f":"Table!A29","v":"E-F3"},{"$f":"Table!B29*10^Table!C29","v":2.5362697},{"$f":"Table!D29*10^Table!E29","v":-0.010610424},{"$f":"Table!F29*10^Table!G29","v":0.021233821000000003},{"$f":"Table!H29*10^Table!I29","v":0.00099012105},{"$f":"Table!J29*10^Table!K29","v":-5.9984348000000006E-5},{"$f":"Table!L29*10^Table!M29","v":8.2354365999999989E-6}]
[{"$f":"Table!A30","v":"E-F5"},{"$f":"Table!B30*10^Table!C30","v":2.5095673},{"$f":"Table!D30*10^Table!E30","v":-0.010862661000000001},{"$f":"Table!F30*10^Table!G30","v":0.019894774},{"$f":"Table!H30*10^Table!I30","v":1.0137134000000002E-3},{"$f":"Table!J30*10^Table!K30","v":-6.2697117e-05},{"$f":"Table!L30*10^Table!M30","v":7.5080045e-06}]
[{"$f":"Table!A31","v":"E-F8"},{"$f":"Table!B31*10^Table!C31","v":2.4866561},{"$f":"Table!D31*10^Table!E31","v":-0.010188484},{"$f":"Table!F31*10^Table!G31","v":0.019287417},{"$f":"Table!H31*10^Table!I31","v":0.00088553737},{"$f":"Table!J31*10^Table!K31","v":-5.0937106E-5},{"$f":"Table!L31*10^Table!M31","v":6.4256955999999994E-6}]
[{"$f":"Table!A32","v":"E-FD1"},{"$f":"Table!B32*10^Table!C32","v":2.8508499},{"$f":"Table!D32*10^Table!E32","v":-0.01323461},{"$f":"Table!F32*10^Table!G32","v":0.029415325000000003},{"$f":"Table!H32*10^Table!I32","v":0.0025542666},{"$f":"Table!J32*10^Table!K32","v":-2.1232133000000003E-4},{"$f":"Table!L32*10^Table!M32","v":2.2261936000000003E-5}]
[{"$f":"Table!A33","v":"E-FD10"},{"$f":"Table!B33*10^Table!C33","v":2.881518},{"$f":"Table!D33*10^Table!E33","v":-0.013228312},{"$f":"Table!F33*10^Table!G33","v":0.03145559},{"$f":"Table!H33*10^Table!I33","v":2.6851666000000003E-3},{"$f":"Table!J33*10^Table!K33","v":-2.2577544E-4},{"$f":"Table!L33*10^Table!M33","v":2.4693268000000002E-5}]
[{"$f":"Table!A34","v":"E-FD10L"},{"$f":"Table!B34*10^Table!C34","v":2.8819845},{"$f":"Table!D34*10^Table!E34","v":-0.013360031999999999},{"$f":"Table!F34*10^Table!G34","v":0.031090844},{"$f":"Table!H34*10^Table!I34","v":0.0028218544},{"$f":"Table!J34*10^Table!K34","v":-2.5458280000000005E-4},{"$f":"Table!L34*10^Table!M34","v":2.7374245000000003E-5}]
[{"$f":"Table!A35","v":"E-FD13"},{"$f":"Table!B35*10^Table!C35","v":2.9205906},{"$f":"Table!D35*10^Table!E35","v":-0.013681618},{"$f":"Table!F35*10^Table!G35","v":0.03256776},{"$f":"Table!H35*10^Table!I35","v":2.8725519E-3},{"$f":"Table!J35*10^Table!K35","v":-2.4277107000000002E-4},{"$f":"Table!L35*10^Table!M35","v":2.6614514e-05}]
[{"$f":"Table!A36","v":"E-FD15"},{"$f":"Table!B36*10^Table!C36","v":2.7919943},{"$f":"Table!D36*10^Table!E36","v":-0.012311206},{"$f":"Table!F36*10^Table!G36","v":0.028802741},{"$f":"Table!H36*10^Table!I36","v":0.0021430059},{"$f":"Table!J36*10^Table!K36","v":-1.6932119000000003E-4},{"$f":"Table!L36*10^Table!M36","v":1.9741766e-05}]
[{"$f":"Table!A37","v":"E-FD15L"},{"$f":"Table!B37*10^Table!C37","v":2.7924658},{"$f":"Table!D37*10^Table!E37","v":-0.012540598},{"$f":"Table!F37*10^Table!G37","v":0.028359568999999998},{"$f":"Table!H37*10^Table!I37","v":2.3368977000000003E-3},{"$f":"Table!J37*10^Table!K37","v":-2.0763765E-4},{"$f":"Table!L37*10^Table!M37","v":2.2481601000000005E-5}]
[{"$f":"Table!A38","v":"E-FD1L"},{"$f":"Table!B38*10^Table!C38","v":2.8496451},{"$f":"Table!D38*10^Table!E38","v":-0.012662471},{"$f":"Table!F38*10^Table!G38","v":0.030196873000000003},{"$f":"Table!H38*10^Table!I38","v":2.3492981999999997E-3},{"$f":"Table!J38*10^Table!K38","v":-1.9216545000000002E-4},{"$f":"Table!L38*10^Table!M38","v":2.1946899000000002E-5}]
[{"$f":"Table!A39","v":"E-FD2"},{"$f":"Table!B39*10^Table!C39","v":2.6399644},{"$f":"Table!D39*10^Table!E39","v":-0.011645718000000001},{"$f":"Table!F39*10^Table!G39","v":0.023061733},{"$f":"Table!H39*10^Table!I39","v":1.7348219E-3},{"$f":"Table!J39*10^Table!K39","v":-0.00013986059},{"$f":"Table!L39*10^Table!M39","v":1.3916670000000001E-5}]
[{"$f":"Table!A40","v":"E-FD4"},{"$f":"Table!B40*10^Table!C40","v":2.9673173},{"$f":"Table!D40*10^Table!E40","v":-0.013989564999999999},{"$f":"Table!F40*10^Table!G40","v":0.03345668},{"$f":"Table!H40*10^Table!I40","v":3.0717804000000002E-3},{"$f":"Table!J40*10^Table!K40","v":-0.00026682435},{"$f":"Table!L40*10^Table!M40","v":2.8950241000000005E-5}]
[{"$f":"Table!A41","v":"E-FD4L"},{"$f":"Table!B41*10^Table!C41","v":2.9677007},{"$f":"Table!D41*10^Table!E41","v":-0.014006378},{"$f":"Table!F41*10^Table!G41","v":0.033049583},{"$f":"Table!H41*10^Table!I41","v":3.2455044000000003E-3},{"$f":"Table!J41*10^Table!K41","v":-3.0156480000000004E-4},{"$f":"Table!L41*10^Table!M41","v":3.1689142e-05}]
[{"$f":"Table!A42","v":"E-FD5"},{"$f":"Table!B42*10^Table!C42","v":2.7135839},{"$f":"Table!D42*10^Table!E42","v":-0.011419719},{"$f":"Table!F42*10^Table!G42","v":0.026133708000000002},{"$f":"Table!H42*10^Table!I42","v":0.0017576479},{"$f":"Table!J42*10^Table!K42","v":-0.00013307737},{"$f":"Table!L42*10^Table!M42","v":1.5203351000000002E-5}]
[{"$f":"Table!A43","v":"E-FD7"},{"$f":"Table!B43*10^Table!C43","v":2.6165865},{"$f":"Table!D43*10^Table!E43","v":-0.011427854},{"$f":"Table!F43*10^Table!G43","v":0.022534361},{"$f":"Table!H43*10^Table!I43","v":1.551289E-3},{"$f":"Table!J43*10^Table!K43","v":-0.00011769852},{"$f":"Table!L43*10^Table!M43","v":1.2401891000000001E-5}]
[{"$f":"Table!A44","v":"E-FD8"},{"$f":"Table!B44*10^Table!C44","v":2.7617586},{"$f":"Table!D44*10^Table!E44","v":-0.011254039},{"$f":"Table!F44*10^Table!G44","v":0.028221737},{"$f":"Table!H44*10^Table!I44","v":1.7540315E-3},{"$f":"Table!J44*10^Table!K44","v":-1.2127053000000002E-4},{"$f":"Table!L44*10^Table!M44","v":1.5522384000000002E-5}]
[{"$f":"Table!A45","v":"E-FD80"},{"$f":"Table!B45*10^Table!C45","v":2.7659751},{"$f":"Table!D45*10^Table!E45","v":-0.01262138},{"$f":"Table!F45*10^Table!G45","v":0.027156470000000002},{"$f":"Table!H45*10^Table!I45","v":2.0389447000000002E-3},{"$f":"Table!J45*10^Table!K45","v":-1.6485416000000002E-4},{"$f":"Table!L45*10^Table!M45","v":1.9350106000000003E-5}]
[{"$f":"Table!A46","v":"E-FDS1"},{"$f":"Table!B46*10^Table!C46","v":3.5044639},{"$f":"Table!D46*10^Table!E46","v":-0.020333833000000003},{"$f":"Table!F46*10^Table!G46","v":0.0538027},{"$f":"Table!H46*10^Table!I46","v":0.006287419200000001},{"$f":"Table!J46*10^Table!K46","v":-5.6922176000000007E-4},{"$f":"Table!L46*10^Table!M46","v":7.3559387e-05}]
[{"$f":"Table!A47","v":"E-FDS1-W"},{"$f":"Table!B47*10^Table!C47","v":3.5044639},{"$f":"Table!D47*10^Table!E47","v":-0.020333833000000003},{"$f":"Table!F47*10^Table!G47","v":0.0538027},{"$f":"Table!H47*10^Table!I47","v":0.006287419200000001},{"$f":"Table!J47*10^Table!K47","v":-5.6922176000000007E-4},{"$f":"Table!L47*10^Table!M47","v":7.3559387e-05}]
[{"$f":"Table!A48","v":"E-FDS2"},{"$f":"Table!B48*10^Table!C48","v":3.7672603},{"$f":"Table!D48*10^Table!E48","v":-0.017001227},{"$f":"Table!F48*10^Table!G48","v":0.069849634},{"$f":"Table!H48*10^Table!I48","v":0.0063862892},{"$f":"Table!J48*10^Table!K48","v":-5.0812539000000007E-4},{"$f":"Table!L48*10^Table!M48","v":8.4455529e-05}]
[{"$f":"Table!A49","v":"E-FDS3"},{"$f":"Table!B49*10^Table!C49","v":4.1120387},{"$f":"Table!D49*10^Table!E49","v":-0.01822767},{"$f":"Table!F49*10^Table!G49","v":0.08985210500000002},{"$f":"Table!H49*10^Table!I49","v":0.00787144},{"$f":"Table!J49*10^Table!K49","v":-0.00052228008},{"$f":"Table!L49*10^Table!M49","v":1.1773061E-4}]
[{"$f":"Table!A50","v":"E-FEL1"},{"$f":"Table!B50*10^Table!C50","v":2.3534484},{"$f":"Table!D50*10^Table!E50","v":-0.010330437999999999},{"$f":"Table!F50*10^Table!G50","v":0.014097325},{"$f":"Table!H50*10^Table!I50","v":8.7167875000000012E-4},{"$f":"Table!J50*10^Table!K50","v":-6.998197e-05},{"$f":"Table!L50*10^Table!M50","v":5.7867358999999994E-6}]
[{"$f":"Table!A51","v":"E-FEL2"},{"$f":"Table!B51*10^Table!C51","v":2.3317983},{"$f":"Table!D51*10^Table!E51","v":-9.704219200000001E-3},{"$f":"Table!F51*10^Table!G51","v":0.014032761000000001},{"$f":"Table!H51*10^Table!I51","v":6.4822896E-4},{"$f":"Table!J51*10^Table!K51","v":-4.0813761000000006E-5},{"$f":"Table!L51*10^Table!M51","v":3.9064873e-06}]
[{"$f":"Table!A52","v":"E-FEL6"},{"$f":"Table!B52*10^Table!C52","v":2.3068946},{"$f":"Table!D52*10^Table!E52","v":-9.688875500000001E-3},{"$f":"Table!F52*10^Table!G52","v":0.01309702},{"$f":"Table!H52*10^Table!I52","v":6.501392700000001E-4},{"$f":"Table!J52*10^Table!K52","v":-4.2328222000000006E-5},{"$f":"Table!L52*10^Table!M52","v":3.5888776999999996E-6}]
[{"$f":"Table!A53","v":"E-FL5"},{"$f":"Table!B53*10^Table!C53","v":2.4465754},{"$f":"Table!D53*10^Table!E53","v":-0.010107041},{"$f":"Table!F53*10^Table!G53","v":0.017759132},{"$f":"Table!H53*10^Table!I53","v":0.00087970259},{"$f":"Table!J53*10^Table!K53","v":-5.7014929e-05},{"$f":"Table!L53*10^Table!M53","v":6.0924663e-06}]
[{"$f":"Table!A54","v":"E-FL6"},{"$f":"Table!B54*10^Table!C54","v":2.4079653},{"$f":"Table!D54*10^Table!E54","v":-0.011135638000000002},{"$f":"Table!F54*10^Table!G54","v":0.015704715},{"$f":"Table!H54*10^Table!I54","v":9.9186507000000013E-4},{"$f":"Table!J54*10^Table!K54","v":-7.9934653000000017E-5},{"$f":"Table!L54*10^Table!M54","v":7.0985473e-06}]
[{"$f":"Table!A55","v":"E-LAF7"},{"$f":"Table!B55*10^Table!C55","v":2.9704178},{"$f":"Table!D55*10^Table!E55","v":-0.013290679000000001},{"$f":"Table!F55*10^Table!G55","v":0.028359006},{"$f":"Table!H55*10^Table!I55","v":1.7661786E-3},{"$f":"Table!J55*10^Table!K55","v":-1.2453482000000001E-4},{"$f":"Table!L55*10^Table!M55","v":1.3951937000000002E-5}]
[{"$f":"Table!A56","v":"FC5"},{"$f":"Table!B56*10^Table!C56","v":2.1894054},{"$f":"Table!D56*10^Table!E56","v":-0.0099044908},{"$f":"Table!F56*10^Table!G56","v":0.008640337000000001},{"$f":"Table!H56*10^Table!I56","v":0.00022263067},{"$f":"Table!J56*10^Table!K56","v":-1.2291942000000002E-5},{"$f":"Table!L56*10^Table!M56","v":5.9386349e-07}]
[{"$f":"Table!A57","v":"FCD1"},{"$f":"Table!B57*10^Table!C57","v":2.2181132},{"$f":"Table!D57*10^Table!E57","v":-0.005799426999999999},{"$f":"Table!F57*10^Table!G57","v":0.008347067900000001},{"$f":"Table!H57*10^Table!I57","v":6.5046523000000011E-5},{"$f":"Table!J57*10^Table!K57","v":8.5142186e-06},{"$f":"Table!L57*10^Table!M57","v":-5.8852269E-7}]
[{"$f":"Table!A58","v":"FCD10"},{"$f":"Table!B58*10^Table!C58","v":2.103249},{"$f":"Table!D58*10^Table!E58","v":-0.0050247988},{"$f":"Table!F58*10^Table!G58","v":6.5323077E-3},{"$f":"Table!H58*10^Table!I58","v":0.00013078405},{"$f":"Table!J58*10^Table!K58","v":-6.3652072e-06},{"$f":"Table!L58*10^Table!M58","v":1.9254745E-7}]
[{"$f":"Table!A59","v":"FCD100"},{"$f":"Table!B59*10^Table!C59","v":2.0482157},{"$f":"Table!D59*10^Table!E59","v":-0.004321122199999999},{"$f":"Table!F59*10^Table!G59","v":0.0061826755},{"$f":"Table!H59*10^Table!I59","v":3.141148e-05},{"$f":"Table!J59*10^Table!K59","v":3.5370793e-06},{"$f":"Table!L59*10^Table!M59","v":-1.6694497e-07}]
[{"$f":"Table!A60","v":"FCD10A"},{"$f":"Table!B60*10^Table!C60","v":2.1085888},{"$f":"Table!D60*10^Table!E60","v":-0.004655372200000001},{"$f":"Table!F60*10^Table!G60","v":0.006954748},{"$f":"Table!H60*10^Table!I60","v":3.2184141e-05},{"$f":"Table!J60*10^Table!K60","v":5.2670946e-06},{"$f":"Table!L60*10^Table!M60","v":-2.7164844e-07}]
[{"$f":"Table!A61","v":"FCD1B"},{"$f":"Table!B61*10^Table!C61","v":2.2189068},{"$f":"Table!D61*10^Table!E61","v":-6.1707064999999995E-3},{"$f":"Table!F61*10^Table!G61","v":0.0080887631},{"$f":"Table!H61*10^Table!I61","v":1.3357782000000002E-4},{"$f":"Table!J61*10^Table!K61","v":1.9476185999999998E-7},{"$f":"Table!L61*10^Table!M61","v":-2.2577804e-07}]
[{"$f":"Table!A62","v":"FCD505"},{"$f":"Table!B62*10^Table!C62","v":2.502355},{"$f":"Table!D62*10^Table!E62","v":-7.2080042000000006E-3},{"$f":"Table!F62*10^Table!G62","v":0.012012743},{"$f":"Table!H62*10^Table!I62","v":3.4920842E-4},{"$f":"Table!J62*10^Table!K62","v":-2.4729676000000002E-5},{"$f":"Table!L62*10^Table!M62","v":1.3801566999999998E-6}]
[{"$f":"Table!A63","v":"FCD515"},{"$f":"Table!B63*10^Table!C63","v":2.502355},{"$f":"Table!D63*10^Table!E63","v":-7.2080042000000006E-3},{"$f":"Table!F63*10^Table!G63","v":0.012012743},{"$f":"Table!H63*10^Table!I63","v":3.4920842E-4},{"$f":"Table!J63*10^Table!K63","v":-2.4729676000000002E-5},{"$f":"Table!L63*10^Table!M63","v":1.3801566999999998E-6}]
[{"$f":"Table!A64","v":"FCD600"},{"$f":"Table!B64*10^Table!C64","v":2.5009632},{"$f":"Table!D64*10^Table!E64","v":-7.1951364000000005E-3},{"$f":"Table!F64*10^Table!G64","v":0.014064825000000001},{"$f":"Table!H64*10^Table!I64","v":2.1434104E-4},{"$f":"Table!J64*10^Table!K64","v":4.3873461e-06},{"$f":"Table!L64*10^Table!M64","v":4.8834355e-07}]
[{"$f":"Table!A65","v":"FCD705"},{"$f":"Table!B65*10^Table!C65","v":2.3742832},{"$f":"Table!D65*10^Table!E65","v":-0.0062014418},{"$f":"Table!F65*10^Table!G65","v":0.010582967},{"$f":"Table!H65*10^Table!I65","v":6.3100703e-05},{"$f":"Table!J65*10^Table!K65","v":8.1967149999999983E-6},{"$f":"Table!L65*10^Table!M65","v":-3.4424446E-7}]
[{"$f":"Table!A66","v":"FD110"},{"$f":"Table!B66*10^Table!C66","v":3.0534415},{"$f":"Table!D66*10^Table!E66","v":-0.012751809999999999},{"$f":"Table!F66*10^Table!G66","v":0.040609369},{"$f":"Table!H66*10^Table!I66","v":2.2706109E-3},{"$f":"Table!J66*10^Table!K66","v":-7.8086606e-05},{"$f":"Table!L66*10^Table!M66","v":1.9874026e-05}]
[{"$f":"Table!A67","v":"FD140"},{"$f":"Table!B67*10^Table!C67","v":2.9851294},{"$f":"Table!D67*10^Table!E67","v":-0.014237988},{"$f":"Table!F67*10^Table!G67","v":0.035496437},{"$f":"Table!H67*10^Table!I67","v":2.8457557000000004E-3},{"$f":"Table!J67*10^Table!K67","v":-0.00019006799},{"$f":"Table!L67*10^Table!M67","v":2.4309252E-5}]
[{"$f":"Table!A68","v":"FD225"},{"$f":"Table!B68*10^Table!C68","v":3.1189869},{"$f":"Table!D68*10^Table!E68","v":-0.015820772},{"$f":"Table!F68*10^Table!G68","v":0.04442502400000001},{"$f":"Table!H68*10^Table!I68","v":0.0035834882},{"$f":"Table!J68*10^Table!K68","v":-2.3943449000000003E-4},{"$f":"Table!L68*10^Table!M68","v":3.8756542e-05}]
[{"$f":"Table!A69","v":"FD60"},{"$f":"Table!B69*10^Table!C69","v":3.1171483},{"$f":"Table!D69*10^Table!E69","v":-0.011616277},{"$f":"Table!F69*10^Table!G69","v":0.044864974999999994},{"$f":"Table!H69*10^Table!I69","v":1.6588491E-3},{"$f":"Table!J69*10^Table!K69","v":2.5716854e-05},{"$f":"Table!L69*10^Table!M69","v":1.4757657E-5}]
[{"$f":"Table!A70","v":"FD60-W"},{"$f":"Table!B70*10^Table!C70","v":3.1171483},{"$f":"Table!D70*10^Table!E70","v":-0.011616277},{"$f":"Table!F70*10^Table!G70","v":0.044864974999999994},{"$f":"Table!H70*10^Table!I70","v":1.6588491E-3},{"$f":"Table!J70*10^Table!K70","v":2.5716854e-05},{"$f":"Table!L70*10^Table!M70","v":1.4757657E-5}]
[{"$f":"Table!A71","v":"FDS16-W"},{"$f":"Table!B71*10^Table!C71","v":3.6906098},{"$f":"Table!D71*10^Table!E71","v":-0.027849024},{"$f":"Table!F71*10^Table!G71","v":0.063139051},{"$f":"Table!H71*10^Table!I71","v":0.012443698000000001},{"$f":"Table!J71*10^Table!K71","v":-1.4774084999999999E-3},{"$f":"Table!L71*10^Table!M71","v":1.7478701000000002E-4}]
[{"$f":"Table!A72","v":"FDS18"},{"$f":"Table!B72*10^Table!C72","v":3.563784},{"$f":"Table!D72*10^Table!E72","v":-0.025449644},{"$f":"Table!F72*10^Table!G72","v":0.058401658999999995},{"$f":"Table!H72*10^Table!I72","v":0.009231098299999999},{"$f":"Table!J72*10^Table!K72","v":-0.00095499727},{"$f":"Table!L72*10^Table!M72","v":1.1777456E-4}]
[{"$f":"Table!A73","v":"FDS18-W"},{"$f":"Table!B73*10^Table!C73","v":3.563784},{"$f":"Table!D73*10^Table!E73","v":-0.025449644},{"$f":"Table!F73*10^Table!G73","v":0.058401658999999995},{"$f":"Table!H73*10^Table!I73","v":0.009231098299999999},{"$f":"Table!J73*10^Table!K73","v":-0.00095499727},{"$f":"Table!L73*10^Table!M73","v":1.1777456E-4}]
[{"$f":"Table!A74","v":"FDS20-W "},{"$f":"Table!B74*10^Table!C74","v":3.3114745},{"$f":"Table!D74*10^Table!E74","v":-0.019402447},{"$f":"Table!F74*10^Table!G74","v":0.05162182900000001},{"$f":"Table!H74*10^Table!I74","v":0.005855602400000001},{"$f":"Table!J74*10^Table!K74","v":-0.00053287332},{"$f":"Table!L74*10^Table!M74","v":7.3197844e-05}]
[{"$f":"Table!A75","v":"FDS24"},{"$f":"Table!B75*10^Table!C75","v":3.5126327},{"$f":"Table!D75*10^Table!E75","v":-0.015301499999999999},{"$f":"Table!F75*10^Table!G75","v":0.05393606100000001},{"$f":"Table!H75*10^Table!I75","v":3.4949369E-3},{"$f":"Table!J75*10^Table!K75","v":-1.7950295E-4},{"$f":"Table!L75*10^Table!M75","v":3.4403181000000004E-5}]
[{"$f":"Table!A76","v":"FDS24-W"},{"$f":"Table!B76*10^Table!C76","v":3.5126327},{"$f":"Table!D76*10^Table!E76","v":-0.015301499999999999},{"$f":"Table!F76*10^Table!G76","v":0.05393606100000001},{"$f":"Table!H76*10^Table!I76","v":3.4949369E-3},{"$f":"Table!J76*10^Table!K76","v":-1.7950295E-4},{"$f":"Table!L76*10^Table!M76","v":3.4403181000000004E-5}]
[{"$f":"Table!A77","v":"FDS90"},{"$f":"Table!B77*10^Table!C77","v":3.2606321},{"$f":"Table!D77*10^Table!E77","v":-0.017780398},{"$f":"Table!F77*10^Table!G77","v":0.04090293800000001},{"$f":"Table!H77*10^Table!I77","v":0.0056076934},{"$f":"Table!J77*10^Table!K77","v":-0.00056434039},{"$f":"Table!L77*10^Table!M77","v":5.4763391E-5}]
[{"$f":"Table!A78","v":"FDS90(P)"},{"$f":"Table!B78*10^Table!C78","v":3.2565619},{"$f":"Table!D78*10^Table!E78","v":-0.015803965},{"$f":"Table!F78*10^Table!G78","v":0.044330322000000005},{"$f":"Table!H78*10^Table!I78","v":0.0043620098},{"$f":"Table!J78*10^Table!K78","v":-3.6912261000000005E-4},{"$f":"Table!L78*10^Table!M78","v":4.2999682000000005E-5}]
[{"$f":"Table!A79","v":"FDS90-SG"},{"$f":"Table!B79*10^Table!C79","v":3.2606321},{"$f":"Table!D79*10^Table!E79","v":-0.017780398},{"$f":"Table!F79*10^Table!G79","v":0.04090293800000001},{"$f":"Table!H79*10^Table!I79","v":0.0056076934},{"$f":"Table!J79*10^Table!K79","v":-0.00056434039},{"$f":"Table!L79*10^Table!M79","v":5.4763391E-5}]
[{"$f":"Table!A80","v":"FF5"},{"$f":"Table!B80*10^Table!C80","v":2.4743324},{"$f":"Table!D80*10^Table!E80","v":-0.010955337999999998},{"$f":"Table!F80*10^Table!G80","v":0.019293801},{"$f":"Table!H80*10^Table!I80","v":1.4497732000000002E-3},{"$f":"Table!J80*10^Table!K80","v":-1.1038744E-4},{"$f":"Table!L80*10^Table!M80","v":1.1136008E-5}]
[{"$f":"Table!A81","v":"FF8"},{"$f":"Table!B81*10^Table!C81","v":2.9564361},{"$f":"Table!D81*10^Table!E81","v":-0.019762195},{"$f":"Table!F81*10^Table!G81","v":0.029878823},{"$f":"Table!H81*10^Table!I81","v":0.0051830852},{"$f":"Table!J81*10^Table!K81","v":-0.00054202389},{"$f":"Table!L81*10^Table!M81","v":4.8463245000000004E-5}]
[{"$f":"Table!A82","v":"LAC10"},{"$f":"Table!B82*10^Table!C82","v":2.8951998},{"$f":"Table!D82*10^Table!E82","v":-0.011701218},{"$f":"Table!F82*10^Table!G82","v":0.022126484999999998},{"$f":"Table!H82*10^Table!I82","v":0.00038494791},{"$f":"Table!J82*10^Table!K82","v":-7.9808302e-06},{"$f":"Table!L82*10^Table!M82","v":1.5035115999999998E-6}]
[{"$f":"Table!A83","v":"LAC12"},{"$f":"Table!B83*10^Table!C83","v":2.7634844},{"$f":"Table!D83*10^Table!E83","v":-0.011068339},{"$f":"Table!F83*10^Table!G83","v":0.018246442},{"$f":"Table!H83*10^Table!I83","v":3.7697356000000005E-4},{"$f":"Table!J83*10^Table!K83","v":-1.7788655e-05},{"$f":"Table!L83*10^Table!M83","v":1.5314262E-6}]
[{"$f":"Table!A84","v":"LAC13"},{"$f":"Table!B84*10^Table!C84","v":2.8125316},{"$f":"Table!D84*10^Table!E84","v":-0.012915270999999999},{"$f":"Table!F84*10^Table!G84","v":0.019960339},{"$f":"Table!H84*10^Table!I84","v":0.00019877888},{"$f":"Table!J84*10^Table!K84","v":1.7647061000000003E-5},{"$f":"Table!L84*10^Table!M84","v":-4.4767631999999993E-7}]
[{"$f":"Table!A85","v":"LAC14"},{"$f":"Table!B85*10^Table!C85","v":2.8255229},{"$f":"Table!D85*10^Table!E85","v":-0.013632902},{"$f":"Table!F85*10^Table!G85","v":0.019791402},{"$f":"Table!H85*10^Table!I85","v":1.5032564e-05},{"$f":"Table!J85*10^Table!K85","v":4.0761368e-05},{"$f":"Table!L85*10^Table!M85","v":-1.7527266999999998E-6}]
[{"$f":"Table!A86","v":"LAC7"},{"$f":"Table!B86*10^Table!C86","v":2.6876223},{"$f":"Table!D86*10^Table!E86","v":-0.014375187000000001},{"$f":"Table!F86*10^Table!G86","v":0.012545954},{"$f":"Table!H86*10^Table!I86","v":1.4642295E-3},{"$f":"Table!J86*10^Table!K86","v":-0.00016982461},{"$f":"Table!L86*10^Table!M86","v":8.8048639000000009E-6}]
[{"$f":"Table!A87","v":"LAC8"},{"$f":"Table!B87*10^Table!C87","v":2.8778537},{"$f":"Table!D87*10^Table!E87","v":-0.013832906},{"$f":"Table!F87*10^Table!G87","v":0.020301185},{"$f":"Table!H87*10^Table!I87","v":2.7759871000000003E-4},{"$f":"Table!J87*10^Table!K87","v":5.905983E-6},{"$f":"Table!L87*10^Table!M87","v":1.7747646999999998E-7}]
[{"$f":"Table!A88","v":"LAC9"},{"$f":"Table!B88*10^Table!C88","v":2.8081523},{"$f":"Table!D88*10^Table!E88","v":-0.014167885},{"$f":"Table!F88*10^Table!G88","v":0.017693707},{"$f":"Table!H88*10^Table!I88","v":7.6788759000000011E-4},{"$f":"Table!J88*10^Table!K88","v":-7.488617400000001E-5},{"$f":"Table!L88*10^Table!M88","v":4.7044756E-6}]
[{"$f":"Table!A89","v":"LACL60"},{"$f":"Table!B89*10^Table!C89","v":2.6490884},{"$f":"Table!D89*10^Table!E89","v":-0.014159869},{"$f":"Table!F89*10^Table!G89","v":0.014451135},{"$f":"Table!H89*10^Table!I89","v":5.2707873000000006E-4},{"$f":"Table!J89*10^Table!K89","v":-4.3447523e-05},{"$f":"Table!L89*10^Table!M89","v":2.4612970999999997E-6}]
[{"$f":"Table!A90","v":"LAF2"},{"$f":"Table!B90*10^Table!C90","v":2.9657374},{"$f":"Table!D90*10^Table!E90","v":-0.0096571624},{"$f":"Table!F90*10^Table!G90","v":0.026024525},{"$f":"Table!H90*10^Table!I90","v":3.6684641000000003E-4},{"$f":"Table!J90*10^Table!K90","v":2.8205551000000002E-5},{"$f":"Table!L90*10^Table!M90","v":-1.3739929e-07}]
[{"$f":"Table!A91","v":"LAF3"},{"$f":"Table!B91*10^Table!C91","v":2.8789799},{"$f":"Table!D91*10^Table!E91","v":-0.008729236999999999},{"$f":"Table!F91*10^Table!G91","v":0.024425656},{"$f":"Table!H91*10^Table!I91","v":4.5491773e-05},{"$f":"Table!J91*10^Table!K91","v":4.2802928E-5},{"$f":"Table!L91*10^Table!M91","v":-7.2834306e-07}]
[{"$f":"Table!A92","v":"LBC3N"},{"$f":"Table!B92*10^Table!C92","v":2.5388484},{"$f":"Table!D92*10^Table!E92","v":-6.6855865E-3},{"$f":"Table!F92*10^Table!G92","v":0.015111456},{"$f":"Table!H92*10^Table!I92","v":-1.5247241E-4},{"$f":"Table!J92*10^Table!K92","v":4.8340116000000005E-5},{"$f":"Table!L92*10^Table!M92","v":-2.4061785000000003E-6}]
[{"$f":"Table!A93","v":"M-BACD12"},{"$f":"Table!B93*10^Table!C93","v":2.468781},{"$f":"Table!D93*10^Table!E93","v":-0.01062639},{"$f":"Table!F93*10^Table!G93","v":0.013251839999999999},{"$f":"Table!H93*10^Table!I93","v":0.0004048612},{"$f":"Table!J93*10^Table!K93","v":-2.9747990000000003E-5},{"$f":"Table!L93*10^Table!M93","v":1.825884e-06}]
[{"$f":"Table!A94","v":"M-BACD15"},{"$f":"Table!B94*10^Table!C94","v":2.590919},{"$f":"Table!D94*10^Table!E94","v":-0.01259476},{"$f":"Table!F94*10^Table!G94","v":0.01520205},{"$f":"Table!H94*10^Table!I94","v":2.99998E-4},{"$f":"Table!J94*10^Table!K94","v":-1.1315470000000002E-5},{"$f":"Table!L94*10^Table!M94","v":9.15464e-07}]
[{"$f":"Table!A95","v":"M-BACD5N"},{"$f":"Table!B95*10^Table!C95","v":2.48951},{"$f":"Table!D95*10^Table!E95","v":-0.012244960000000001},{"$f":"Table!F95*10^Table!G95","v":0.01294262},{"$f":"Table!H95*10^Table!I95","v":3.490449E-4},{"$f":"Table!J95*10^Table!K95","v":-1.777228e-05},{"$f":"Table!L95*10^Table!M95","v":9.1137189999999989E-7}]
[{"$f":"Table!A96","v":"MC-BACD12"},{"$f":"Table!B96*10^Table!C96","v":2.468781},{"$f":"Table!D96*10^Table!E96","v":-0.01062639},{"$f":"Table!F96*10^Table!G96","v":0.013251839999999999},{"$f":"Table!H96*10^Table!I96","v":0.0004048612},{"$f":"Table!J96*10^Table!K96","v":-2.9747990000000003E-5},{"$f":"Table!L96*10^Table!M96","v":1.825884e-06}]
[{"$f":"Table!A97","v":"MC-BACD5N"},{"$f":"Table!B97*10^Table!C97","v":2.48951},{"$f":"Table!D97*10^Table!E97","v":-0.012244960000000001},{"$f":"Table!F97*10^Table!G97","v":0.01294262},{"$f":"Table!H97*10^Table!I97","v":3.490449E-4},{"$f":"Table!J97*10^Table!K97","v":-1.777228e-05},{"$f":"Table!L97*10^Table!M97","v":9.1137189999999989E-7}]
[{"$f":"Table!A98","v":"MC-FCD1-M20"},{"$f":"Table!B98*10^Table!C98","v":2.2209418},{"$f":"Table!D98*10^Table!E98","v":-0.007483037200000001},{"$f":"Table!F98*10^Table!G98","v":0.0062463392},{"$f":"Table!H98*10^Table!I98","v":0.00071157759},{"$f":"Table!J98*10^Table!K98","v":-8.2274254000000007E-5},{"$f":"Table!L98*10^Table!M98","v":4.0430545999999991E-6}]
[{"$f":"Table!A99","v":"MC-FCD500-20"},{"$f":"Table!B99*10^Table!C99","v":2.3850427},{"$f":"Table!D99*10^Table!E99","v":-0.007914269},{"$f":"Table!F99*10^Table!G99","v":0.009488685200000001},{"$f":"Table!H99*10^Table!I99","v":5.7980093000000008E-4},{"$f":"Table!J99*10^Table!K99","v":-6.0011677000000004E-5},{"$f":"Table!L99*10^Table!M99","v":3.0355421999999998E-6}]
[{"$f":"Table!A100","v":"MC-FD80"},{"$f":"Table!B100*10^Table!C100","v":2.761638},{"$f":"Table!D100*10^Table!E100","v":-0.01132633},{"$f":"Table!F100*10^Table!G100","v":0.028653460000000002},{"$f":"Table!H100*10^Table!I100","v":0.001529038},{"$f":"Table!J100*10^Table!K100","v":-8.743577e-05},{"$f":"Table!L100*10^Table!M100","v":1.4965790000000003E-5}]
[{"$f":"Table!A101","v":"MC-FDS2"},{"$f":"Table!B101*10^Table!C101","v":3.771581},{"$f":"Table!D101*10^Table!E101","v":-0.020445364},{"$f":"Table!F101*10^Table!G101","v":0.063942579},{"$f":"Table!H101*10^Table!I101","v":0.008354547},{"$f":"Table!J101*10^Table!K101","v":-0.00082031984},{"$f":"Table!L101*10^Table!M101","v":1.0279507000000001E-4}]
[{"$f":"Table!A102","v":"MC-FDS910-50"},{"$f":"Table!B102*10^Table!C102","v":3.1667902},{"$f":"Table!D102*10^Table!E102","v":-0.013141416},{"$f":"Table!F102*10^Table!G102","v":0.047178656},{"$f":"Table!H102*10^Table!I102","v":2.2684284E-3},{"$f":"Table!J102*10^Table!K102","v":-5.3672387e-05},{"$f":"Table!L102*10^Table!M102","v":2.5328422000000003E-5}]
[{"$f":"Table!A103","v":"MC-LAC130"},{"$f":"Table!B103*10^Table!C103","v":2.813412},{"$f":"Table!D103*10^Table!E103","v":-0.013324480000000001},{"$f":"Table!F103*10^Table!G103","v":0.01927865},{"$f":"Table!H103*10^Table!I103","v":0.0004124452},{"$f":"Table!J103*10^Table!K103","v":-9.940432e-06},{"$f":"Table!L103*10^Table!M103","v":9.6220239999999989E-7}]
[{"$f":"Table!A104","v":"MC-NBF1"},{"$f":"Table!B104*10^Table!C104","v":2.975245},{"$f":"Table!D104*10^Table!E104","v":-0.014250160000000001},{"$f":"Table!F104*10^Table!G104","v":0.021400739999999998},{"$f":"Table!H104*10^Table!I104","v":9.7553370000000013E-4},{"$f":"Table!J104*10^Table!K104","v":-6.97953e-05},{"$f":"Table!L104*10^Table!M104","v":4.114924E-6}]
[{"$f":"Table!A105","v":"MC-NBFD130"},{"$f":"Table!B105*10^Table!C105","v":3.173794},{"$f":"Table!D105*10^Table!E105","v":-0.014986580000000001},{"$f":"Table!F105*10^Table!G105","v":0.02906741},{"$f":"Table!H105*10^Table!I105","v":0.001204829},{"$f":"Table!J105*10^Table!K105","v":-5.3551580000000009E-5},{"$f":"Table!L105*10^Table!M105","v":5.27135e-06}]
[{"$f":"Table!A106","v":"MC-NBFD135"},{"$f":"Table!B106*10^Table!C106","v":3.1819698},{"$f":"Table!D106*10^Table!E106","v":-0.014926522},{"$f":"Table!F106*10^Table!G106","v":0.028987649000000004},{"$f":"Table!H106*10^Table!I106","v":0.0012223654},{"$f":"Table!J106*10^Table!K106","v":-5.2916688e-05},{"$f":"Table!L106*10^Table!M106","v":4.7807226999999996E-6}]
[{"$f":"Table!A107","v":"MC-PCD4-40"},{"$f":"Table!B107*10^Table!C107","v":2.5831471},{"$f":"Table!D107*10^Table!E107","v":-0.0097502344},{"$f":"Table!F107*10^Table!G107","v":0.013615374},{"$f":"Table!H107*10^Table!I107","v":0.00036346122},{"$f":"Table!J107*10^Table!K107","v":-2.1187082E-5},{"$f":"Table!L107*10^Table!M107","v":1.1536131999999999E-6}]
[{"$f":"Table!A108","v":"MC-PCD51-70"},{"$f":"Table!B108*10^Table!C108","v":2.5025436},{"$f":"Table!D108*10^Table!E108","v":-0.010321437000000001},{"$f":"Table!F108*10^Table!G108","v":0.012433636},{"$f":"Table!H108*10^Table!I108","v":2.1866534999999998E-4},{"$f":"Table!J108*10^Table!K108","v":-5.5793977E-6},{"$f":"Table!L108*10^Table!M108","v":3.0188382999999997E-7}]
[{"$f":"Table!A109","v":"MC-TAF1"},{"$f":"Table!B109*10^Table!C109","v":3.070806},{"$f":"Table!D109*10^Table!E109","v":-0.012276924},{"$f":"Table!F109*10^Table!G109","v":0.02456566},{"$f":"Table!H109*10^Table!I109","v":4.7436648000000008E-4},{"$f":"Table!J109*10^Table!K109","v":5.432616e-07},{"$f":"Table!L109*10^Table!M109","v":6.5976660999999992E-7}]
[{"$f":"Table!A110","v":"MC-TAF101-100"},{"$f":"Table!B110*10^Table!C110","v":3.0591566},{"$f":"Table!D110*10^Table!E110","v":-0.013604717},{"$f":"Table!F110*10^Table!G110","v":0.024624272000000003},{"$f":"Table!H110*10^Table!I110","v":4.1834242000000004E-4},{"$f":"Table!J110*10^Table!K110","v":2.5361908E-6},{"$f":"Table!L110*10^Table!M110","v":7.9980819999999994E-7}]
[{"$f":"Table!A111","v":"MC-TAF105"},{"$f":"Table!B111*10^Table!C111","v":3.0705638},{"$f":"Table!D111*10^Table!E111","v":-0.013310234},{"$f":"Table!F111*10^Table!G111","v":0.025280355},{"$f":"Table!H111*10^Table!I111","v":2.1829234E-4},{"$f":"Table!J111*10^Table!K111","v":3.2555293000000004E-5},{"$f":"Table!L111*10^Table!M111","v":-8.1300421e-07}]
[{"$f":"Table!A112","v":"MC-TAF31-15"},{"$f":"Table!B112*10^Table!C112","v":3.164475},{"$f":"Table!D112*10^Table!E112","v":-0.013801295},{"$f":"Table!F112*10^Table!G112","v":0.027926276},{"$f":"Table!H112*10^Table!I112","v":5.7403000000000011E-4},{"$f":"Table!J112*10^Table!K112","v":9.8223773e-07},{"$f":"Table!L112*10^Table!M112","v":1.3284244e-06}]
[{"$f":"Table!A113","v":"MC-TAF401"},{"$f":"Table!B113*10^Table!C113","v":3.07279},{"$f":"Table!D113*10^Table!E113","v":-0.01366385},{"$f":"Table!F113*10^Table!G113","v":0.02527346},{"$f":"Table!H113*10^Table!I113","v":0.000612182},{"$f":"Table!J113*10^Table!K113","v":-1.1470450000000001E-5},{"$f":"Table!L113*10^Table!M113","v":1.5429999999999999E-6}]
[{"$f":"Table!A114","v":"MC-TAFD305"},{"$f":"Table!B114*10^Table!C114","v":3.327184},{"$f":"Table!D114*10^Table!E114","v":-0.01343242},{"$f":"Table!F114*10^Table!G114","v":0.033398},{"$f":"Table!H114*10^Table!I114","v":0.001006047},{"$f":"Table!J114*10^Table!K114","v":-2.136908E-5},{"$f":"Table!L114*10^Table!M114","v":3.972561e-06}]
[{"$f":"Table!A115","v":"MC-TAFD307"},{"$f":"Table!B115*10^Table!C115","v":3.4286062},{"$f":"Table!D115*10^Table!E115","v":-0.013845333},{"$f":"Table!F115*10^Table!G115","v":0.037363008999999996},{"$f":"Table!H115*10^Table!I115","v":1.1894554E-3},{"$f":"Table!J115*10^Table!K115","v":-1.5979979000000002E-5},{"$f":"Table!L115*10^Table!M115","v":5.1827398e-06}]
[{"$f":"Table!A116","v":"MC-TAFD51-50"},{"$f":"Table!B116*10^Table!C116","v":3.2288052},{"$f":"Table!D116*10^Table!E116","v":-0.014433046000000001},{"$f":"Table!F116*10^Table!G116","v":0.029863488},{"$f":"Table!H116*10^Table!I116","v":0.00082119282},{"$f":"Table!J116*10^Table!K116","v":-1.0943492e-05},{"$f":"Table!L116*10^Table!M116","v":2.5804939E-6}]
[{"$f":"Table!A117","v":"M-FCD1"},{"$f":"Table!B117*10^Table!C117","v":2.2189068},{"$f":"Table!D117*10^Table!E117","v":-6.1707064999999995E-3},{"$f":"Table!F117*10^Table!G117","v":0.0080887631},{"$f":"Table!H117*10^Table!I117","v":1.3357782000000002E-4},{"$f":"Table!J117*10^Table!K117","v":1.9476185999999998E-7},{"$f":"Table!L117*10^Table!M117","v":-2.2577804e-07}]
[{"$f":"Table!A118","v":"M-FCD500"},{"$f":"Table!B118*10^Table!C118","v":2.3841554},{"$f":"Table!D118*10^Table!E118","v":-0.0078084423},{"$f":"Table!F118*10^Table!G118","v":0.0097130883},{"$f":"Table!H118*10^Table!I118","v":4.995988900000001E-4},{"$f":"Table!J118*10^Table!K118","v":-4.7303224000000011E-5},{"$f":"Table!L118*10^Table!M118","v":2.3205441e-06}]
[{"$f":"Table!A119","v":"M-FD80"},{"$f":"Table!B119*10^Table!C119","v":2.761638},{"$f":"Table!D119*10^Table!E119","v":-0.01132633},{"$f":"Table!F119*10^Table!G119","v":0.028653460000000002},{"$f":"Table!H119*10^Table!I119","v":0.001529038},{"$f":"Table!J119*10^Table!K119","v":-8.743577e-05},{"$f":"Table!L119*10^Table!M119","v":1.4965790000000003E-5}]
[{"$f":"Table!A120","v":"M-FDS1"},{"$f":"Table!B120*10^Table!C120","v":3.4984224},{"$f":"Table!D120*10^Table!E120","v":-0.01689542},{"$f":"Table!F120*10^Table!G120","v":0.057567078},{"$f":"Table!H120*10^Table!I120","v":0.0051693668},{"$f":"Table!J120*10^Table!K120","v":-0.0003996631},{"$f":"Table!L120*10^Table!M120","v":6.2368582e-05}]
[{"$f":"Table!A121","v":"M-FDS2"},{"$f":"Table!B121*10^Table!C121","v":3.771581},{"$f":"Table!D121*10^Table!E121","v":-0.020445364},{"$f":"Table!F121*10^Table!G121","v":0.063942579},{"$f":"Table!H121*10^Table!I121","v":0.008354547},{"$f":"Table!J121*10^Table!K121","v":-0.00082031984},{"$f":"Table!L121*10^Table!M121","v":1.0279507000000001E-4}]
[{"$f":"Table!A122","v":"M-FDS910"},{"$f":"Table!B122*10^Table!C122","v":3.165987},{"$f":"Table!D122*10^Table!E122","v":-0.01349196},{"$f":"Table!F122*10^Table!G122","v":0.04649918000000001},{"$f":"Table!H122*10^Table!I122","v":2.471413E-3},{"$f":"Table!J122*10^Table!K122","v":-8.659596e-05},{"$f":"Table!L122*10^Table!M122","v":2.7259270000000003E-5}]
[{"$f":"Table!A123","v":"M-LAC130"},{"$f":"Table!B123*10^Table!C123","v":2.813412},{"$f":"Table!D123*10^Table!E123","v":-0.013324480000000001},{"$f":"Table!F123*10^Table!G123","v":0.01927865},{"$f":"Table!H123*10^Table!I123","v":0.0004124452},{"$f":"Table!J123*10^Table!K123","v":-9.940432e-06},{"$f":"Table!L123*10^Table!M123","v":9.6220239999999989E-7}]
[{"$f":"Table!A124","v":"M-LAC14"},{"$f":"Table!B124*10^Table!C124","v":2.8278386},{"$f":"Table!D124*10^Table!E124","v":-0.014773939},{"$f":"Table!F124*10^Table!G124","v":0.018211733},{"$f":"Table!H124*10^Table!I124","v":0.00049311964},{"$f":"Table!J124*10^Table!K124","v":-2.5486886000000003E-5},{"$f":"Table!L124*10^Table!M124","v":1.6795487E-6}]
[{"$f":"Table!A125","v":"M-LAC8"},{"$f":"Table!B125*10^Table!C125","v":2.8817481},{"$f":"Table!D125*10^Table!E125","v":-0.015730804},{"$f":"Table!F125*10^Table!G125","v":0.017690493},{"$f":"Table!H125*10^Table!I125","v":1.052669E-3},{"$f":"Table!J125*10^Table!K125","v":-9.909308E-5},{"$f":"Table!L125*10^Table!M125","v":5.5248378e-06}]
[{"$f":"Table!A126","v":"M-LAF81"},{"$f":"Table!B126*10^Table!C126","v":2.9167886},{"$f":"Table!D126*10^Table!E126","v":-0.012398199},{"$f":"Table!F126*10^Table!G126","v":0.026675236999999997},{"$f":"Table!H126*10^Table!I126","v":6.519050400000001E-4},{"$f":"Table!J126*10^Table!K126","v":4.6956175e-06},{"$f":"Table!L126*10^Table!M126","v":2.6910539999999995E-6}]
[{"$f":"Table!A127","v":"M-NBF1"},{"$f":"Table!B127*10^Table!C127","v":2.975245},{"$f":"Table!D127*10^Table!E127","v":-0.014250160000000001},{"$f":"Table!F127*10^Table!G127","v":0.021400739999999998},{"$f":"Table!H127*10^Table!I127","v":9.7553370000000013E-4},{"$f":"Table!J127*10^Table!K127","v":-6.97953e-05},{"$f":"Table!L127*10^Table!M127","v":4.114924E-6}]
[{"$f":"Table!A128","v":"M-NBFD10"},{"$f":"Table!B128*10^Table!C128","v":3.264623},{"$f":"Table!D128*10^Table!E128","v":-0.01581977},{"$f":"Table!F128*10^Table!G128","v":0.03225894},{"$f":"Table!H128*10^Table!I128","v":0.001709312},{"$f":"Table!J128*10^Table!K128","v":-1.0819570000000001E-4},{"$f":"Table!L128*10^Table!M128","v":1.058323e-05}]
[{"$f":"Table!A129","v":"M-NBFD130"},{"$f":"Table!B129*10^Table!C129","v":3.173794},{"$f":"Table!D129*10^Table!E129","v":-0.014986580000000001},{"$f":"Table!F129*10^Table!G129","v":0.02906741},{"$f":"Table!H129*10^Table!I129","v":0.001204829},{"$f":"Table!J129*10^Table!K129","v":-5.3551580000000009E-5},{"$f":"Table!L129*10^Table!M129","v":5.27135e-06}]
[{"$f":"Table!A130","v":"MP-BACD12"},{"$f":"Table!B130*10^Table!C130","v":2.468781},{"$f":"Table!D130*10^Table!E130","v":-0.01062639},{"$f":"Table!F130*10^Table!G130","v":0.013251839999999999},{"$f":"Table!H130*10^Table!I130","v":0.0004048612},{"$f":"Table!J130*10^Table!K130","v":-2.9747990000000003E-5},{"$f":"Table!L130*10^Table!M130","v":1.825884e-06}]
[{"$f":"Table!A131","v":"MP-BACD15"},{"$f":"Table!B131*10^Table!C131","v":2.590919},{"$f":"Table!D131*10^Table!E131","v":-0.01259476},{"$f":"Table!F131*10^Table!G131","v":0.01520205},{"$f":"Table!H131*10^Table!I131","v":2.99998E-4},{"$f":"Table!J131*10^Table!K131","v":-1.1315470000000002E-5},{"$f":"Table!L131*10^Table!M131","v":9.15464e-07}]
[{"$f":"Table!A132","v":"MP-BACD5N"},{"$f":"Table!B132*10^Table!C132","v":2.48951},{"$f":"Table!D132*10^Table!E132","v":-0.012244960000000001},{"$f":"Table!F132*10^Table!G132","v":0.01294262},{"$f":"Table!H132*10^Table!I132","v":3.490449E-4},{"$f":"Table!J132*10^Table!K132","v":-1.777228e-05},{"$f":"Table!L132*10^Table!M132","v":9.1137189999999989E-7}]
[{"$f":"Table!A133","v":"M-PCD4"},{"$f":"Table!B133*10^Table!C133","v":2.582335},{"$f":"Table!D133*10^Table!E133","v":-0.009952039},{"$f":"Table!F133*10^Table!G133","v":0.01329184},{"$f":"Table!H133*10^Table!I133","v":0.0004550621},{"$f":"Table!J133*10^Table!K133","v":-3.327132e-05},{"$f":"Table!L133*10^Table!M133","v":1.730172E-6}]
[{"$f":"Table!A134","v":"M-PCD51"},{"$f":"Table!B134*10^Table!C134","v":2.502026},{"$f":"Table!D134*10^Table!E134","v":-0.011082920000000001},{"$f":"Table!F134*10^Table!G134","v":0.011277200000000001},{"$f":"Table!H134*10^Table!I134","v":0.0005715408},{"$f":"Table!J134*10^Table!K134","v":-5.5874550000000005E-5},{"$f":"Table!L134*10^Table!M134","v":2.905292e-06}]
[{"$f":"Table!A135","v":"M-PCD55AR"},{"$f":"Table!B135*10^Table!C135","v":2.6366261},{"$f":"Table!D135*10^Table!E135","v":-0.009264580199999999},{"$f":"Table!F135*10^Table!G135","v":0.016956609},{"$f":"Table!H135*10^Table!I135","v":2.6444551E-4},{"$f":"Table!J135*10^Table!K135","v":6.1366528e-06},{"$f":"Table!L135*10^Table!M135","v":3.4208341e-07}]
[{"$f":"Table!A136","v":"MP-FCD1-M20"},{"$f":"Table!B136*10^Table!C136","v":2.2209418},{"$f":"Table!D136*10^Table!E136","v":-0.007483037200000001},{"$f":"Table!F136*10^Table!G136","v":0.0062463392},{"$f":"Table!H136*10^Table!I136","v":0.00071157759},{"$f":"Table!J136*10^Table!K136","v":-8.2274254000000007E-5},{"$f":"Table!L136*10^Table!M136","v":4.0430545999999991E-6}]
[{"$f":"Table!A137","v":"MP-FCD500-20"},{"$f":"Table!B137*10^Table!C137","v":2.3850427},{"$f":"Table!D137*10^Table!E137","v":-0.007914269},{"$f":"Table!F137*10^Table!G137","v":0.009488685200000001},{"$f":"Table!H137*10^Table!I137","v":5.7980093000000008E-4},{"$f":"Table!J137*10^Table!K137","v":-6.0011677000000004E-5},{"$f":"Table!L137*10^Table!M137","v":3.0355421999999998E-6}]
[{"$f":"Table!A138","v":"MP-FD80"},{"$f":"Table!B138*10^Table!C138","v":2.761638},{"$f":"Table!D138*10^Table!E138","v":-0.01132633},{"$f":"Table!F138*10^Table!G138","v":0.028653460000000002},{"$f":"Table!H138*10^Table!I138","v":0.001529038},{"$f":"Table!J138*10^Table!K138","v":-8.743577e-05},{"$f":"Table!L138*10^Table!M138","v":1.4965790000000003E-5}]
[{"$f":"Table!A139","v":"MP-FDS1"},{"$f":"Table!B139*10^Table!C139","v":3.4984224},{"$f":"Table!D139*10^Table!E139","v":-0.01689542},{"$f":"Table!F139*10^Table!G139","v":0.057567078},{"$f":"Table!H139*10^Table!I139","v":0.0051693668},{"$f":"Table!J139*10^Table!K139","v":-0.0003996631},{"$f":"Table!L139*10^Table!M139","v":6.2368582e-05}]
[{"$f":"Table!A140","v":"MP-FDS2"},{"$f":"Table!B140*10^Table!C140","v":3.771581},{"$f":"Table!D140*10^Table!E140","v":-0.020445364},{"$f":"Table!F140*10^Table!G140","v":0.063942579},{"$f":"Table!H140*10^Table!I140","v":0.008354547},{"$f":"Table!J140*10^Table!K140","v":-0.00082031984},{"$f":"Table!L140*10^Table!M140","v":1.0279507000000001E-4}]
[{"$f":"Table!A141","v":"MP-FDS910-50"},{"$f":"Table!B141*10^Table!C141","v":3.1667902},{"$f":"Table!D141*10^Table!E141","v":-0.013141416},{"$f":"Table!F141*10^Table!G141","v":0.047178656},{"$f":"Table!H141*10^Table!I141","v":2.2684284E-3},{"$f":"Table!J141*10^Table!K141","v":-5.3672387e-05},{"$f":"Table!L141*10^Table!M141","v":2.5328422000000003E-5}]
[{"$f":"Table!A142","v":"MP-LAC130"},{"$f":"Table!B142*10^Table!C142","v":2.813412},{"$f":"Table!D142*10^Table!E142","v":-0.013324480000000001},{"$f":"Table!F142*10^Table!G142","v":0.01927865},{"$f":"Table!H142*10^Table!I142","v":0.0004124452},{"$f":"Table!J142*10^Table!K142","v":-9.940432e-06},{"$f":"Table!L142*10^Table!M142","v":9.6220239999999989E-7}]
[{"$f":"Table!A143","v":"MP-LAC14-80"},{"$f":"Table!B143*10^Table!C143","v":2.8306733},{"$f":"Table!D143*10^Table!E143","v":-0.014855863},{"$f":"Table!F143*10^Table!G143","v":0.018103472000000002},{"$f":"Table!H143*10^Table!I143","v":0.00053539971},{"$f":"Table!J143*10^Table!K143","v":-3.1929778E-5},{"$f":"Table!L143*10^Table!M143","v":2.0340983e-06}]
[{"$f":"Table!A144","v":"MP-LAC8-30"},{"$f":"Table!B144*10^Table!C144","v":2.8827498},{"$f":"Table!D144*10^Table!E144","v":-0.015740788999999998},{"$f":"Table!F144*10^Table!G144","v":0.017707976},{"$f":"Table!H144*10^Table!I144","v":1.0483265E-3},{"$f":"Table!J144*10^Table!K144","v":-9.8332811000000019E-5},{"$f":"Table!L144*10^Table!M144","v":5.4828685e-06}]
[{"$f":"Table!A145","v":"MP-LAF81"},{"$f":"Table!B145*10^Table!C145","v":2.9167886},{"$f":"Table!D145*10^Table!E145","v":-0.012398199},{"$f":"Table!F145*10^Table!G145","v":0.026675236999999997},{"$f":"Table!H145*10^Table!I145","v":6.519050400000001E-4},{"$f":"Table!J145*10^Table!K145","v":4.6956175e-06},{"$f":"Table!L145*10^Table!M145","v":2.6910539999999995E-6}]
[{"$f":"Table!A146","v":"MP-NBF1"},{"$f":"Table!B146*10^Table!C146","v":2.975245},{"$f":"Table!D146*10^Table!E146","v":-0.014250160000000001},{"$f":"Table!F146*10^Table!G146","v":0.021400739999999998},{"$f":"Table!H146*10^Table!I146","v":9.7553370000000013E-4},{"$f":"Table!J146*10^Table!K146","v":-6.97953e-05},{"$f":"Table!L146*10^Table!M146","v":4.114924E-6}]
[{"$f":"Table!A147","v":"MP-NBFD10-20"},{"$f":"Table!B147*10^Table!C147","v":3.2722586},{"$f":"Table!D147*10^Table!E147","v":-0.018817211},{"$f":"Table!F147*10^Table!G147","v":0.027264508},{"$f":"Table!H147*10^Table!I147","v":3.2789193E-3},{"$f":"Table!J147*10^Table!K147","v":-0.00032827672},{"$f":"Table!L147*10^Table!M147","v":2.1743362000000002E-5}]
[{"$f":"Table!A148","v":"MP-NBFD130"},{"$f":"Table!B148*10^Table!C148","v":3.173794},{"$f":"Table!D148*10^Table!E148","v":-0.014986580000000001},{"$f":"Table!F148*10^Table!G148","v":0.02906741},{"$f":"Table!H148*10^Table!I148","v":0.001204829},{"$f":"Table!J148*10^Table!K148","v":-5.3551580000000009E-5},{"$f":"Table!L148*10^Table!M148","v":5.27135e-06}]
[{"$f":"Table!A149","v":"MP-PCD4-40"},{"$f":"Table!B149*10^Table!C149","v":2.5831471},{"$f":"Table!D149*10^Table!E149","v":-0.0097502344},{"$f":"Table!F149*10^Table!G149","v":0.013615374},{"$f":"Table!H149*10^Table!I149","v":0.00036346122},{"$f":"Table!J149*10^Table!K149","v":-2.1187082E-5},{"$f":"Table!L149*10^Table!M149","v":1.1536131999999999E-6}]
[{"$f":"Table!A150","v":"MP-PCD51-70"},{"$f":"Table!B150*10^Table!C150","v":2.5025436},{"$f":"Table!D150*10^Table!E150","v":-0.010321437000000001},{"$f":"Table!F150*10^Table!G150","v":0.012433636},{"$f":"Table!H150*10^Table!I150","v":2.1866534999999998E-4},{"$f":"Table!J150*10^Table!K150","v":-5.5793977E-6},{"$f":"Table!L150*10^Table!M150","v":3.0188382999999997E-7}]
[{"$f":"Table!A151","v":"MP-PCD55AR"},{"$f":"Table!B151*10^Table!C151","v":2.6366261},{"$f":"Table!D151*10^Table!E151","v":-0.009264580199999999},{"$f":"Table!F151*10^Table!G151","v":0.016956609},{"$f":"Table!H151*10^Table!I151","v":2.6444551E-4},{"$f":"Table!J151*10^Table!K151","v":6.1366528e-06},{"$f":"Table!L151*10^Table!M151","v":3.4208341e-07}]
[{"$f":"Table!A152","v":"MP-TAC60-90"},{"$f":"Table!B152*10^Table!C152","v":3.0209214},{"$f":"Table!D152*10^Table!E152","v":-0.0157801},{"$f":"Table!F152*10^Table!G152","v":0.021142530000000003},{"$f":"Table!H152*10^Table!I152","v":9.5556553999999992E-4},{"$f":"Table!J152*10^Table!K152","v":-7.4489819e-05},{"$f":"Table!L152*10^Table!M152","v":4.3606319999999994E-6}]
[{"$f":"Table!A153","v":"MP-TAC80-60"},{"$f":"Table!B153*10^Table!C153","v":2.9372128},{"$f":"Table!D153*10^Table!E153","v":-0.016185789},{"$f":"Table!F153*10^Table!G153","v":0.01839514},{"$f":"Table!H153*10^Table!I153","v":1.0266071000000002E-3},{"$f":"Table!J153*10^Table!K153","v":-9.2379872e-05},{"$f":"Table!L153*10^Table!M153","v":5.0509237e-06}]
[{"$f":"Table!A154","v":"MP-TAF101-100"},{"$f":"Table!B154*10^Table!C154","v":3.0591566},{"$f":"Table!D154*10^Table!E154","v":-0.013604717},{"$f":"Table!F154*10^Table!G154","v":0.024624272000000003},{"$f":"Table!H154*10^Table!I154","v":4.1834242000000004E-4},{"$f":"Table!J154*10^Table!K154","v":2.5361908E-6},{"$f":"Table!L154*10^Table!M154","v":7.9980819999999994E-7}]
[{"$f":"Table!A155","v":"MP-TAF105"},{"$f":"Table!B155*10^Table!C155","v":3.0705638},{"$f":"Table!D155*10^Table!E155","v":-0.013310234},{"$f":"Table!F155*10^Table!G155","v":0.025280355},{"$f":"Table!H155*10^Table!I155","v":2.1829234E-4},{"$f":"Table!J155*10^Table!K155","v":3.2555293000000004E-5},{"$f":"Table!L155*10^Table!M155","v":-8.1300421e-07}]
[{"$f":"Table!A156","v":"MP-TAF31-15"},{"$f":"Table!B156*10^Table!C156","v":3.164475},{"$f":"Table!D156*10^Table!E156","v":-0.013801295},{"$f":"Table!F156*10^Table!G156","v":0.027926276},{"$f":"Table!H156*10^Table!I156","v":5.7403000000000011E-4},{"$f":"Table!J156*10^Table!K156","v":9.8223773e-07},{"$f":"Table!L156*10^Table!M156","v":1.3284244e-06}]
[{"$f":"Table!A157","v":"MP-TAF401"},{"$f":"Table!B157*10^Table!C157","v":3.07279},{"$f":"Table!D157*10^Table!E157","v":-0.01366385},{"$f":"Table!F157*10^Table!G157","v":0.02527346},{"$f":"Table!H157*10^Table!I157","v":0.000612182},{"$f":"Table!J157*10^Table!K157","v":-1.1470450000000001E-5},{"$f":"Table!L157*10^Table!M157","v":1.5429999999999999E-6}]
[{"$f":"Table!A158","v":"MP-TAFD305"},{"$f":"Table!B158*10^Table!C158","v":3.327184},{"$f":"Table!D158*10^Table!E158","v":-0.01343242},{"$f":"Table!F158*10^Table!G158","v":0.033398},{"$f":"Table!H158*10^Table!I158","v":0.001006047},{"$f":"Table!J158*10^Table!K158","v":-2.136908E-5},{"$f":"Table!L158*10^Table!M158","v":3.972561e-06}]
[{"$f":"Table!A159","v":"MP-TAFD307"},{"$f":"Table!B159*10^Table!C159","v":3.4286062},{"$f":"Table!D159*10^Table!E159","v":-0.013845333},{"$f":"Table!F159*10^Table!G159","v":0.037363008999999996},{"$f":"Table!H159*10^Table!I159","v":1.1894554E-3},{"$f":"Table!J159*10^Table!K159","v":-1.5979979000000002E-5},{"$f":"Table!L159*10^Table!M159","v":5.1827398e-06}]
[{"$f":"Table!A160","v":"MP-TAFD405"},{"$f":"Table!B160*10^Table!C160","v":3.6542352},{"$f":"Table!D160*10^Table!E160","v":-0.015688325},{"$f":"Table!F160*10^Table!G160","v":0.048094089000000007},{"$f":"Table!H160*10^Table!I160","v":0.0026498065},{"$f":"Table!J160*10^Table!K160","v":-1.3971852E-4},{"$f":"Table!L160*10^Table!M160","v":1.9581201e-05}]
[{"$f":"Table!A161","v":"MP-TAFD51-50"},{"$f":"Table!B161*10^Table!C161","v":3.2288052},{"$f":"Table!D161*10^Table!E161","v":-0.014433046000000001},{"$f":"Table!F161*10^Table!G161","v":0.029863488},{"$f":"Table!H161*10^Table!I161","v":0.00082119282},{"$f":"Table!J161*10^Table!K161","v":-1.0943492e-05},{"$f":"Table!L161*10^Table!M161","v":2.5804939E-6}]
[{"$f":"Table!A162","v":"M-TAC60"},{"$f":"Table!B162*10^Table!C162","v":3.017866},{"$f":"Table!D162*10^Table!E162","v":-0.015790934},{"$f":"Table!F162*10^Table!G162","v":0.021144702},{"$f":"Table!H162*10^Table!I162","v":9.3137389000000012E-4},{"$f":"Table!J162*10^Table!K162","v":-6.9379914000000008E-5},{"$f":"Table!L162*10^Table!M162","v":4.02762e-06}]
[{"$f":"Table!A163","v":"M-TAC80"},{"$f":"Table!B163*10^Table!C163","v":2.9351948},{"$f":"Table!D163*10^Table!E163","v":-0.016193458},{"$f":"Table!F163*10^Table!G163","v":0.018392287},{"$f":"Table!H163*10^Table!I163","v":1.0086167E-3},{"$f":"Table!J163*10^Table!K163","v":-8.7565474000000009E-5},{"$f":"Table!L163*10^Table!M163","v":4.6921333e-06}]
[{"$f":"Table!A164","v":"M-TAF1"},{"$f":"Table!B164*10^Table!C164","v":3.070806},{"$f":"Table!D164*10^Table!E164","v":-0.012276924},{"$f":"Table!F164*10^Table!G164","v":0.02456566},{"$f":"Table!H164*10^Table!I164","v":4.7436648000000008E-4},{"$f":"Table!J164*10^Table!K164","v":5.432616e-07},{"$f":"Table!L164*10^Table!M164","v":6.5976660999999992E-7}]
[{"$f":"Table!A165","v":"M-TAF101"},{"$f":"Table!B165*10^Table!C165","v":3.05615},{"$f":"Table!D165*10^Table!E165","v":-0.013847100000000001},{"$f":"Table!F165*10^Table!G165","v":0.02431126},{"$f":"Table!H165*10^Table!I165","v":0.0004980027},{"$f":"Table!J165*10^Table!K165","v":-7.3186759999999992E-6},{"$f":"Table!L165*10^Table!M165","v":1.2404099999999999E-6}]
[{"$f":"Table!A166","v":"M-TAF105"},{"$f":"Table!B166*10^Table!C166","v":3.0705638},{"$f":"Table!D166*10^Table!E166","v":-0.013310234},{"$f":"Table!F166*10^Table!G166","v":0.025280355},{"$f":"Table!H166*10^Table!I166","v":2.1829234E-4},{"$f":"Table!J166*10^Table!K166","v":3.2555293000000004E-5},{"$f":"Table!L166*10^Table!M166","v":-8.1300421e-07}]
[{"$f":"Table!A167","v":"M-TAF31"},{"$f":"Table!B167*10^Table!C167","v":3.164358},{"$f":"Table!D167*10^Table!E167","v":-0.01403321},{"$f":"Table!F167*10^Table!G167","v":0.02767034},{"$f":"Table!H167*10^Table!I167","v":6.403025000000001E-4},{"$f":"Table!J167*10^Table!K167","v":-6.349234e-06},{"$f":"Table!L167*10^Table!M167","v":1.615744E-6}]
[{"$f":"Table!A168","v":"M-TAF401"},{"$f":"Table!B168*10^Table!C168","v":3.07279},{"$f":"Table!D168*10^Table!E168","v":-0.01366385},{"$f":"Table!F168*10^Table!G168","v":0.02527346},{"$f":"Table!H168*10^Table!I168","v":0.000612182},{"$f":"Table!J168*10^Table!K168","v":-1.1470450000000001E-5},{"$f":"Table!L168*10^Table!M168","v":1.5429999999999999E-6}]
[{"$f":"Table!A169","v":"M-TAFD305"},{"$f":"Table!B169*10^Table!C169","v":3.327184},{"$f":"Table!D169*10^Table!E169","v":-0.01343242},{"$f":"Table!F169*10^Table!G169","v":0.033398},{"$f":"Table!H169*10^Table!I169","v":0.001006047},{"$f":"Table!J169*10^Table!K169","v":-2.136908E-5},{"$f":"Table!L169*10^Table!M169","v":3.972561e-06}]
[{"$f":"Table!A170","v":"M-TAFD307"},{"$f":"Table!B170*10^Table!C170","v":3.4286062},{"$f":"Table!D170*10^Table!E170","v":-0.013845333},{"$f":"Table!F170*10^Table!G170","v":0.037363008999999996},{"$f":"Table!H170*10^Table!I170","v":1.1894554E-3},{"$f":"Table!J170*10^Table!K170","v":-1.5979979000000002E-5},{"$f":"Table!L170*10^Table!M170","v":5.1827398e-06}]
[{"$f":"Table!A171","v":"M-TAFD405"},{"$f":"Table!B171*10^Table!C171","v":3.6542352},{"$f":"Table!D171*10^Table!E171","v":-0.015688325},{"$f":"Table!F171*10^Table!G171","v":0.048094089000000007},{"$f":"Table!H171*10^Table!I171","v":0.0026498065},{"$f":"Table!J171*10^Table!K171","v":-1.3971852E-4},{"$f":"Table!L171*10^Table!M171","v":1.9581201e-05}]
[{"$f":"Table!A172","v":"M-TAFD51"},{"$f":"Table!B172*10^Table!C172","v":3.227682},{"$f":"Table!D172*10^Table!E172","v":-0.01453816},{"$f":"Table!F172*10^Table!G172","v":0.029212099999999998},{"$f":"Table!H172*10^Table!I172","v":1.0570619999999999E-3},{"$f":"Table!J172*10^Table!K172","v":-4.7871620000000006E-5},{"$f":"Table!L172*10^Table!M172","v":4.557239e-06}]
[{"$f":"Table!A173","v":"NBF1"},{"$f":"Table!B173*10^Table!C173","v":2.9753491},{"$f":"Table!D173*10^Table!E173","v":-0.01461347},{"$f":"Table!F173*10^Table!G173","v":0.021096383},{"$f":"Table!H173*10^Table!I173","v":1.198038E-3},{"$f":"Table!J173*10^Table!K173","v":-1.1887388000000002E-4},{"$f":"Table!L173*10^Table!M173","v":7.3444349999999994E-6}]
[{"$f":"Table!A174","v":"NBFD10"},{"$f":"Table!B174*10^Table!C174","v":3.2615573},{"$f":"Table!D174*10^Table!E174","v":-0.014542851},{"$f":"Table!F174*10^Table!G174","v":0.033470739},{"$f":"Table!H174*10^Table!I174","v":1.2266478999999999E-3},{"$f":"Table!J174*10^Table!K174","v":-2.5391842e-05},{"$f":"Table!L174*10^Table!M174","v":5.5971738999999993E-6}]
[{"$f":"Table!A175","v":"NBFD11"},{"$f":"Table!B175*10^Table!C175","v":3.1010267},{"$f":"Table!D175*10^Table!E175","v":-0.010022108},{"$f":"Table!F175*10^Table!G175","v":0.032631687},{"$f":"Table!H175*10^Table!I175","v":-8.102926800000001E-4},{"$f":"Table!J175*10^Table!K175","v":0.0001935011},{"$f":"Table!L175*10^Table!M175","v":-8.0279799e-06}]
[{"$f":"Table!A176","v":"NBFD12"},{"$f":"Table!B176*10^Table!C176","v":3.1513655},{"$f":"Table!D176*10^Table!E176","v":-0.013052015},{"$f":"Table!F176*10^Table!G176","v":0.029502111},{"$f":"Table!H176*10^Table!I176","v":6.764343700000001E-4},{"$f":"Table!J176*10^Table!K176","v":3.6679701e-06},{"$f":"Table!L176*10^Table!M176","v":1.8233292999999997E-6}]
[{"$f":"Table!A177","v":"NBFD13"},{"$f":"Table!B177*10^Table!C177","v":3.1729223},{"$f":"Table!D177*10^Table!E177","v":-0.014248534},{"$f":"Table!F177*10^Table!G177","v":0.029168114},{"$f":"Table!H177*10^Table!I177","v":1.342876E-3},{"$f":"Table!J177*10^Table!K177","v":-9.6178753E-5},{"$f":"Table!L177*10^Table!M177","v":8.4042556E-6}]
[{"$f":"Table!A178","v":"NBFD15"},{"$f":"Table!B178*10^Table!C178","v":3.1540011},{"$f":"Table!D178*10^Table!E178","v":-0.013256753},{"$f":"Table!F178*10^Table!G178","v":0.034103312},{"$f":"Table!H178*10^Table!I178","v":0.0018472167},{"$f":"Table!J178*10^Table!K178","v":-1.0807332000000002E-4},{"$f":"Table!L178*10^Table!M178","v":1.2975901000000002E-5}]
[{"$f":"Table!A179","v":"NBFD15-W"},{"$f":"Table!B179*10^Table!C179","v":3.1540011},{"$f":"Table!D179*10^Table!E179","v":-0.013256753},{"$f":"Table!F179*10^Table!G179","v":0.034103312},{"$f":"Table!H179*10^Table!I179","v":0.0018472167},{"$f":"Table!J179*10^Table!K179","v":-1.0807332000000002E-4},{"$f":"Table!L179*10^Table!M179","v":1.2975901000000002E-5}]
[{"$f":"Table!A180","v":"NBFD25"},{"$f":"Table!B180*10^Table!C180","v":3.2879389},{"$f":"Table!D180*10^Table!E180","v":-0.015856356000000002},{"$f":"Table!F180*10^Table!G180","v":0.045638807},{"$f":"Table!H180*10^Table!I180","v":3.3027661E-3},{"$f":"Table!J180*10^Table!K180","v":-2.1690686000000003E-4},{"$f":"Table!L180*10^Table!M180","v":2.9625863000000003E-5}]
[{"$f":"Table!A181","v":"NBFD29"},{"$f":"Table!B181*10^Table!C181","v":3.023484},{"$f":"Table!D181*10^Table!E181","v":-0.014446333},{"$f":"Table!F181*10^Table!G181","v":0.034673303},{"$f":"Table!H181*10^Table!I181","v":0.0020637437},{"$f":"Table!J181*10^Table!K181","v":-0.00011126222},{"$f":"Table!L181*10^Table!M181","v":1.4468973000000001E-5}]
[{"$f":"Table!A182","v":"NBFD3"},{"$f":"Table!B182*10^Table!C182","v":3.1633746},{"$f":"Table!D182*10^Table!E182","v":-0.013276280000000001},{"$f":"Table!F182*10^Table!G182","v":0.031133308999999998},{"$f":"Table!H182*10^Table!I182","v":0.0008352338},{"$f":"Table!J182*10^Table!K182","v":2.9980498999999997E-6},{"$f":"Table!L182*10^Table!M182","v":2.5568852999999996E-6}]
[{"$f":"Table!A183","v":"NBFD30"},{"$f":"Table!B183*10^Table!C183","v":3.3241277},{"$f":"Table!D183*10^Table!E183","v":-0.013971809},{"$f":"Table!F183*10^Table!G183","v":0.040932303},{"$f":"Table!H183*10^Table!I183","v":0.0022915572},{"$f":"Table!J183*10^Table!K183","v":-1.2906531000000002E-4},{"$f":"Table!L183*10^Table!M183","v":1.8478848e-05}]
[{"$f":"Table!A184","v":"NBFD32"},{"$f":"Table!B184*10^Table!C184","v":2.8989349},{"$f":"Table!D184*10^Table!E184","v":-0.013348892000000001},{"$f":"Table!F184*10^Table!G184","v":0.030163481000000002},{"$f":"Table!H184*10^Table!I184","v":1.6257886E-3},{"$f":"Table!J184*10^Table!K184","v":-7.6966547e-05},{"$f":"Table!L184*10^Table!M184","v":1.0143236000000002E-5}]
[{"$f":"Table!A185","v":"PCD4"},{"$f":"Table!B185*10^Table!C185","v":2.5807045},{"$f":"Table!D185*10^Table!E185","v":-0.010957538000000001},{"$f":"Table!F185*10^Table!G185","v":0.01268943},{"$f":"Table!H185*10^Table!I185","v":6.6387812000000008E-4},{"$f":"Table!J185*10^Table!K185","v":-6.4849664e-05},{"$f":"Table!L185*10^Table!M185","v":3.4787863e-06}]
[{"$f":"Table!A186","v":"PCD40"},{"$f":"Table!B186*10^Table!C186","v":2.5844463},{"$f":"Table!D186*10^Table!E186","v":-0.009052185800000001},{"$f":"Table!F186*10^Table!G186","v":0.014301987},{"$f":"Table!H186*10^Table!I186","v":0.0001705077},{"$f":"Table!J186*10^Table!K186","v":4.964536e-06},{"$f":"Table!L186*10^Table!M186","v":-1.2927478999999998E-7}]
[{"$f":"Table!A187","v":"PCD51"},{"$f":"Table!B187*10^Table!C187","v":2.5046638},{"$f":"Table!D187*10^Table!E187","v":-0.010149448000000002},{"$f":"Table!F187*10^Table!G187","v":0.012653768999999999},{"$f":"Table!H187*10^Table!I187","v":1.6566642E-4},{"$f":"Table!J187*10^Table!K187","v":5.3871747e-07},{"$f":"Table!L187*10^Table!M187","v":5.584093e-08}]
[{"$f":"Table!A188","v":"TAC2"},{"$f":"Table!B188*10^Table!C188","v":2.9717137},{"$f":"Table!D188*10^Table!E188","v":-0.014952593},{"$f":"Table!F188*10^Table!G188","v":0.020162868},{"$f":"Table!H188*10^Table!I188","v":9.4072283E-4},{"$f":"Table!J188*10^Table!K188","v":-8.8614104000000007E-5},{"$f":"Table!L188*10^Table!M188","v":5.3191242e-06}]
[{"$f":"Table!A189","v":"TAC4"},{"$f":"Table!B189*10^Table!C189","v":2.9425645},{"$f":"Table!D189*10^Table!E189","v":-0.013266554},{"$f":"Table!F189*10^Table!G189","v":0.023559223},{"$f":"Table!H189*10^Table!I189","v":-1.6399009E-4},{"$f":"Table!J189*10^Table!K189","v":9.2370759000000015E-5},{"$f":"Table!L189*10^Table!M189","v":-4.8615982e-06}]
[{"$f":"Table!A190","v":"TAC6"},{"$f":"Table!B190*10^Table!C190","v":3.0182184},{"$f":"Table!D190*10^Table!E190","v":-0.015381632999999999},{"$f":"Table!F190*10^Table!G190","v":0.021520136999999998},{"$f":"Table!H190*10^Table!I190","v":0.00064608303},{"$f":"Table!J190*10^Table!K190","v":-3.2355748000000004E-5},{"$f":"Table!L190*10^Table!M190","v":2.0791593e-06}]
[{"$f":"Table!A191","v":"TAC8"},{"$f":"Table!B191*10^Table!C191","v":2.9324178},{"$f":"Table!D191*10^Table!E191","v":-0.014603155999999999},{"$f":"Table!F191*10^Table!G191","v":0.021121636000000003},{"$f":"Table!H191*10^Table!I191","v":4.8240144000000006E-5},{"$f":"Table!J191*10^Table!K191","v":4.9669475e-05},{"$f":"Table!L191*10^Table!M191","v":-2.4904491e-06}]
[{"$f":"Table!A192","v":"TAF1"},{"$f":"Table!B192*10^Table!C192","v":3.0736378},{"$f":"Table!D192*10^Table!E192","v":-0.015501284},{"$f":"Table!F192*10^Table!G192","v":0.023627699000000002},{"$f":"Table!H192*10^Table!I192","v":6.6300852000000007E-4},{"$f":"Table!J192*10^Table!K192","v":-2.8353438000000003E-5},{"$f":"Table!L192*10^Table!M192","v":2.2090798999999997E-6}]
[{"$f":"Table!A193","v":"TAF2"},{"$f":"Table!B193*10^Table!C193","v":3.1415564},{"$f":"Table!D193*10^Table!E193","v":-0.014370304},{"$f":"Table!F193*10^Table!G193","v":0.026483051},{"$f":"Table!H193*10^Table!I193","v":9.5642714000000013E-4},{"$f":"Table!J193*10^Table!K193","v":-5.9411087e-05},{"$f":"Table!L193*10^Table!M193","v":4.703953E-6}]
[{"$f":"Table!A194","v":"TAF3"},{"$f":"Table!B194*10^Table!C194","v":3.1743707},{"$f":"Table!D194*10^Table!E194","v":-0.014110466},{"$f":"Table!F194*10^Table!G194","v":0.028862637000000003},{"$f":"Table!H194*10^Table!I194","v":3.355949e-05},{"$f":"Table!J194*10^Table!K194","v":8.0422109000000008E-5},{"$f":"Table!L194*10^Table!M194","v":-2.8956743999999995E-6}]
[{"$f":"Table!A195","v":"TAF3D"},{"$f":"Table!B195*10^Table!C195","v":3.175337},{"$f":"Table!D195*10^Table!E195","v":-0.014107601},{"$f":"Table!F195*10^Table!G195","v":0.0278609},{"$f":"Table!H195*10^Table!I195","v":4.0102824000000007E-4},{"$f":"Table!J195*10^Table!K195","v":2.4504764e-05},{"$f":"Table!L195*10^Table!M195","v":2.4435731e-08}]
[{"$f":"Table!A196","v":"TAF4"},{"$f":"Table!B196*10^Table!C196","v":3.1212281},{"$f":"Table!D196*10^Table!E196","v":-0.014119909},{"$f":"Table!F196*10^Table!G196","v":0.026520622},{"$f":"Table!H196*10^Table!I196","v":0.00040415763},{"$f":"Table!J196*10^Table!K196","v":1.4260634000000002E-5},{"$f":"Table!L196*10^Table!M196","v":3.1642559999999996E-7}]
[{"$f":"Table!A197","v":"TAF5"},{"$f":"Table!B197*10^Table!C197","v":3.2191571},{"$f":"Table!D197*10^Table!E197","v":-0.015310562000000002},{"$f":"Table!F197*10^Table!G197","v":0.026362570000000002},{"$f":"Table!H197*10^Table!I197","v":1.0534452000000001E-3},{"$f":"Table!J197*10^Table!K197","v":-6.166041200000001E-5},{"$f":"Table!L197*10^Table!M197","v":3.9733896999999994E-6}]
[{"$f":"Table!A198","v":"TAFD25"},{"$f":"Table!B198*10^Table!C198","v":3.4905528},{"$f":"Table!D198*10^Table!E198","v":-0.016325771},{"$f":"Table!F198*10^Table!G198","v":0.041146322},{"$f":"Table!H198*10^Table!I198","v":0.0027169124},{"$f":"Table!J198*10^Table!K198","v":-1.8260518E-4},{"$f":"Table!L198*10^Table!M198","v":2.0641862000000002E-5}]
[{"$f":"Table!A199","v":"TAFD30"},{"$f":"Table!B199*10^Table!C199","v":3.4419038},{"$f":"Table!D199*10^Table!E199","v":-0.014175245000000001},{"$f":"Table!F199*10^Table!G199","v":0.03435104},{"$f":"Table!H199*10^Table!I199","v":0.0011752271},{"$f":"Table!J199*10^Table!K199","v":-3.9010343000000006E-5},{"$f":"Table!L199*10^Table!M199","v":3.7417054e-06}]
[{"$f":"Table!A200","v":"TAFD32"},{"$f":"Table!B200*10^Table!C200","v":3.396108},{"$f":"Table!D200*10^Table!E200","v":-0.013087065},{"$f":"Table!F200*10^Table!G200","v":0.034853516},{"$f":"Table!H200*10^Table!I200","v":0.00079083177},{"$f":"Table!J200*10^Table!K200","v":7.6995212e-06},{"$f":"Table!L200*10^Table!M200","v":2.3516742e-06}]
[{"$f":"Table!A201","v":"TAFD33"},{"$f":"Table!B201*10^Table!C201","v":3.4316955},{"$f":"Table!D201*10^Table!E201","v":-0.013156273000000001},{"$f":"Table!F201*10^Table!G201","v":0.035631862},{"$f":"Table!H201*10^Table!I201","v":0.00091378109},{"$f":"Table!J201*10^Table!K201","v":-4.0366886E-6},{"$f":"Table!L201*10^Table!M201","v":3.3867688e-06}]
[{"$f":"Table!A202","v":"TAFD35"},{"$f":"Table!B202*10^Table!C202","v":3.5274747},{"$f":"Table!D202*10^Table!E202","v":-0.014839948},{"$f":"Table!F202*10^Table!G202","v":0.039745402},{"$f":"Table!H202*10^Table!I202","v":1.803472E-3},{"$f":"Table!J202*10^Table!K202","v":-8.9279334000000017E-5},{"$f":"Table!L202*10^Table!M202","v":1.1377783E-5}]
[{"$f":"Table!A203","v":"TAFD37"},{"$f":"Table!B203*10^Table!C203","v":3.4943369},{"$f":"Table!D203*10^Table!E203","v":-0.013647624},{"$f":"Table!F203*10^Table!G203","v":0.03883317},{"$f":"Table!H203*10^Table!I203","v":1.1132555E-3},{"$f":"Table!J203*10^Table!K203","v":-7.4022370000000004E-6},{"$f":"Table!L203*10^Table!M203","v":5.3027753999999991E-6}]
[{"$f":"Table!A204","v":"TAFD37A"},{"$f":"Table!B204*10^Table!C204","v":3.4958125},{"$f":"Table!D204*10^Table!E204","v":-0.014342354},{"$f":"Table!F204*10^Table!G204","v":0.037807251},{"$f":"Table!H204*10^Table!I204","v":1.4184072999999999E-3},{"$f":"Table!J204*10^Table!K204","v":-4.6470269e-05},{"$f":"Table!L204*10^Table!M204","v":6.919444e-06}]
[{"$f":"Table!A205","v":"TAFD40"},{"$f":"Table!B205*10^Table!C205","v":3.8106232},{"$f":"Table!D205*10^Table!E205","v":-0.016351565},{"$f":"Table!F205*10^Table!G205","v":0.058801097000000004},{"$f":"Table!H205*10^Table!I205","v":0.0034919026},{"$f":"Table!J205*10^Table!K205","v":-0.0001694811},{"$f":"Table!L205*10^Table!M205","v":3.2569333000000004E-5}]
[{"$f":"Table!A206","v":"TAFD40-W"},{"$f":"Table!B206*10^Table!C206","v":3.8106232},{"$f":"Table!D206*10^Table!E206","v":-0.016351565},{"$f":"Table!F206*10^Table!G206","v":0.058801097000000004},{"$f":"Table!H206*10^Table!I206","v":0.0034919026},{"$f":"Table!J206*10^Table!K206","v":-0.0001694811},{"$f":"Table!L206*10^Table!M206","v":3.2569333000000004E-5}]
[{"$f":"Table!A207","v":"TAFD45"},{"$f":"Table!B207*10^Table!C207","v":3.672962},{"$f":"Table!D207*10^Table!E207","v":-0.0151805},{"$f":"Table!F207*10^Table!G207","v":0.045718699999999994},{"$f":"Table!H207*10^Table!I207","v":2.1862210000000003E-3},{"$f":"Table!J207*10^Table!K207","v":-9.93742e-05},{"$f":"Table!L207*10^Table!M207","v":1.4904660000000002E-5}]
[{"$f":"Table!A208","v":"TAFD55"},{"$f":"Table!B208*10^Table!C208","v":3.8317578},{"$f":"Table!D208*10^Table!E208","v":-0.015266397000000001},{"$f":"Table!F208*10^Table!G208","v":0.054573843000000004},{"$f":"Table!H208*10^Table!I208","v":0.0023109346},{"$f":"Table!J208*10^Table!K208","v":-4.4476201e-05},{"$f":"Table!L208*10^Table!M208","v":1.6143887e-05}]
[{"$f":"Table!A209","v":"TAFD55-W"},{"$f":"Table!B209*10^Table!C209","v":3.8317578},{"$f":"Table!D209*10^Table!E209","v":-0.015266397000000001},{"$f":"Table!F209*10^Table!G209","v":0.054573843000000004},{"$f":"Table!H209*10^Table!I209","v":0.0023109346},{"$f":"Table!J209*10^Table!K209","v":-4.4476201e-05},{"$f":"Table!L209*10^Table!M209","v":1.6143887e-05}]
[{"$f":"Table!A210","v":"TAFD5F"},{"$f":"Table!B210*10^Table!C210","v":3.275546},{"$f":"Table!D210*10^Table!E210","v":-0.014470354000000001},{"$f":"Table!F210*10^Table!G210","v":0.030922062000000004},{"$f":"Table!H210*10^Table!I210","v":0.00073289981},{"$f":"Table!J210*10^Table!K210","v":4.6573307e-06},{"$f":"Table!L210*10^Table!M210","v":1.8242746E-6}]
[{"$f":"Table!A211","v":"TAFD5G"},{"$f":"Table!B211*10^Table!C211","v":3.2756799},{"$f":"Table!D211*10^Table!E211","v":-0.014485625},{"$f":"Table!F211*10^Table!G211","v":0.030780102},{"$f":"Table!H211*10^Table!I211","v":7.8915515000000009E-4},{"$f":"Table!J211*10^Table!K211","v":-4.0810228999999992E-6},{"$f":"Table!L211*10^Table!M211","v":2.2273964999999996E-6}]
[{"$f":"Table!A212","v":"TAFD65"},{"$f":"Table!B212*10^Table!C212","v":4.0113202},{"$f":"Table!D212*10^Table!E212","v":-0.017752009},{"$f":"Table!F212*10^Table!G212","v":0.058569329999999996},{"$f":"Table!H212*10^Table!I212","v":0.0043200932},{"$f":"Table!J212*10^Table!K212","v":-3.1070842000000004E-4},{"$f":"Table!L212*10^Table!M212","v":3.7485638e-05}]

{"sheet":"Table","index":2,"n_rows":212,"n_cols":145,"rows_kept":212,"merged":[[0,0,3,0],[1,1,3,1],[1,2,3,2],[1,3,3,3],[1,4,3,4],[1,5,3,5],[1,6,3,6],[1,7,3,7],[1,8,3,8],[1,9,3,9],[1,10,3,10],[1,11,3,11],[1,12,3,12],[1,13,1,56],[1,57,1,100],[1,101,1,144],[2,13,2,23],[2,24,2,34],[2,35,2,45],[2,46,2,56],[2,57,2,67],[2,68,2,78],[2,79,2,89],[2,90,2,100],[2,101,2,111],[2,112,2,122],[2,123,2,133],[2,134,2,144]]}
["Glass　Type","Constants of Dispersion Formula "]
[null,"A0","A0pow","A1","A1pow","A2","A2pow","A3","A3pow","A4","A4pow","A5","A5pow","Internal Transmittance (2mmt)",{"$nulls":43},"Internal Transmittance (5mmt)",{"$nulls":43},"Internal Transmittance (10mmt)"]
[{"$nulls":13},"(2mmt)",{"$nulls":10},"(2mmt)",{"$nulls":10},"(2mmt)",{"$nulls":10},"(2mmt)",{"$nulls":10},"(5mmt)",{"$nulls":10},"(5mmt)",{"$nulls":10},"(5mmt)",{"$nulls":10},"(5mmt)",{"$nulls":10},"(10mmt)",{"$nulls":10},"(10mmt)",{"$nulls":10},"(10mmt)",{"$nulls":10},"(10mmt)"]
[{"$nulls":13},2500,2400,2200,2000,1800,1600,1550,1500,1400,1300,1200,1100,1060,1050,1000,950,900,850,830,800,780,750,700,650,600,550,500,480,460,440,420,400,390,380,370,360,350,340,330,320,310,300,290,280,2500,2400,2200,2000,1800,1600,1550,1500,1400,1300,1200,1100,1060,1050,1000,950,900,850,830,800,780,750,700,650,600,550,500,480,460,440,420,400,390,380,370,360,350,340,330,320,310,300,290,280,2500,2400,2200,2000,1800,1600,1550,1500,1400,1300,1200,1100,1060,1050,1000,950,900,850,830,800,780,750,700,650,600,550,500,480,460,440,420,400,390,380,370,360,350,340,330,320,310,300,290,280]
["BAC4",2.4196645,0,-8.3329314,-3,{"v":1.539739,"d":"1.5397390"},-2,-1.7391654,-4,{"v":6.218322,"d":"6.2183220"},-5,{"v":-3.062131,"d":"-3.0621310"},-6,"","","","","","",0.999,0.999,0.998,0.999,0.999,0.999,0.999,0.999,0.999,0.999,0.999,0.999,0.999,0.999,0.999,0.999,0.999,0.999,0.999,0.999,0.999,0.999,0.998,0.998,0.998,0.998,0.997,0.995,0.993,0.987,0.978,0.959,0.927,0.871,0.777,0.628,0.432,0.243,"","","","","","",0.997,0.997,0.994,0.999,0.999,0.999,0.999,0.999,0.999,0.999,0.999,0.999,0.999,0.999,0.999,0.999,0.998,0.998,0.998,0.999,0.998,0.997,0.996,0.995,0.995,0.994,0.993,0.988,0.982,0.969,0.945,0.901,0.827,0.707,{"v":0.53,"d":"0.530"},0.311,0.122,0.029,"","","","","","",0.995,0.995,0.987,0.998,0.998,0.998,0.998,0.998,0.998,0.998,0.998,0.998,0.998,0.998,0.998,0.997,0.996,0.995,0.997,0.997,0.995,0.994,0.992,0.991,{"v":0.99,"d":"0.990"},0.988,0.985,0.976,0.964,0.938,0.892,0.812,0.684,{"v":0.5,"d":"0.500"},0.281,0.097,0.015,{"v":0,"d":"0.000"}]
["BACD11",2.4095163,0,-9.1904415,-3,1.2939968,-2,{"v":2.346143,"d":"2.3461430"},-4,-1.1130589,-5,1.0131863,-6,"","","","","","","","","","","","","","","","","","","","","","","","","","","","","","","","","","","","","","","","","","","","","","","","","","",0.996,0.996,0.989,0.998,0.998,0.998,0.998,0.998,0.998,0.998,0.999,0.999,0.999,0.999,0.999,0.999,0.999,0.999,0.999,0.999,0.999,0.999,0.998,0.998,0.999,0.999,0.997,0.996,0.993,0.992,0.972,0.952,0.913,0.838,0.718,0.527,0.311,0.129,"","","","","","",0.991,0.992,0.979,0.996,0.996,0.997,0.997,0.997,0.997,0.997,0.998,0.998,0.998,0.999,0.999,0.999,0.999,0.999,0.999,0.999,0.999,0.997,0.996,0.996,0.997,0.997,0.995,0.993,0.985,0.984,0.944,0.905,0.834,0.703,0.516,0.278,0.097,0.017]
["BACD14",2.5335256,0,-1.1903338,-2,1.2257249,-2,7.9172149,-4,-7.7381829,-5,3.9935441,-6,"","","","","","",0.999,0.998,0.997,0.999,0.999,0.999,0.999,0.999,0.999,0.999,0.999,0.999,0.999,0.999,0.999,0.999,0.999,0.999,0.999,0.999,0.999,0.999,0.998,0.998,0.998,0.998,0.998,0.996,0.993,0.988,0.978,0.961,0.929,0.878,0.793,0.664,{"v":0.49,"d":"0.490"},0.303,"","","","","","",0.996,0.996,0.991,0.999,0.999,0.999,0.999,0.999,0.999,0.999,0.999,0.999,0.999,0.999,0.999,0.999,0.999,0.999,0.999,0.999,0.998,0.997,0.996,0.995,0.996,0.995,0.994,0.989,0.982,{"v":0.97,"d":"0.970"},0.946,0.905,0.833,0.722,0.559,0.358,0.167,{"v":0.05,"d":"0.050"},"","","","","","",0.993,0.992,0.983,0.998,0.998,0.998,0.998,0.999,0.999,0.999,0.999,0.999,0.999,0.999,0.999,0.999,0.999,0.997,0.997,0.999,0.996,0.994,0.992,0.991,0.991,{"v":0.99,"d":"0.990"},0.988,0.978,0.965,0.941,0.894,0.819,0.693,0.522,0.313,0.128,0.028,{"v":0,"d":"0.000"}]
["BACD15",2.5864832,0,-8.0357829,-3,1.8080573,-2,-4.5974172,-4,8.8484321,-5,-3.7544765,-6,"","","","","","",0.999,0.998,0.997,0.999,0.999,0.999,0.999,0.999,0.999,0.999,0.999,0.999,0.999,0.999,0.999,0.999,0.999,0.999,0.999,0.999,0.999,0.999,0.999,0.999,0.999,0.998,0.997,0.995,0.992,0.985,0.971,{"v":0.95,"d":"0.950"},0.905,0.842,0.739,0.601,0.428,0.325,"","","","","","",0.997,0.996,0.992,0.999,0.999,0.999,0.998,0.998,0.998,0.998,0.998,0.998,0.999,0.999,0.999,0.999,0.999,0.998,0.998,0.999,0.999,0.999,0.998,0.997,0.997,0.995,0.993,0.988,0.979,0.963,{"v":0.93,"d":"0.930"},{"v":0.88,"d":"0.880"},{"v":0.78,"d":"0.780"},{"v":0.65,"d":"0.650"},{"v":0.47,"d":"0.470"},{"v":0.28,"d":"0.280"},{"v":0.12,"d":"0.120"},{"v":0.06,"d":"0.060"},"","","","","","",0.993,0.993,0.984,0.997,0.997,0.997,0.996,0.996,0.996,0.996,0.996,0.996,0.997,0.997,0.998,0.998,0.997,0.997,0.997,0.998,0.997,0.997,0.996,0.995,0.994,0.991,0.986,0.975,0.959,0.927,{"v":0.87,"d":"0.870"},{"v":0.77,"d":"0.770"},{"v":0.62,"d":"0.620"},{"v":0.43,"d":"0.430"},{"v":0.22,"d":"0.220"},{"v":0.08,"d":"0.080"},{"v":0.01,"d":"0.010"},{"v":0,"d":"0.000"}]
["BACD16",2.5859898,0,-1.1940432,-2,1.3995502,-2,4.8974502,-4,-3.9120717,-5,2.2611915,-6,"","","","","","",0.998,0.998,0.997,0.999,0.999,0.999,0.999,0.999,0.999,0.999,0.999,0.999,0.999,0.999,0.999,0.999,0.999,0.999,0.999,0.999,0.999,0.999,0.999,0.999,0.999,0.998,0.996,0.993,0.987,0.977,0.957,0.925,0.872,0.789,0.677,0.545,0.406,0.281,"","","","","","",0.995,0.995,0.992,0.999,0.999,0.999,0.999,0.999,0.999,0.999,0.999,0.999,0.999,0.999,0.999,0.999,0.999,0.999,0.999,0.999,0.999,0.999,0.998,0.998,0.996,0.994,{"v":0.99,"d":"0.990"},0.982,0.969,0.943,0.896,0.823,0.709,0.553,0.377,0.218,0.105,{"v":0,"d":"0.000"},"","","","","","",{"v":0.99,"d":"0.990"},{"v":0.99,"d":"0.990"},0.984,0.999,0.999,0.999,0.999,0.999,0.999,0.999,0.999,0.999,0.999,0.999,0.999,0.999,0.999,0.999,0.999,0.999,0.999,0.997,0.996,0.995,0.993,0.989,0.979,0.965,0.939,{"v":0.89,"d":"0.890"},0.803,0.677,0.503,0.306,0.142,0.048,{"v":0,"d":"0.000"},{"v":0,"d":"0.000"}]
["BACD18",2.6365277,0,-9.7558464,-3,1.7143665,-2,2.2592497,-4,3.0855342,-6,4.5831917,-7,"","","","","","",0.998,0.998,0.998,0.999,0.999,0.999,0.999,0.999,0.999,0.999,0.999,0.999,0.999,0.999,0.999,0.999,0.999,0.999,0.999,0.999,0.999,0.999,0.998,0.998,0.998,0.997,0.996,0.994,{"v":0.99,"d":"0.990"},{"v":0.98,"d":"0.980"},0.956,0.909,0.804,0.602,0.312,{"v":0,"d":"0.000"},{"v":0,"d":"0.000"},{"v":0,"d":"0.000"},"","","","","","",0.996,0.996,0.995,0.998,0.998,0.998,0.998,0.998,0.998,0.998,0.998,0.999,0.999,0.999,0.999,0.999,0.999,0.998,0.999,0.999,0.998,0.997,0.996,0.995,0.995,0.994,0.991,0.986,0.974,{"v":0.95,"d":"0.950"},0.894,0.788,{"v":0.58,"d":"0.580"},0.281,0.054,{"v":0,"d":"0.000"},{"v":0,"d":"0.000"},{"v":0,"d":"0.000"},"","","","","","",0.992,0.992,{"v":0.99,"d":"0.990"},0.997,0.997,0.996,0.996,0.996,0.996,0.997,0.997,0.997,0.997,0.998,0.998,0.998,0.999,0.997,0.998,0.999,0.996,0.994,0.992,{"v":0.99,"d":"0.990"},0.991,0.987,0.982,0.971,0.949,0.902,0.799,0.621,0.336,0.079,{"v":0,"d":"0.000"},{"v":0,"d":"0.000"},{"v":0,"d":"0.000"},{"v":0,"d":"0.000"}]
["BACD2",2.5393255,0,-8.7207883,-3,1.5909566,-2,8.8163036,-5,2.5876593,-5,-1.1733523,-6,"","","","","","","","","","","","","","","","","","","","","","","","","","","","","","","","","","","","","","","","","","","","","","","","","","",0.997,0.997,0.994,0.998,0.998,0.998,0.998,0.998,0.998,0.999,0.999,0.999,0.999,0.999,0.999,0.999,0.999,0.999,0.999,0.999,0.999,0.999,0.997,0.997,0.996,0.994,0.991,0.984,0.975,0.953,{"v":0.91,"d":"0.910"},{"v":0.84,"d":"0.840"},{"v":0.71,"d":"0.710"},{"v":0.52,"d":"0.520"},{"v":0.5,"d":"0.500"},{"v":0.03,"d":"0.030"},{"v":0,"d":"0.000"},{"v":0,"d":"0.000"},"","","","","","",0.994,0.995,0.988,0.997,0.997,0.997,0.997,0.997,0.997,0.998,0.998,0.998,0.998,0.999,0.999,0.999,0.997,0.997,0.999,0.999,0.999,0.997,0.994,0.994,0.992,0.987,0.982,0.969,0.951,0.908,{"v":0.83,"d":"0.830"},{"v":0.7,"d":"0.700"},{"v":0.51,"d":"0.510"},{"v":0.27,"d":"0.270"},{"v":0.25,"d":"0.250"},{"v":0,"d":"0.000"},{"v":0,"d":"0.000"},{"v":0,"d":"0.000"}]
["BACD4",2.5584621,0,-9.7457283,-3,1.5110495,-2,2.3273333,-4,1.1137249,-6,1.6424767,-7,"","","","","","","","","","","","","","","","","","","","","","","","","","","","","","","","","","","","","","","","","","","","","","","","","","",0.996,0.996,0.992,0.998,0.998,0.998,0.998,0.999,0.999,0.999,0.999,0.999,0.999,0.999,0.999,0.999,0.999,0.999,0.999,0.999,0.999,0.999,0.999,0.999,0.998,0.994,0.992,0.985,0.973,0.949,{"v":0.91,"d":"0.910"},{"v":0.83,"d":"0.830"},{"v":0.71,"d":"0.710"},{"v":0.54,"d":"0.540"},{"v":0.35,"d":"0.350"},{"v":0.18,"d":"0.180"},{"v":0.04,"d":"0.040"},{"v":0,"d":"0.000"},"","","","","","",0.991,0.991,0.984,0.996,0.996,0.996,0.996,0.998,0.998,0.998,0.998,0.998,0.998,0.998,0.998,0.999,0.999,0.999,0.999,0.999,0.999,0.997,0.997,0.997,0.996,0.989,0.983,0.971,0.946,0.901,{"v":0.82,"d":"0.820"},{"v":0.69,"d":"0.690"},{"v":0.51,"d":"0.510"},{"v":0.3,"d":"0.300"},{"v":0.13,"d":"0.130"},{"v":0.03,"d":"0.030"},{"v":0,"d":"0.000"},{"v":0,"d":"0.000"}]
["BACD5",2.4861499,0,-9.5684845,-3,1.4685059,-2,-1.1216487,-4,4.1978777,-5,{"v":-1.885619,"d":"-1.8856190"},-6,"","","","","","",0.999,0.999,0.996,0.999,0.999,0.999,0.999,0.999,0.999,0.999,0.999,0.999,0.999,0.999,0.999,0.999,0.999,0.999,0.999,0.999,0.999,0.999,0.999,0.999,0.999,0.999,0.998,0.997,0.995,0.991,0.984,0.969,0.945,{"v":0.9,"d":"0.900"},0.827,0.717,{"v":0.57,"d":"0.570"},0.397,"","","","","","",0.997,0.997,{"v":0.99,"d":"0.990"},0.999,0.999,0.999,0.999,0.999,0.999,0.999,0.999,0.999,0.999,0.999,0.999,0.999,0.999,0.999,0.999,0.999,0.999,0.999,0.998,0.998,0.998,0.997,0.995,0.992,0.988,0.978,{"v":0.96,"d":"0.960"},0.925,0.867,0.768,0.622,0.434,0.244,0.099,"","","","","","",0.994,0.994,{"v":0.98,"d":"0.980"},0.998,0.998,0.998,0.998,0.998,0.998,0.998,0.998,0.998,0.998,0.998,0.998,0.998,0.999,0.999,0.999,0.999,0.999,0.997,0.996,0.995,0.995,0.994,{"v":0.99,"d":"0.990"},0.985,0.976,0.956,0.922,0.856,0.752,{"v":0.59,"d":"0.590"},0.387,0.189,0.059,{"v":0,"d":"0.000"}]
["BACED5",2.6934245,0,{"v":-8.637014,"d":"-8.6370140"},-3,{"v":2.049645,"d":"2.0496450"},-2,-9.3205453,-5,6.2709747,-5,-2.0834652,-6,"","","","","","",0.999,0.999,0.999,0.999,0.999,0.999,0.999,0.999,0.999,0.999,0.999,0.999,0.999,0.999,0.999,0.999,0.999,0.999,0.999,0.999,0.999,0.999,0.998,0.998,0.998,0.996,0.992,0.986,0.973,0.943,0.878,{"v":0.75,"d":"0.750"},0.523,0.279,{"v":0,"d":"0.000"},{"v":0,"d":"0.000"},{"v":0,"d":"0.000"},{"v":0,"d":"0.000"},"","","","","","",0.998,0.998,0.997,0.999,0.999,0.999,0.999,0.999,0.999,0.999,0.999,0.999,0.999,0.999,0.999,0.998,0.999,0.998,0.998,0.999,0.999,0.997,0.996,0.995,0.994,0.989,0.981,0.966,0.934,0.864,0.723,0.488,0.197,0.041,{"v":0,"d":"0.000"},{"v":0,"d":"0.000"},{"v":0,"d":"0.000"},{"v":0,"d":"0.000"},"","","","","","",0.995,0.995,0.995,0.998,0.999,0.999,0.998,0.998,0.998,0.998,0.998,0.999,0.998,0.998,0.998,0.998,0.998,0.995,0.997,0.999,0.997,0.995,0.992,{"v":0.99,"d":"0.990"},0.988,0.979,0.962,0.933,0.872,0.747,0.523,0.238,0.039,{"v":0,"d":"0.000"},{"v":0,"d":"0.000"},{"v":0,"d":"0.000"},{"v":0,"d":"0.000"},{"v":0,"d":"0.000"}]
["BAF10",2.7324621,0,{"v":-1.249046,"d":"-1.2490460"},-2,1.8562334,-2,9.9990536,-4,-6.8388552,-5,4.9257931,-6,"","","","","","","","","","","","","","","","","","","","","","","","","","","","","","","","","","","","","","","","","","","","","","","","","","","","","","","","","","","","","","","","","","",0.999,0.999,0.999,0.999,0.995,0.993,0.991,0.986,0.984,0.975,{"v":0.96,"d":"0.960"},{"v":0.94,"d":"0.940"},{"v":0.89,"d":"0.890"},{"v":0.78,"d":"0.780"},{"v":0.56,"d":"0.560"},{"v":0.22,"d":"0.220"},{"v":0,"d":"0.000"},{"v":0,"d":"0.000"},{"v":0,"d":"0.000"},{"v":0,"d":"0.000"},{"v":0,"d":"0.000"},{"v":0,"d":"0.000"},"","","","","","","","","","","","","","","","","","","","","","",0.997,0.997,0.997,0.997,{"v":0.99,"d":"0.990"},0.986,0.982,0.972,0.969,0.951,0.921,{"v":0.88,"d":"0.880"},{"v":0.78,"d":"0.780"},{"v":0.61,"d":"0.610"},{"v":0.32,"d":"0.320"},{"v":0.05,"d":"0.050"},{"v":0,"d":"0.000"},{"v":0,"d":"0.000"},{"v":0,"d":"0.000"},{"v":0,"d":"0.000"},{"v":0,"d":"0.000"},{"v":0,"d":"0.000"}]
["BAF11",2.7272955,0,-1.3470236,-2,1.4809271,-2,1.9615335,-3,-1.9787663,-4,1.0851117,-5,"","","","","","","","","","","","","","","","","","","","","","","","","","","","","","","","","","","","","","","","","","","","","","","","","","",0.998,0.998,0.997,0.999,0.999,0.999,0.999,0.999,0.999,0.999,0.999,0.999,0.999,0.999,0.999,0.999,0.999,0.999,0.999,0.999,0.999,0.995,0.993,{"v":0.99,"d":"0.990"},0.988,0.983,0.973,0.951,{"v":0.91,"d":"0.910"},{"v":0.81,"d":"0.810"},{"v":0.52,"d":"0.520"},{"v":0.34,"d":"0.340"},{"v":0.08,"d":"0.080"},{"v":0,"d":"0.000"},{"v":0,"d":"0.000"},{"v":0,"d":"0.000"},{"v":0,"d":"0.000"},{"v":0,"d":"0.000"},"","","","","","",0.997,0.996,0.995,0.999,0.998,0.997,0.997,0.997,0.997,0.997,0.997,0.997,0.997,0.997,0.999,0.999,0.999,0.999,0.999,0.999,0.997,{"v":0.99,"d":"0.990"},0.986,{"v":0.98,"d":"0.980"},0.976,0.966,0.946,0.904,{"v":0.83,"d":"0.830"},{"v":0.66,"d":"0.660"},{"v":0.27,"d":"0.270"},{"v":0.11,"d":"0.110"},{"v":0.01,"d":"0.010"},{"v":0,"d":"0.000"},{"v":0,"d":"0.000"},{"v":0,"d":"0.000"},{"v":0,"d":"0.000"},{"v":0,"d":"0.000"}]
["BAFD7",2.8217211,0,-9.7265483,-3,2.4345979,-2,7.8406305,-4,-2.2431497,-5,4.6726029,-6,"","","","","","",0.999,0.999,0.999,0.999,0.999,0.999,0.999,0.999,0.999,0.999,0.999,0.999,0.999,0.999,0.999,0.999,0.999,0.999,0.999,0.999,0.999,0.998,0.996,0.995,0.992,0.984,0.975,0.956,0.913,0.811,0.577,{"v":0.24,"d":"0.240"},{"v":0,"d":"0.000"},{"v":0,"d":"0.000"},{"v":0,"d":"0.000"},{"v":0,"d":"0.000"},{"v":0,"d":"0.000"},{"v":0,"d":"0.000"},"","","","","","",0.999,0.998,0.999,0.999,0.999,0.999,0.999,0.999,0.999,0.999,0.999,0.999,0.999,0.999,0.999,0.999,0.997,0.999,0.999,0.999,0.997,0.995,0.991,0.988,0.981,0.961,0.939,0.894,0.797,0.593,0.253,0.028,{"v":0,"d":"0.000"},{"v":0,"d":"0.000"},{"v":0,"d":"0.000"},{"v":0,"d":"0.000"},{"v":0,"d":"0.000"},{"v":0,"d":"0.000"},"","","","","","",0.997,0.996,0.998,0.999,0.999,0.999,0.999,0.999,0.999,0.999,0.999,0.999,0.999,0.999,0.999,0.999,0.995,0.998,0.998,0.999,0.993,{"v":0.99,"d":"0.990"},0.982,0.975,0.962,0.924,0.882,0.799,0.636,0.351,0.064,{"v":0,"d":"0.000"},{"v":0,"d":"0.000"},{"v":0,"d":"0.000"},{"v":0,"d":"0.000"},{"v":0,"d":"0.000"},{"v":0,"d":"0.000"},{"v":0,"d":"0.000"}]
["BAFD8",2.8863236,0,{"v":-9.802724,"d":"-9.8027240"},-3,2.7654256,-2,8.9006367,-4,-3.6309109,-5,7.6181062,-6,"","","","","","",0.999,0.999,0.999,0.999,0.999,0.999,0.999,0.999,0.999,0.999,0.999,0.999,0.999,0.999,0.999,0.999,0.999,0.999,0.999,0.999,0.999,0.998,0.997,0.995,0.989,0.969,0.943,0.895,0.797,0.609,{"v":0.31,"d":"0.310"},{"v":0,"d":"0.000"},{"v":0,"d":"0.000"},{"v":0,"d":"0.000"},{"v":0,"d":"0.000"},{"v":0,"d":"0.000"},{"v":0,"d":"0.000"},{"v":0,"d":"0.000"},"","","","","","",0.998,0.997,0.998,0.999,0.999,0.999,0.999,0.999,0.999,0.999,0.999,0.999,0.999,0.999,0.999,0.999,0.999,0.999,0.999,0.999,0.997,0.995,0.992,0.987,0.972,0.924,0.864,0.757,0.567,{"v":0.29,"d":"0.290"},0.053,{"v":0,"d":"0.000"},{"v":0,"d":"0.000"},{"v":0,"d":"0.000"},{"v":0,"d":"0.000"},{"v":0,"d":"0.000"},{"v":0,"d":"0.000"},{"v":0,"d":"0.000"},"","","","","","",0.996,0.995,0.997,0.999,0.999,0.999,0.999,0.998,0.999,0.999,0.998,0.999,0.999,0.999,0.999,0.999,0.999,0.999,0.998,0.998,0.994,{"v":0.99,"d":"0.990"},0.984,0.974,0.945,0.854,0.747,0.573,0.322,0.084,{"v":0,"d":"0.000"},{"v":0,"d":"0.000"},{"v":0,"d":"0.000"},{"v":0,"d":"0.000"},{"v":0,"d":"0.000"},{"v":0,"d":"0.000"},{"v":0,"d":"0.000"},{"v":0,"d":"0.000"}]
["BSC7",2.2702566,0,-9.1988101,-3,1.1609706,-2,-7.6123911,-5,2.8558727,-5,-1.2566486,-6,"","","","","","",0.998,0.998,0.995,0.999,0.999,0.999,0.999,0.999,0.999,0.999,0.999,0.999,0.999,0.999,0.999,0.999,0.999,0.999,0.999,0.999,0.999,0.999,0.999,0.999,0.999,0.999,0.999,0.999,0.998,0.998,0.994,{"v":0.99,"d":"0.990"},0.981,0.961,0.918,0.831,0.686,0.487,"","","","","","",0.994,0.996,0.987,0.997,0.998,0.998,0.998,0.998,0.999,0.999,0.999,0.999,0.999,0.999,0.999,0.999,0.999,0.999,0.999,0.999,0.999,0.999,0.999,0.999,0.999,0.999,0.999,0.997,0.996,0.994,0.985,0.974,0.952,0.905,0.807,0.629,0.389,0.165,"","","","","","",0.989,0.993,0.974,0.994,0.995,0.995,0.996,0.996,0.997,0.997,0.998,0.998,0.999,0.999,0.999,0.999,0.999,0.999,0.999,0.999,0.998,0.998,0.999,0.998,0.999,0.998,0.997,0.993,0.992,0.989,{"v":0.97,"d":"0.970"},0.948,0.906,0.818,0.652,0.396,0.151,0.027]
["E-ADF10",2.5528983,0,-1.5709364,-2,1.5647688,-2,1.4461641,-3,-1.4458879,-4,9.5275733,-6,"","","","","","","","","","","","","","","","","","","","","","","","","","","","","","","","","","","","","","","","","","","","","","","","","","",0.981,0.977,0.962,0.996,0.997,0.998,0.998,0.998,0.997,0.998,0.998,0.999,0.998,0.998,0.999,0.999,0.998,0.998,0.998,0.998,0.997,0.996,0.995,0.992,0.987,0.977,0.966,0.945,{"v":0.9,"d":"0.900"},{"v":0.82,"d":"0.820"},{"v":0.61,"d":"0.610"},{"v":0.31,"d":"0.310"},{"v":0.06,"d":"0.060"},{"v":0,"d":"0.000"},{"v":0,"d":"0.000"},{"v":0,"d":"0.000"},{"v":0,"d":"0.000"},{"v":0,"d":"0.000"},"","","","","","",0.963,0.954,0.926,0.992,0.995,0.995,0.995,0.996,0.995,0.995,0.997,0.998,0.997,0.997,0.997,0.997,0.997,0.997,0.997,0.996,0.994,0.992,0.989,0.984,0.975,0.954,0.932,0.893,{"v":0.82,"d":"0.820"},{"v":0.67,"d":"0.670"},{"v":0.38,"d":"0.380"},{"v":0.09,"d":"0.090"},{"v":0,"d":"0.000"},{"v":0,"d":"0.000"},{"v":0,"d":"0.000"},{"v":0,"d":"0.000"},{"v":0,"d":"0.000"},{"v":0,"d":"0.000"}]
["E-ADF50",2.6680422,0,-1.3184258,-2,2.3930479,-2,2.3928655,-4,5.0697941,-5,9.1240958,-7,"","","","","","","","","","","","","","","","","","","","","","","","","","","","","","","","","","","","","","","","","","","","","","","","","","",0.986,0.984,0.976,0.996,0.997,0.997,0.998,0.997,0.996,0.996,0.996,0.996,0.996,0.997,0.997,0.997,0.997,0.997,0.997,0.998,0.996,0.994,{"v":0.99,"d":"0.990"},0.984,0.975,0.953,{"v":0.93,"d":"0.930"},{"v":0.89,"d":"0.890"},{"v":0.8,"d":"0.800"},{"v":0.62,"d":"0.620"},{"v":0.3,"d":"0.300"},{"v":0.06,"d":"0.060"},{"v":0,"d":"0.000"},{"v":0,"d":"0.000"},{"v":0,"d":"0.000"},{"v":0,"d":"0.000"},{"v":0,"d":"0.000"},{"v":0,"d":"0.000"},"","","","","","",0.972,0.967,0.953,0.993,0.995,0.994,0.995,0.994,0.993,0.992,0.993,0.992,0.993,0.993,0.993,0.993,0.994,0.995,0.995,0.995,0.992,0.987,{"v":0.98,"d":"0.980"},0.969,{"v":0.95,"d":"0.950"},0.909,{"v":0.87,"d":"0.870"},{"v":0.79,"d":"0.790"},{"v":0.63,"d":"0.630"},{"v":0.38,"d":"0.380"},{"v":0.09,"d":"0.090"},{"v":0,"d":"0.000"},{"v":0,"d":"0.000"},{"v":0,"d":"0.000"},{"v":0,"d":"0.000"},{"v":0,"d":"0.000"},{"v":0,"d":"0.000"},{"v":0,"d":"0.000"}]
["E-BACD10",2.5906326,0,-1.0608994,-2,1.4490916,-2,6.7542247,-4,-5.5303116,-5,3.0061364,-6,"","","","","","","","","","","","","","","","","","","","","","","","","","","","","","","","","","","","","","","","","","","","","","","","","","",0.997,0.997,0.996,0.999,0.999,0.999,0.999,0.999,0.999,0.999,0.999,0.999,0.999,0.999,0.999,0.999,0.999,0.999,0.999,0.999,0.999,0.999,0.999,0.999,0.999,0.997,0.994,0.991,0.983,0.968,{"v":0.94,"d":"0.940"},{"v":0.89,"d":"0.890"},{"v":0.81,"d":"0.810"},{"v":0.68,"d":"0.680"},{"v":0.5,"d":"0.500"},{"v":0.28,"d":"0.280"},{"v":0.11,"d":"0.110"},{"v":0.03,"d":"0.030"},"","","","","","",0.995,0.994,0.992,0.998,0.999,0.999,0.999,0.999,0.999,0.999,0.999,0.999,0.999,0.999,0.999,0.999,0.999,0.999,0.999,0.999,0.999,0.999,0.999,0.998,0.998,0.994,0.989,0.983,0.967,0.938,0.884,{"v":0.8,"d":"0.800"},{"v":0.66,"d":"0.660"},{"v":0.47,"d":"0.470"},{"v":0.25,"d":"0.250"},{"v":0.08,"d":"0.080"},{"v":0.01,"d":"0.010"},{"v":0,"d":"0.000"}]
["E-BACED20",2.6667537,0,-9.7319259,-3,1.7436284,-2,4.7558015,-4,-1.7144989,-5,1.1049589,-6,"","","","","","","","","","","","","","","","","","","","","","","","","","","","","","","","","","","","","","","","","","","","","","","","","","",0.998,0.998,0.997,0.999,0.999,0.999,0.999,0.999,0.999,0.999,0.999,0.999,0.999,0.999,0.999,0.999,0.999,0.999,0.999,0.999,0.998,0.998,0.997,0.996,0.995,0.992,0.989,0.983,0.972,{"v":0.95,"d":"0.950"},{"v":0.91,"d":"0.910"},{"v":0.84,"d":"0.840"},{"v":0.73,"d":"0.730"},{"v":0.57,"d":"0.570"},{"v":0.38,"d":"0.380"},{"v":0.19,"d":"0.190"},{"v":0.07,"d":"0.070"},{"v":0.02,"d":"0.020"},"","","","","","",0.995,0.995,0.994,0.997,0.997,0.997,0.997,0.998,0.998,0.998,0.998,0.998,0.998,0.998,0.998,0.997,0.997,0.997,0.997,0.997,0.996,0.995,0.994,0.992,{"v":0.99,"d":"0.990"},0.984,0.978,0.966,0.945,0.903,{"v":0.82,"d":"0.820"},{"v":0.7,"d":"0.700"},{"v":0.53,"d":"0.530"},{"v":0.32,"d":"0.320"},{"v":0.14,"d":"0.140"},{"v":0.04,"d":"0.040"},{"v":0.01,"d":"0.010"},{"v":0,"d":"0.000"}]
["E-BAF8",2.5801121,0,-7.9717945,-3,1.9728054,-2,1.3876076,-4,3.7632071,-5,-7.4634717,-7,"","","","","","","","","","","","","","","","","","","","","","","","","","","","","","","","","","","","","","","","","","","","","","","","","","",0.997,0.997,0.995,0.999,0.999,0.999,0.999,0.999,0.999,0.999,0.999,0.999,0.999,0.999,0.999,0.999,0.999,0.999,0.999,0.999,0.998,0.997,0.996,0.995,0.992,0.981,0.967,{"v":0.94,"d":"0.940"},{"v":0.89,"d":"0.890"},{"v":0.78,"d":"0.780"},{"v":0.57,"d":"0.570"},{"v":0.28,"d":"0.280"},{"v":0.06,"d":"0.060"},{"v":0,"d":"0.000"},{"v":0,"d":"0.000"},{"v":0,"d":"0.000"},{"v":0,"d":"0.000"},{"v":0,"d":"0.000"},"","","","","","",0.995,0.993,0.991,0.998,0.999,0.999,0.998,0.998,0.999,0.999,0.999,0.999,0.999,0.999,0.999,0.999,0.998,0.997,0.998,0.998,0.996,0.995,0.993,{"v":0.99,"d":"0.990"},0.984,0.962,0.934,0.883,{"v":0.79,"d":"0.790"},{"v":0.61,"d":"0.610"},{"v":0.32,"d":"0.320"},{"v":0.08,"d":"0.080"},{"v":0,"d":"0.000"},{"v":0,"d":"0.000"},{"v":0,"d":"0.000"},{"v":0,"d":"0.000"},{"v":0,"d":"0.000"},{"v":0,"d":"0.000"}]
["E-C3",2.2725452,0,{"v":-8.410491,"d":"-8.4104910"},-3,1.1306843,-2,3.7782297,-4,-2.6903423,-5,1.5976489,-6,"","","","","","",0.998,0.998,0.999,0.999,0.999,0.999,0.999,0.999,0.999,0.999,0.999,0.999,0.999,0.999,0.999,0.999,0.999,0.999,0.999,0.999,0.999,0.998,0.999,0.999,0.998,0.998,0.998,0.998,0.997,0.998,0.995,0.994,0.986,0.973,0.935,0.842,0.677,0.454,"","","","","","",0.995,0.996,0.998,0.998,0.998,0.998,0.999,0.999,0.999,0.999,0.999,0.999,0.999,0.999,0.999,0.999,0.999,0.998,0.998,0.997,0.997,0.996,0.997,0.997,0.995,0.994,0.995,0.994,0.992,0.995,0.988,0.985,0.966,0.933,0.844,{"v":0.65,"d":"0.650"},0.376,0.139,"","","","","","",0.991,0.991,0.996,0.996,0.997,0.997,0.998,0.998,0.998,0.998,0.998,0.999,0.999,0.999,0.999,0.999,0.997,0.995,0.996,0.994,0.993,0.992,0.993,0.993,{"v":0.99,"d":"0.990"},0.989,0.991,0.988,0.984,0.991,0.975,0.969,0.932,0.871,0.712,0.422,0.142,0.019]
["E-CF6",2.2668912,0,-9.3866212,-3,1.2174195,-2,{"v":5.076903,"d":"5.0769030"},-4,-3.3573414,-5,2.9059013,-6,"","","","","","",0.998,0.999,0.999,0.999,0.999,0.999,0.999,0.999,0.999,0.999,0.999,0.999,0.999,0.999,0.999,0.999,0.999,0.999,0.999,0.999,0.998,0.998,0.997,0.997,0.997,0.996,0.996,0.993,0.987,0.967,{"v":0.89,"d":"0.890"},0.684,{"v":0.33,"d":"0.330"},{"v":0,"d":"0.000"},{"v":0,"d":"0.000"},{"v":0,"d":"0.000"},{"v":0,"d":"0.000"},{"v":0,"d":"0.000"},"","","","","","",0.996,0.997,0.997,0.998,0.999,0.999,0.999,0.999,0.999,0.999,0.999,0.999,0.999,0.999,0.999,0.999,0.998,0.997,0.998,0.998,0.995,0.995,0.993,0.993,0.993,0.991,0.989,0.983,0.969,{"v":0.92,"d":"0.920"},0.748,0.387,0.063,{"v":0,"d":"0.000"},{"v":0,"d":"0.000"},{"v":0,"d":"0.000"},{"v":0,"d":"0.000"},{"v":0,"d":"0.000"},"","","","","","",0.993,0.995,0.995,0.996,0.998,0.998,0.998,0.998,0.998,0.998,0.998,0.998,0.998,0.998,0.998,0.998,0.996,0.994,0.996,0.996,{"v":0.99,"d":"0.990"},0.989,0.986,0.986,0.985,0.982,0.978,0.967,0.939,0.847,0.559,{"v":0.15,"d":"0.150"},{"v":0,"d":"0.000"},{"v":0,"d":"0.000"},{"v":0,"d":"0.000"},{"v":0,"d":"0.000"},{"v":0,"d":"0.000"},{"v":0,"d":"0.000"}]
["E-F1",2.5730565,0,-1.0203605,-2,2.3095784,-2,8.7114252,-4,-3.0730079,-5,6.9457986,-6,"","","","","","","","","","","","","","","","","","","","","","","","","","","","","","","","","","","","","","","","","","","","","","","","","","",0.996,0.996,0.996,0.999,0.999,0.999,0.999,0.999,0.999,0.999,0.999,0.999,0.999,0.999,0.998,0.998,0.998,0.998,0.998,0.999,0.996,0.995,0.993,0.991,0.988,0.972,0.947,0.877,0.704,0.345,{"v":0,"d":"0.000"},{"v":0,"d":"0.000"},{"v":0,"d":"0.000"},{"v":0,"d":"0.000"},{"v":0,"d":"0.000"},{"v":0,"d":"0.000"},{"v":0,"d":"0.000"},{"v":0,"d":"0.000"},"","","","","","",0.992,0.993,0.992,0.997,0.997,0.997,0.997,0.997,0.997,0.997,0.997,0.998,0.998,0.997,0.997,0.996,0.997,0.997,0.997,0.997,0.993,0.989,0.986,0.982,0.976,0.946,0.896,0.769,0.495,0.119,{"v":0,"d":"0.000"},{"v":0,"d":"0.000"},{"v":0,"d":"0.000"},{"v":0,"d":"0.000"},{"v":0,"d":"0.000"},{"v":0,"d":"0.000"},{"v":0,"d":"0.000"},{"v":0,"d":"0.000"}]
["E-F2",2.5561822,0,-1.0237038,-2,2.2470348,-2,8.4580679,-4,-3.3087089,-5,7.1054919,-6,"","","","","","",0.999,0.999,0.998,0.999,0.999,0.999,0.999,0.999,0.999,0.999,0.999,0.999,0.999,0.999,0.999,0.999,0.999,0.998,0.999,0.999,0.998,0.997,0.996,0.996,0.995,{"v":0.99,"d":"0.990"},0.981,0.957,0.885,0.682,0.312,{"v":0,"d":"0.000"},{"v":0,"d":"0.000"},{"v":0,"d":"0.000"},{"v":0,"d":"0.000"},{"v":0,"d":"0.000"},{"v":0,"d":"0.000"},{"v":0,"d":"0.000"},"","","","","","",0.998,0.998,0.996,0.999,0.999,0.999,0.999,0.999,0.999,0.999,0.999,0.999,0.999,0.999,0.999,0.999,0.997,0.996,0.997,0.998,0.995,0.992,0.991,{"v":0.99,"d":"0.990"},0.987,0.976,0.954,0.895,0.736,0.384,0.054,{"v":0,"d":"0.000"},{"v":0,"d":"0.000"},{"v":0,"d":"0.000"},{"v":0,"d":"0.000"},{"v":0,"d":"0.000"},{"v":0,"d":"0.000"},{"v":0,"d":"0.000"},"","","","","","",0.995,0.995,0.993,0.999,0.999,0.999,0.998,0.998,0.998,0.998,0.998,0.998,0.998,0.998,0.998,0.998,0.994,0.993,0.995,0.995,0.989,0.985,0.982,0.981,0.974,0.952,{"v":0.91,"d":"0.910"},0.802,0.542,0.147,{"v":0,"d":"0.000"},{"v":0,"d":"0.000"},{"v":0,"d":"0.000"},{"v":0,"d":"0.000"},{"v":0,"d":"0.000"},{"v":0,"d":"0.000"},{"v":0,"d":"0.000"},{"v":0,"d":"0.000"}]
["E-F3",2.5362697,0,-1.0610424,-2,2.1233821,-2,9.9012105,-4,-5.9984348,-5,8.2354366,-6,"","","","","","","","","","","","","","","","","","","","","","","","","","","","","","","","","","","","","","","","","","","","","","","","","","",0.997,0.998,0.995,0.999,0.999,0.999,0.999,0.999,0.999,0.999,0.999,0.999,0.999,0.999,0.999,0.999,0.999,0.998,0.999,0.999,0.996,0.995,0.993,0.992,0.988,0.974,0.949,{"v":0.88,"d":"0.880"},{"v":0.71,"d":"0.710"},{"v":0.41,"d":"0.410"},0.117,{"v":0,"d":"0.000"},{"v":0,"d":"0.000"},{"v":0,"d":"0.000"},{"v":0,"d":"0.000"},{"v":0,"d":"0.000"},{"v":0,"d":"0.000"},{"v":0,"d":"0.000"},"","","","","","",0.995,0.995,{"v":0.99,"d":"0.990"},0.999,0.999,0.999,0.998,0.998,0.998,0.999,0.999,0.999,0.999,0.999,0.998,0.998,0.998,0.997,0.998,0.998,0.993,{"v":0.99,"d":"0.990"},0.986,0.983,0.977,0.949,0.901,0.775,0.504,0.168,0.014,{"v":0,"d":"0.000"},{"v":0,"d":"0.000"},{"v":0,"d":"0.000"},{"v":0,"d":"0.000"},{"v":0,"d":"0.000"},{"v":0,"d":"0.000"},{"v":0,"d":"0.000"}]
["E-F5",2.5095673,0,-1.0862661,-2,1.9894774,-2,1.0137134,-3,-6.2697117,-5,7.5080045,-6,"","","","","","",0.999,0.999,0.998,0.999,0.999,0.999,0.999,0.999,0.999,0.999,0.999,0.999,0.999,0.999,0.999,0.999,0.999,0.999,0.999,0.999,0.998,0.998,0.997,0.997,0.996,0.991,0.983,0.961,0.895,0.717,{"v":0.39,"d":"0.390"},{"v":0,"d":"0.000"},{"v":0,"d":"0.000"},{"v":0,"d":"0.000"},{"v":0,"d":"0.000"},{"v":0,"d":"0.000"},{"v":0,"d":"0.000"},{"v":0,"d":"0.000"},"","","","","","",0.997,0.997,0.995,0.999,0.999,0.999,0.999,0.999,0.999,0.999,0.999,0.999,0.999,0.999,0.999,0.999,0.998,0.997,0.998,0.998,0.996,0.994,0.993,0.992,0.989,0.978,0.957,0.906,0.758,0.435,0.095,{"v":0,"d":"0.000"},{"v":0,"d":"0.000"},{"v":0,"d":"0.000"},{"v":0,"d":"0.000"},{"v":0,"d":"0.000"},{"v":0,"d":"0.000"},{"v":0,"d":"0.000"},"","","","","","",0.994,0.994,{"v":0.99,"d":"0.990"},0.998,0.998,0.998,0.998,0.998,0.998,0.998,0.999,0.999,0.999,0.999,0.999,0.999,0.996,0.994,0.997,0.996,0.991,0.988,0.985,0.984,0.978,0.957,0.916,{"v":0.82,"d":"0.820"},0.574,{"v":0.19,"d":"0.190"},{"v":0,"d":"0.000"},{"v":0,"d":"0.000"},{"v":0,"d":"0.000"},{"v":0,"d":"0.000"},{"v":0,"d":"0.000"},{"v":0,"d":"0.000"},{"v":0,"d":"0.000"},{"v":0,"d":"0.000"}]
["E-F8",2.4866561,0,-1.0188484,-2,1.9287417,-2,8.8553737,-4,-5.0937106,-5,6.4256956,-6,"","","","","","","","","","","","","","","","","","","","","","","","","","","","","","","","","","","","","","","","","","","","","","","","","","",0.999,0.999,0.997,0.999,0.999,0.999,0.999,0.999,0.999,0.999,0.999,0.999,0.999,0.999,0.999,0.999,0.999,0.998,0.999,0.999,0.997,0.996,0.995,0.994,0.992,0.982,0.966,0.922,{"v":0.8,"d":"0.800"},0.506,0.123,{"v":0,"d":"0.000"},{"v":0,"d":"0.000"},{"v":0,"d":"0.000"},{"v":0,"d":"0.000"},{"v":0,"d":"0.000"},{"v":0,"d":"0.000"},{"v":0,"d":"0.000"},"","","","","","",0.997,0.997,0.995,0.999,0.999,0.999,0.999,0.999,0.999,0.999,0.999,0.999,0.999,0.999,0.999,0.999,0.999,0.996,0.998,0.998,0.994,0.992,0.991,0.988,0.984,0.965,0.934,0.851,0.641,0.256,0.015,{"v":0,"d":"0.000"},{"v":0,"d":"0.000"},{"v":0,"d":"0.000"},{"v":0,"d":"0.000"},{"v":0,"d":"0.000"},{"v":0,"d":"0.000"},{"v":0,"d":"0.000"}]
["E-FD1",2.8508499,0,{"v":-1.323461,"d":"-1.3234610"},-2,2.9415325,-2,2.5542666,-3,-2.1232133,-4,2.2261936,-5,"","","","","","",0.998,0.998,0.998,0.999,0.999,0.999,0.999,0.999,0.999,0.999,0.999,0.999,0.999,0.999,0.999,0.999,0.999,0.999,0.999,0.999,0.998,0.997,0.996,0.994,{"v":0.99,"d":"0.990"},0.977,0.958,0.911,0.776,0.457,{"v":0,"d":"0.000"},{"v":0,"d":"0.000"},{"v":0,"d":"0.000"},{"v":0,"d":"0.000"},{"v":0,"d":"0.000"},{"v":0,"d":"0.000"},{"v":0,"d":"0.000"},{"v":0,"d":"0.000"},"","","","","","",0.995,0.996,0.996,0.999,0.999,0.999,0.999,0.999,0.999,0.999,0.999,0.999,0.999,0.998,0.998,0.998,0.998,0.998,0.997,0.996,0.994,0.993,{"v":0.99,"d":"0.990"},0.985,0.976,0.944,0.899,0.793,{"v":0.53,"d":"0.530"},0.141,{"v":0,"d":"0.000"},{"v":0,"d":"0.000"},{"v":0,"d":"0.000"},{"v":0,"d":"0.000"},{"v":0,"d":"0.000"},{"v":0,"d":"0.000"},{"v":0,"d":"0.000"},{"v":0,"d":"0.000"},"","","","","","",0.991,0.992,0.992,0.998,0.998,0.998,0.998,0.998,0.998,0.998,0.998,0.998,0.998,0.997,0.997,0.997,0.996,0.996,0.994,0.993,0.989,0.986,0.981,0.971,0.953,0.892,0.809,0.629,0.281,{"v":0.02,"d":"0.020"},{"v":0,"d":"0.000"},{"v":0,"d":"0.000"},{"v":0,"d":"0.000"},{"v":0,"d":"0.000"},{"v":0,"d":"0.000"},{"v":0,"d":"0.000"},{"v":0,"d":"0.000"},{"v":0,"d":"0.000"}]
["E-FD10",{"v":2.881518,"d":"2.8815180"},0,-1.3228312,-2,{"v":3.145559,"d":"3.1455590"},-2,2.6851666,-3,-2.2577544,-4,2.4693268,-5,"","","","","","",0.999,0.999,0.999,0.999,0.999,0.999,0.999,0.999,0.999,0.999,0.999,0.999,0.999,0.999,0.999,0.999,0.999,0.999,0.999,0.999,0.997,0.996,0.995,0.993,0.987,0.969,{"v":0.94,"d":"0.940"},{"v":0.87,"d":"0.870"},{"v":0.7,"d":"0.700"},0.396,{"v":0,"d":"0.000"},{"v":0,"d":"0.000"},{"v":0,"d":"0.000"},{"v":0,"d":"0.000"},{"v":0,"d":"0.000"},{"v":0,"d":"0.000"},{"v":0,"d":"0.000"},{"v":0,"d":"0.000"},"","","","","","",0.998,0.998,0.997,0.999,0.999,0.999,0.999,0.999,0.999,0.999,0.999,0.999,0.999,0.999,0.999,0.999,0.997,0.997,0.998,0.997,0.993,{"v":0.99,"d":"0.990"},0.986,0.982,0.968,0.923,0.856,0.705,0.409,0.099,{"v":0,"d":"0.000"},{"v":0,"d":"0.000"},{"v":0,"d":"0.000"},{"v":0,"d":"0.000"},{"v":0,"d":"0.000"},{"v":0,"d":"0.000"},{"v":0,"d":"0.000"},{"v":0,"d":"0.000"},"","","","","","",0.995,0.995,0.994,0.999,0.999,0.999,0.999,0.999,0.999,0.999,0.999,0.999,0.998,0.998,0.998,0.998,0.995,0.994,0.996,0.994,0.985,{"v":0.98,"d":"0.980"},0.973,0.964,0.937,0.853,0.733,0.497,0.168,{"v":0,"d":"0.000"},{"v":0,"d":"0.000"},{"v":0,"d":"0.000"},{"v":0,"d":"0.000"},{"v":0,"d":"0.000"},{"v":0,"d":"0.000"},{"v":0,"d":"0.000"},{"v":0,"d":"0.000"},{"v":0,"d":"0.000"}]
["E-FD10L",2.8819845,0,-1.3360032,-2,3.1090844,-2,2.8218544,-3,{"v":-2.545828,"d":"-2.5458280"},-4,2.7374245,-5,0.964,0.972,0.981,0.991,0.995,0.998,0.998,0.998,0.999,0.999,0.999,0.999,0.999,0.999,0.999,0.999,0.999,0.999,0.999,0.999,0.999,0.999,0.999,0.999,0.999,0.999,0.998,0.998,0.997,0.995,{"v":0.99,"d":"0.990"},0.971,0.942,{"v":0.87,"d":"0.870"},0.692,0.249,{"v":0,"d":"0.000"},{"v":0,"d":"0.000"},{"v":0,"d":"0.000"},{"v":0,"d":"0.000"},{"v":0,"d":"0.000"},{"v":0,"d":"0.000"},{"v":0,"d":"0.000"},{"v":0,"d":"0.000"},0.912,0.931,0.953,0.978,0.986,0.995,0.996,0.996,0.996,0.999,0.999,0.999,0.999,0.999,0.999,0.999,0.999,0.999,0.999,0.999,0.999,0.999,0.998,0.998,0.998,0.998,0.996,0.994,0.992,0.988,0.975,0.929,0.862,0.705,0.398,{"v":0,"d":"0.000"},{"v":0,"d":"0.000"},{"v":0,"d":"0.000"},{"v":0,"d":"0.000"},{"v":0,"d":"0.000"},{"v":0,"d":"0.000"},{"v":0,"d":"0.000"},{"v":0,"d":"0.000"},{"v":0,"d":"0.000"},0.831,0.868,0.909,0.957,0.973,{"v":0.99,"d":"0.990"},0.992,0.992,0.993,0.998,0.998,0.998,0.998,0.998,0.998,0.998,0.998,0.999,0.999,0.998,0.998,0.998,0.997,0.997,0.997,0.996,0.992,0.989,0.985,0.975,0.951,0.864,0.743,0.497,0.158,{"v":0,"d":"0.000"},{"v":0,"d":"0.000"},{"v":0,"d":"0.000"},{"v":0,"d":"0.000"},{"v":0,"d":"0.000"},{"v":0,"d":"0.000"},{"v":0,"d":"0.000"},{"v":0,"d":"0.000"},{"v":0,"d":"0.000"}]
["E-FD13",2.9205906,0,-1.3681618,-2,{"v":3.256776,"d":"3.2567760"},-2,2.8725519,-3,-2.4277107,-4,2.6614514,-5,"","","","","","",0.999,0.999,0.999,0.999,0.999,0.999,0.999,0.999,0.999,0.999,0.999,0.999,0.999,0.999,0.999,0.999,0.999,0.998,0.999,0.999,0.997,0.996,0.995,0.992,0.987,0.967,0.937,0.866,0.699,0.396,{"v":0,"d":"0.000"},{"v":0,"d":"0.000"},{"v":0,"d":"0.000"},{"v":0,"d":"0.000"},{"v":0,"d":"0.000"},{"v":0,"d":"0.000"},{"v":0,"d":"0.000"},{"v":0,"d":"0.000"},"","","","","","",0.999,0.999,0.999,0.999,0.999,0.999,0.999,0.999,0.999,0.999,0.999,0.999,0.999,0.999,0.999,0.998,0.997,0.995,0.998,0.997,0.993,{"v":0.99,"d":"0.990"},0.986,{"v":0.98,"d":"0.980"},0.967,0.919,0.849,0.698,0.409,0.099,{"v":0,"d":"0.000"},{"v":0,"d":"0.000"},{"v":0,"d":"0.000"},{"v":0,"d":"0.000"},{"v":0,"d":"0.000"},{"v":0,"d":"0.000"},{"v":0,"d":"0.000"},{"v":0,"d":"0.000"},"","","","","","",0.997,0.997,0.998,0.999,0.999,0.999,0.999,0.999,0.999,0.999,0.999,0.999,0.999,0.998,0.998,0.996,0.995,0.991,0.995,0.995,0.985,0.979,0.973,0.961,0.936,0.845,0.722,0.487,0.167,{"v":0,"d":"0.000"},{"v":0,"d":"0.000"},{"v":0,"d":"0.000"},{"v":0,"d":"0.000"},{"v":0,"d":"0.000"},{"v":0,"d":"0.000"},{"v":0,"d":"0.000"},{"v":0,"d":"0.000"},{"v":0,"d":"0.000"}]
["E-FD15",2.7919943,0,-1.2311206,-2,2.8802741,-2,2.1430059,-3,-1.6932119,-4,1.9741766,-5,"","","","","","",0.999,0.999,0.999,0.999,0.999,0.999,0.999,0.999,0.999,0.999,0.999,0.999,0.999,0.999,0.999,0.999,0.999,0.998,0.999,0.999,0.997,0.996,0.995,0.993,0.989,0.973,0.948,0.885,0.746,0.511,0.191,{"v":0,"d":"0.000"},{"v":0,"d":"0.000"},{"v":0,"d":"0.000"},{"v":0,"d":"0.000"},{"v":0,"d":"0.000"},{"v":0,"d":"0.000"},{"v":0,"d":"0.000"},"","","","","","",0.997,0.997,0.998,0.999,0.999,0.999,0.999,0.999,0.999,0.999,0.999,0.999,0.999,0.999,0.999,0.998,0.998,0.996,0.998,0.998,0.993,{"v":0.99,"d":"0.990"},0.987,0.983,0.974,0.935,0.875,0.736,0.481,0.187,0.016,{"v":0,"d":"0.000"},{"v":0,"d":"0.000"},{"v":0,"d":"0.000"},{"v":0,"d":"0.000"},{"v":0,"d":"0.000"},{"v":0,"d":"0.000"},{"v":0,"d":"0.000"},"","","","","","",0.997,0.996,0.996,0.998,0.999,0.999,0.998,0.998,0.998,0.998,0.998,0.998,0.998,0.998,0.998,0.997,0.995,0.992,0.996,0.996,0.986,{"v":0.98,"d":"0.980"},0.973,0.966,0.948,0.874,0.765,0.542,0.231,0.035,{"v":0,"d":"0.000"},{"v":0,"d":"0.000"},{"v":0,"d":"0.000"},{"v":0,"d":"0.000"},{"v":0,"d":"0.000"},{"v":0,"d":"0.000"},{"v":0,"d":"0.000"},{"v":0,"d":"0.000"}]
["E-FD15L",2.7924658,0,-1.2540598,-2,2.8359569,-2,2.3368977,-3,-2.0763765,-4,2.2481601,-5,0.962,0.972,{"v":0.98,"d":"0.980"},0.992,0.995,0.998,0.999,0.999,0.999,0.999,0.999,0.999,0.999,0.999,0.999,0.999,0.999,0.999,0.999,0.999,0.999,0.999,0.999,0.999,0.999,0.999,0.998,0.998,0.997,0.996,0.992,0.977,0.953,{"v":0.89,"d":"0.890"},0.717,0.328,0.031,{"v":0,"d":"0.000"},{"v":0,"d":"0.000"},{"v":0,"d":"0.000"},{"v":0,"d":"0.000"},{"v":0,"d":"0.000"},{"v":0,"d":"0.000"},{"v":0,"d":"0.000"},0.908,0.931,0.951,0.979,0.988,0.996,0.997,0.997,0.997,0.999,0.999,0.999,0.999,0.999,0.999,0.999,0.999,0.999,0.999,0.999,0.999,0.999,0.999,0.999,0.999,0.999,0.996,0.995,0.993,{"v":0.99,"d":"0.990"},{"v":0.98,"d":"0.980"},0.943,0.887,0.747,0.435,0.061,{"v":0,"d":"0.000"},{"v":0,"d":"0.000"},{"v":0,"d":"0.000"},{"v":0,"d":"0.000"},{"v":0,"d":"0.000"},{"v":0,"d":"0.000"},{"v":0,"d":"0.000"},{"v":0,"d":"0.000"},0.825,0.867,0.905,0.958,0.976,0.992,0.993,0.993,0.994,0.998,0.999,0.999,0.998,0.998,0.998,0.998,0.999,0.998,0.999,0.999,0.999,0.998,0.999,0.998,0.998,0.997,0.992,{"v":0.99,"d":"0.990"},0.987,{"v":0.98,"d":"0.980"},{"v":0.96,"d":"0.960"},{"v":0.89,"d":"0.890"},0.787,0.558,{"v":0.19,"d":"0.190"},{"v":0,"d":"0.000"},{"v":0,"d":"0.000"},{"v":0,"d":"0.000"},{"v":0,"d":"0.000"},{"v":0,"d":"0.000"},{"v":0,"d":"0.000"},{"v":0,"d":"0.000"},{"v":0,"d":"0.000"},{"v":0,"d":"0.000"}]
["E-FD1L",2.8496451,0,-1.2662471,-2,3.0196873,-2,2.3492982,-3,-1.9216545,-4,2.1946899,-5,0.961,0.969,0.979,{"v":0.99,"d":"0.990"},0.994,0.997,0.998,0.998,0.998,0.999,0.999,0.999,0.999,0.999,0.999,0.999,0.999,0.999,{"v":1,"d":"1.000"},0.999,0.999,0.999,0.999,0.999,0.999,0.999,0.998,0.997,0.997,0.995,{"v":0.99,"d":"0.990"},0.974,0.948,0.885,0.728,0.287,0.028,{"v":0,"d":"0.000"},{"v":0,"d":"0.000"},{"v":0,"d":"0.000"},{"v":0,"d":"0.000"},{"v":0,"d":"0.000"},{"v":0,"d":"0.000"},{"v":0,"d":"0.000"},0.905,0.924,0.949,0.975,0.984,0.992,0.994,0.994,0.994,0.997,0.997,0.997,0.997,0.997,0.997,0.998,0.998,0.998,0.999,0.997,0.997,0.997,0.997,0.997,0.997,0.996,0.994,0.993,0.991,0.987,0.976,0.936,0.875,0.736,0.453,0.057,{"v":0,"d":"0.000"},{"v":0,"d":"0.000"},{"v":0,"d":"0.000"},{"v":0,"d":"0.000"},{"v":0,"d":"0.000"},{"v":0,"d":"0.000"},{"v":0,"d":"0.000"},{"v":0,"d":"0.000"},0.819,0.854,0.901,{"v":0.95,"d":"0.950"},0.969,0.985,0.988,0.989,0.989,0.994,0.995,0.995,0.995,0.995,0.995,0.996,0.997,0.997,0.998,0.994,0.995,0.995,0.994,0.994,0.994,0.993,0.989,0.986,0.983,0.975,0.953,0.876,0.766,0.542,0.205,{"v":0,"d":"0.000"},{"v":0,"d":"0.000"},{"v":0,"d":"0.000"},{"v":0,"d":"0.000"},{"v":0,"d":"0.000"},{"v":0,"d":"0.000"},{"v":0,"d":"0.000"},{"v":0,"d":"0.000"},{"v":0,"d":"0.000"}]
["E-FD2",2.6399644,0,-1.1645718,-2,2.3061733,-2,1.7348219,-3,-1.3986059,-4,{"v":1.391667,"d":"1.3916670"},-5,"","","","","","",0.999,0.999,0.999,0.999,0.999,0.999,0.999,0.999,0.999,0.999,0.999,0.999,0.999,0.999,0.999,0.999,0.999,0.999,0.999,0.999,0.999,0.998,0.997,0.996,0.995,0.989,0.977,0.949,0.869,0.659,0.303,{"v":0,"d":"0.000"},{"v":0,"d":"0.000"},{"v":0,"d":"0.000"},{"v":0,"d":"0.000"},{"v":0,"d":"0.000"},{"v":0,"d":"0.000"},{"v":0,"d":"0.000"},"","","","","","",0.998,0.998,0.998,0.999,0.999,0.999,0.999,0.999,0.999,0.999,0.999,0.999,0.999,0.999,0.999,0.999,0.998,0.998,0.999,0.998,0.997,0.995,0.993,0.991,0.987,0.972,0.944,0.877,0.704,0.352,0.051,{"v":0,"d":"0.000"},{"v":0,"d":"0.000"},{"v":0,"d":"0.000"},{"v":0,"d":"0.000"},{"v":0,"d":"0.000"},{"v":0,"d":"0.000"},{"v":0,"d":"0.000"},"","","","","","",0.995,0.996,0.996,0.999,0.999,0.999,0.999,0.999,0.999,0.998,0.998,0.998,0.998,0.998,0.998,0.998,0.996,0.996,0.997,0.996,0.994,0.991,0.986,0.983,0.975,0.945,0.891,0.769,0.496,0.124,{"v":0,"d":"0.000"},{"v":0,"d":"0.000"},{"v":0,"d":"0.000"},{"v":0,"d":"0.000"},{"v":0,"d":"0.000"},{"v":0,"d":"0.000"},{"v":0,"d":"0.000"},{"v":0,"d":"0.000"}]
["E-FD4",2.9673173,0,-1.3989565,-2,{"v":3.345668,"d":"3.3456680"},-2,3.0717804,-3,-2.6682435,-4,2.8950241,-5,"","","","","","",0.999,0.999,0.999,0.999,0.999,0.999,0.999,0.999,0.999,0.999,0.999,0.999,0.999,0.999,0.999,0.999,0.999,0.999,0.999,0.999,0.997,0.996,0.995,0.993,0.989,0.974,0.951,0.888,0.718,0.394,{"v":0,"d":"0.000"},{"v":0,"d":"0.000"},{"v":0,"d":"0.000"},{"v":0,"d":"0.000"},{"v":0,"d":"0.000"},{"v":0,"d":"0.000"},{"v":0,"d":"0.000"},{"v":0,"d":"0.000"},"","","","","","",0.998,0.998,0.998,0.999,0.999,0.999,0.999,0.999,0.999,0.999,0.999,0.999,0.999,0.999,0.999,0.998,0.997,0.998,0.998,0.998,0.994,0.991,0.987,0.983,0.972,0.936,0.882,0.742,0.437,0.097,{"v":0,"d":"0.000"},{"v":0,"d":"0.000"},{"v":0,"d":"0.000"},{"v":0,"d":"0.000"},{"v":0,"d":"0.000"},{"v":0,"d":"0.000"},{"v":0,"d":"0.000"},{"v":0,"d":"0.000"},"","","","","","",0.996,0.996,0.996,0.999,0.999,0.999,0.998,0.998,0.998,0.998,0.998,0.998,0.998,0.998,0.998,0.997,0.993,0.996,0.995,0.996,0.987,0.982,0.974,0.966,0.944,0.876,0.778,0.551,0.191,{"v":0,"d":"0.000"},{"v":0,"d":"0.000"},{"v":0,"d":"0.000"},{"v":0,"d":"0.000"},{"v":0,"d":"0.000"},{"v":0,"d":"0.000"},{"v":0,"d":"0.000"},{"v":0,"d":"0.000"},{"v":0,"d":"0.000"}]
["E-FD4L",2.9677007,0,-1.4006378,-2,3.3049583,-2,3.2455044,-3,{"v":-3.015648,"d":"-3.0156480"},-4,3.1689142,-5,0.963,0.971,0.982,0.991,0.994,0.999,0.999,0.999,0.999,0.999,0.999,0.999,0.999,0.999,0.999,0.999,0.999,0.999,0.999,0.999,0.999,0.999,0.999,0.999,0.999,0.999,0.997,0.996,0.995,0.992,0.985,0.958,0.921,0.834,0.639,0.235,{"v":0,"d":"0.000"},{"v":0,"d":"0.000"},{"v":0,"d":"0.000"},{"v":0,"d":"0.000"},{"v":0,"d":"0.000"},{"v":0,"d":"0.000"},{"v":0,"d":"0.000"},{"v":0,"d":"0.000"},{"v":0.91,"d":"0.910"},0.929,0.956,0.978,0.986,0.996,0.997,0.997,0.998,0.999,0.999,0.999,0.999,0.999,0.999,0.999,0.999,0.999,0.999,0.999,0.998,0.998,0.998,0.997,0.997,0.997,0.994,0.991,0.988,{"v":0.98,"d":"0.980"},0.962,0.899,0.815,0.636,0.326,{"v":0,"d":"0.000"},{"v":0,"d":"0.000"},{"v":0,"d":"0.000"},{"v":0,"d":"0.000"},{"v":0,"d":"0.000"},{"v":0,"d":"0.000"},{"v":0,"d":"0.000"},{"v":0,"d":"0.000"},{"v":0,"d":"0.000"},0.827,0.863,0.914,0.957,0.972,0.993,0.994,0.994,0.996,0.999,0.999,0.999,0.999,0.999,0.999,0.999,0.999,0.999,0.999,0.997,0.997,0.997,0.996,0.995,0.995,0.993,0.987,0.982,0.975,0.961,0.925,0.808,0.664,0.404,0.106,{"v":0,"d":"0.000"},{"v":0,"d":"0.000"},{"v":0,"d":"0.000"},{"v":0,"d":"0.000"},{"v":0,"d":"0.000"},{"v":0,"d":"0.000"},{"v":0,"d":"0.000"},{"v":0,"d":"0.000"},{"v":0,"d":"0.000"}]
["E-FD5",2.7135839,0,-1.1419719,-2,2.6133708,-2,1.7576479,-3,-1.3307737,-4,1.5203351,-5,"","","","","","",0.999,0.999,0.999,0.999,0.999,0.999,0.999,0.999,0.999,0.999,0.999,0.999,0.999,0.999,0.999,0.999,0.999,0.999,0.999,0.999,0.998,0.997,0.996,0.995,0.992,0.984,{"v":0.97,"d":"0.970"},0.929,0.815,0.546,{"v":0,"d":"0.000"},{"v":0,"d":"0.000"},{"v":0,"d":"0.000"},{"v":0,"d":"0.000"},{"v":0,"d":"0.000"},{"v":0,"d":"0.000"},{"v":0,"d":"0.000"},{"v":0,"d":"0.000"},"","","","","","",0.997,0.997,0.997,0.999,0.999,0.998,0.998,0.998,0.998,0.998,0.997,0.997,0.998,0.998,0.999,0.999,0.997,0.997,0.998,0.997,0.994,0.993,{"v":0.99,"d":"0.990"},0.988,0.981,{"v":0.96,"d":"0.960"},0.926,0.832,{"v":0.6,"d":"0.600"},{"v":0.22,"d":"0.220"},{"v":0,"d":"0.000"},{"v":0,"d":"0.000"},{"v":0,"d":"0.000"},{"v":0,"d":"0.000"},{"v":0,"d":"0.000"},{"v":0,"d":"0.000"},{"v":0,"d":"0.000"},{"v":0,"d":"0.000"},"","","","","","",0.994,0.993,0.995,0.998,0.997,0.996,0.996,0.996,0.996,0.996,0.995,0.994,0.996,0.997,0.997,0.997,0.994,0.994,0.995,0.994,0.988,0.985,0.979,0.975,0.962,0.922,0.857,0.692,{"v":0.36,"d":"0.360"},0.048,{"v":0,"d":"0.000"},{"v":0,"d":"0.000"},{"v":0,"d":"0.000"},{"v":0,"d":"0.000"},{"v":0,"d":"0.000"},{"v":0,"d":"0.000"},{"v":0,"d":"0.000"},{"v":0,"d":"0.000"}]
["E-FD7",2.6165865,0,-1.1427854,-2,2.2534361,-2,{"v":1.551289,"d":"1.5512890"},-3,-1.1769852,-4,1.2401891,-5,"","","","","","","","","","","","","","","","","","","","","","","","","","","","","","","","","","","","","","","","","","","","","","","","","","",0.997,0.998,0.997,0.999,0.999,0.999,0.999,0.999,0.999,0.999,0.999,0.999,0.999,0.999,0.999,0.999,0.999,0.997,0.998,0.999,0.996,0.995,0.993,0.991,0.986,0.966,0.934,0.852,{"v":0.65,"d":"0.650"},0.286,{"v":0,"d":"0.000"},{"v":0,"d":"0.000"},{"v":0,"d":"0.000"},{"v":0,"d":"0.000"},{"v":0,"d":"0.000"},{"v":0,"d":"0.000"},{"v":0,"d":"0.000"},{"v":0,"d":"0.000"},"","","","","","",0.994,0.995,0.995,0.999,0.999,0.999,0.998,0.998,0.998,0.998,0.998,0.998,0.998,0.998,0.998,0.998,0.997,0.994,0.997,0.998,0.992,{"v":0.99,"d":"0.990"},0.987,0.982,0.973,0.933,0.872,0.726,0.423,0.082,{"v":0,"d":"0.000"},{"v":0,"d":"0.000"},{"v":0,"d":"0.000"},{"v":0,"d":"0.000"},{"v":0,"d":"0.000"},{"v":0,"d":"0.000"},{"v":0,"d":"0.000"},{"v":0,"d":"0.000"}]
["E-FD8",2.7617586,0,-1.1254039,-2,2.8221737,-2,1.7540315,-3,-1.2127053,-4,1.5522384,-5,"","","","","","",0.999,0.999,0.999,0.999,0.999,0.999,0.999,0.999,0.999,0.999,0.999,0.999,0.999,0.999,0.999,0.999,0.999,0.999,0.999,0.999,0.998,0.998,0.996,0.995,0.992,{"v":0.98,"d":"0.980"},0.962,0.915,{"v":0.79,"d":"0.790"},0.517,0.159,{"v":0,"d":"0.000"},{"v":0,"d":"0.000"},{"v":0,"d":"0.000"},{"v":0,"d":"0.000"},{"v":0,"d":"0.000"},{"v":0,"d":"0.000"},{"v":0,"d":"0.000"},"","","","","","",0.998,0.998,0.998,0.998,0.998,0.998,0.998,0.998,0.998,0.998,0.998,0.998,0.998,0.998,0.998,0.998,0.998,0.997,0.998,0.999,0.994,0.994,0.991,0.988,{"v":0.98,"d":"0.980"},0.951,0.907,{"v":0.8,"d":"0.800"},0.555,0.192,{"v":0.01,"d":"0.010"},{"v":0,"d":"0.000"},{"v":0,"d":"0.000"},{"v":0,"d":"0.000"},{"v":0,"d":"0.000"},{"v":0,"d":"0.000"},{"v":0,"d":"0.000"},{"v":0,"d":"0.000"},"","","","","","",0.995,0.996,0.996,0.998,0.999,0.998,0.998,0.999,0.998,0.999,0.998,0.997,0.997,0.997,0.997,0.997,0.996,0.994,0.996,0.997,0.987,0.988,0.981,0.977,{"v":0.96,"d":"0.960"},0.904,0.822,{"v":0.64,"d":"0.640"},0.308,0.037,{"v":0,"d":"0.000"},{"v":0,"d":"0.000"},{"v":0,"d":"0.000"},{"v":0,"d":"0.000"},{"v":0,"d":"0.000"},{"v":0,"d":"0.000"},{"v":0,"d":"0.000"},{"v":0,"d":"0.000"}]
["E-FD80",2.7659751,0,{"v":-1.262138,"d":"-1.2621380"},-2,{"v":2.715647,"d":"2.7156470"},-2,2.0389447,-3,-1.6485416,-4,1.9350106,-5,0.949,{"v":0.96,"d":"0.960"},0.972,0.986,0.993,0.997,0.998,0.998,0.999,0.999,0.999,0.999,0.999,0.999,0.999,0.999,0.999,0.999,0.999,0.999,0.999,0.999,0.999,0.999,0.999,0.999,0.999,0.998,0.997,0.996,0.994,0.986,{"v":0.97,"d":"0.970"},0.921,0.765,{"v":0,"d":"0.000"},{"v":0,"d":"0.000"},{"v":0,"d":"0.000"},{"v":0,"d":"0.000"},{"v":0,"d":"0.000"},{"v":0,"d":"0.000"},{"v":0,"d":"0.000"},{"v":0,"d":"0.000"},{"v":0,"d":"0.000"},0.877,0.904,{"v":0.93,"d":"0.930"},0.966,0.982,0.993,0.994,0.995,0.997,0.999,0.999,0.999,0.999,0.999,0.999,0.999,0.999,0.998,0.998,0.999,0.999,0.999,0.999,0.999,0.999,0.998,0.996,0.995,0.993,{"v":0.99,"d":"0.990"},0.985,0.965,0.928,0.813,0.512,{"v":0,"d":"0.000"},{"v":0,"d":"0.000"},{"v":0,"d":"0.000"},{"v":0,"d":"0.000"},{"v":0,"d":"0.000"},{"v":0,"d":"0.000"},{"v":0,"d":"0.000"},{"v":0,"d":"0.000"},{"v":0,"d":"0.000"},0.769,0.816,0.866,0.933,0.965,0.986,0.988,0.989,0.993,0.997,0.998,0.998,0.998,0.997,0.997,0.997,0.997,0.997,0.997,0.999,0.999,0.998,0.998,0.997,0.997,0.997,0.993,0.989,0.986,0.981,{"v":0.97,"d":"0.970"},0.931,0.861,0.661,0.263,{"v":0,"d":"0.000"},{"v":0,"d":"0.000"},{"v":0,"d":"0.000"},{"v":0,"d":"0.000"},{"v":0,"d":"0.000"},{"v":0,"d":"0.000"},{"v":0,"d":"0.000"},{"v":0,"d":"0.000"},{"v":0,"d":"0.000"}]
["E-FDS1",3.5044639,0,-2.0333833,-2,{"v":5.38027,"d":"5.3802700"},-2,6.2874192,-3,-5.6922176,-4,7.3559387,-5,0.967,0.978,0.987,0.997,0.999,0.999,0.998,0.998,0.999,0.999,0.999,0.999,0.999,0.999,0.999,0.999,0.999,0.999,0.999,0.999,0.999,0.998,0.999,0.999,0.998,0.997,0.992,0.989,0.983,0.972,0.941,0.822,0.657,0.373,{"v":0,"d":"0.000"},{"v":0,"d":"0.000"},{"v":0,"d":"0.000"},{"v":0,"d":"0.000"},{"v":0,"d":"0.000"},{"v":0,"d":"0.000"},{"v":0,"d":"0.000"},{"v":0,"d":"0.000"},{"v":0,"d":"0.000"},{"v":0,"d":"0.000"},0.919,0.946,0.969,0.993,0.999,0.999,0.995,0.995,0.997,0.998,0.998,0.998,0.998,0.997,0.997,0.997,0.997,0.997,0.997,0.997,0.997,0.996,0.997,0.997,0.996,0.992,{"v":0.98,"d":"0.980"},0.972,0.959,0.932,0.859,0.613,{"v":0.35,"d":"0.350"},0.085,{"v":0,"d":"0.000"},{"v":0,"d":"0.000"},{"v":0,"d":"0.000"},{"v":0,"d":"0.000"},{"v":0,"d":"0.000"},{"v":0,"d":"0.000"},{"v":0,"d":"0.000"},{"v":0,"d":"0.000"},{"v":0,"d":"0.000"},{"v":0,"d":"0.000"},0.845,0.895,0.938,0.987,0.999,0.999,0.993,0.992,0.995,0.998,0.998,0.997,0.999,0.997,0.996,0.996,0.996,0.996,0.997,0.996,0.997,0.997,0.997,0.996,0.993,0.983,{"v":0.96,"d":"0.960"},0.944,0.919,0.868,0.737,0.376,0.122,{"v":0,"d":"0.000"},{"v":0,"d":"0.000"},{"v":0,"d":"0.000"},{"v":0,"d":"0.000"},{"v":0,"d":"0.000"},{"v":0,"d":"0.000"},{"v":0,"d":"0.000"},{"v":0,"d":"0.000"},{"v":0,"d":"0.000"},{"v":0,"d":"0.000"},{"v":0,"d":"0.000"}]
["E-FDS1-W",3.5044639,0,-2.0333833,-2,{"v":5.38027,"d":"5.3802700"},-2,6.2874192,-3,-5.6922176,-4,7.3559387,-5,"","","","","","",0.997,0.996,0.998,0.999,0.999,0.999,0.999,0.999,0.999,0.999,0.999,0.999,0.999,0.999,0.999,0.999,0.999,0.999,0.999,0.999,0.998,0.997,0.995,0.992,0.985,0.934,0.812,0.521,0.063,{"v":0,"d":"0.000"},{"v":0,"d":"0.000"},{"v":0,"d":"0.000"},{"v":0,"d":"0.000"},{"v":0,"d":"0.000"},{"v":0,"d":"0.000"},{"v":0,"d":"0.000"},{"v":0,"d":"0.000"},{"v":0,"d":"0.000"},"","","","","","",0.993,0.991,0.995,0.999,0.999,0.999,0.999,0.999,0.999,0.999,0.999,0.999,0.999,0.999,0.999,0.999,0.999,0.999,0.999,0.998,0.994,0.992,0.988,0.981,0.962,0.842,0.595,0.196,{"v":0,"d":"0.000"},{"v":0,"d":"0.000"},{"v":0,"d":"0.000"},{"v":0,"d":"0.000"},{"v":0,"d":"0.000"},{"v":0,"d":"0.000"},{"v":0,"d":"0.000"},{"v":0,"d":"0.000"},{"v":0,"d":"0.000"},{"v":0,"d":"0.000"},"","","","","","",0.985,0.983,{"v":0.99,"d":"0.990"},0.997,0.998,0.999,0.998,0.999,0.998,0.998,0.998,0.998,0.998,0.999,0.999,0.999,0.998,0.998,0.998,0.996,0.989,0.983,0.976,0.963,0.926,{"v":0.71,"d":"0.710"},0.353,0.039,{"v":0,"d":"0.000"},{"v":0,"d":"0.000"},{"v":0,"d":"0.000"},{"v":0,"d":"0.000"},{"v":0,"d":"0.000"},{"v":0,"d":"0.000"},{"v":0,"d":"0.000"},{"v":0,"d":"0.000"},{"v":0,"d":"0.000"},{"v":0,"d":"0.000"}]
["E-FDS2",3.7672603,0,-1.7001227,-2,6.9849634,-2,6.3862892,-3,-5.0812539,-4,8.4455529,-5,{"v":0.97,"d":"0.970"},{"v":0.98,"d":"0.980"},0.988,0.996,0.998,0.999,0.999,0.999,0.999,0.999,0.999,0.999,0.999,0.999,0.999,0.999,0.999,0.999,0.999,0.999,0.999,0.999,0.999,0.998,0.998,0.997,0.991,0.985,0.976,{"v":0.95,"d":"0.950"},0.855,0.503,{"v":0,"d":"0.000"},{"v":0,"d":"0.000"},{"v":0,"d":"0.000"},{"v":0,"d":"0.000"},{"v":0,"d":"0.000"},{"v":0,"d":"0.000"},{"v":0,"d":"0.000"},{"v":0,"d":"0.000"},{"v":0,"d":"0.000"},{"v":0,"d":"0.000"},{"v":0,"d":"0.000"},{"v":0,"d":"0.000"},0.926,0.951,{"v":0.97,"d":"0.970"},0.991,0.994,0.998,0.998,0.997,0.999,0.999,0.999,0.999,0.998,0.999,0.999,0.999,0.999,0.999,0.998,0.999,0.998,0.999,0.998,0.996,0.996,0.992,0.977,0.964,{"v":0.94,"d":"0.940"},{"v":0.88,"d":"0.880"},0.676,0.179,{"v":0,"d":"0.000"},{"v":0,"d":"0.000"},{"v":0,"d":"0.000"},{"v":0,"d":"0.000"},{"v":0,"d":"0.000"},{"v":0,"d":"0.000"},{"v":0,"d":"0.000"},{"v":0,"d":"0.000"},{"v":0,"d":"0.000"},{"v":0,"d":"0.000"},{"v":0,"d":"0.000"},{"v":0,"d":"0.000"},0.857,0.904,0.941,0.982,0.988,0.996,0.995,0.994,0.997,0.998,0.999,0.998,0.996,0.998,0.998,0.998,0.998,0.998,0.996,0.998,0.996,0.998,0.995,0.992,0.993,0.984,0.954,0.928,0.884,0.774,0.457,0.032,{"v":0,"d":"0.000"},{"v":0,"d":"0.000"},{"v":0,"d":"0.000"},{"v":0,"d":"0.000"},{"v":0,"d":"0.000"},{"v":0,"d":"0.000"},{"v":0,"d":"0.000"},{"v":0,"d":"0.000"},{"v":0,"d":"0.000"},{"v":0,"d":"0.000"},{"v":0,"d":"0.000"},{"v":0,"d":"0.000"}]
["E-FDS3",4.1120387,0,{"v":-1.822767,"d":"-1.8227670"},-2,8.9852105,-2,{"v":7.87144,"d":"7.8714400"},-3,-5.2228008,-4,1.1773061,-4,0.985,0.989,0.996,0.999,0.999,0.999,0.999,0.999,0.999,0.999,0.999,0.999,0.999,0.999,0.999,0.999,0.999,0.999,0.999,0.999,0.999,0.999,0.998,0.998,0.996,0.993,0.985,0.977,{"v":0.96,"d":"0.960"},0.894,0.605,0.034,{"v":0,"d":"0.000"},{"v":0,"d":"0.000"},{"v":0,"d":"0.000"},{"v":0,"d":"0.000"},{"v":0,"d":"0.000"},{"v":0,"d":"0.000"},{"v":0,"d":"0.000"},{"v":0,"d":"0.000"},{"v":0,"d":"0.000"},{"v":0,"d":"0.000"},{"v":0,"d":"0.000"},{"v":0,"d":"0.000"},0.962,0.973,0.989,0.998,0.999,0.999,0.998,0.997,0.999,0.999,0.999,0.999,0.999,0.999,0.998,0.998,0.998,0.998,0.997,0.997,0.997,0.997,0.996,0.994,0.991,0.982,0.962,0.944,0.902,0.755,0.285,{"v":0,"d":"0.000"},{"v":0,"d":"0.000"},{"v":0,"d":"0.000"},{"v":0,"d":"0.000"},{"v":0,"d":"0.000"},{"v":0,"d":"0.000"},{"v":0,"d":"0.000"},{"v":0,"d":"0.000"},{"v":0,"d":"0.000"},{"v":0,"d":"0.000"},{"v":0,"d":"0.000"},{"v":0,"d":"0.000"},{"v":0,"d":"0.000"},0.925,0.947,0.978,0.996,0.998,0.999,0.996,0.995,0.999,0.999,0.999,0.998,0.997,0.997,0.996,0.996,0.996,0.995,0.995,0.994,0.994,0.993,0.992,0.988,0.982,0.965,0.925,0.891,0.814,{"v":0.57,"d":"0.570"},0.081,{"v":0,"d":"0.000"},{"v":0,"d":"0.000"},{"v":0,"d":"0.000"},{"v":0,"d":"0.000"},{"v":0,"d":"0.000"},{"v":0,"d":"0.000"},{"v":0,"d":"0.000"},{"v":0,"d":"0.000"},{"v":0,"d":"0.000"},{"v":0,"d":"0.000"},{"v":0,"d":"0.000"},{"v":0,"d":"0.000"},{"v":0,"d":"0.000"}]
["E-FEL1",2.3534484,0,-1.0330438,-2,1.4097325,-2,8.7167875,-4,{"v":-6.998197,"d":"-6.9981970"},-5,5.7867359,-6,"","","","","","",0.999,0.999,0.999,0.999,0.999,0.999,0.999,0.999,0.999,0.999,0.999,0.999,0.999,0.999,0.999,0.999,0.999,0.999,0.999,0.999,0.998,0.998,0.997,0.997,0.997,0.996,0.993,0.989,0.971,0.912,0.719,0.367,{"v":0,"d":"0.000"},{"v":0,"d":"0.000"},{"v":0,"d":"0.000"},{"v":0,"d":"0.000"},{"v":0,"d":"0.000"},{"v":0,"d":"0.000"},"","","","","","",0.998,0.999,0.999,0.999,0.999,0.999,0.999,0.999,0.999,0.999,0.999,0.999,0.999,0.999,0.999,0.999,0.999,0.997,0.998,0.998,0.996,0.995,0.993,0.992,0.993,{"v":0.99,"d":"0.990"},0.983,0.972,{"v":0.93,"d":"0.930"},0.794,0.438,0.082,{"v":0,"d":"0.000"},{"v":0,"d":"0.000"},{"v":0,"d":"0.000"},{"v":0,"d":"0.000"},{"v":0,"d":"0.000"},{"v":0,"d":"0.000"},"","","","","","",0.996,0.998,0.998,0.999,0.999,0.999,0.999,0.999,0.999,0.999,0.999,0.999,0.999,0.999,0.999,0.999,0.998,0.994,0.996,0.996,0.992,{"v":0.99,"d":"0.990"},0.987,0.985,0.985,{"v":0.98,"d":"0.980"},0.967,0.944,0.864,{"v":0.63,"d":"0.630"},0.192,{"v":0,"d":"0.000"},{"v":0,"d":"0.000"},{"v":0,"d":"0.000"},{"v":0,"d":"0.000"},{"v":0,"d":"0.000"},{"v":0,"d":"0.000"},{"v":0,"d":"0.000"}]
["E-FEL2",2.3317983,0,-9.7042192,-3,1.4032761,-2,6.4822896,-4,-4.0813761,-5,3.9064873,-6,"","","","","","",0.998,0.999,0.999,0.999,0.999,0.999,0.999,0.999,0.999,0.999,0.999,0.999,0.999,0.999,0.999,0.999,0.999,0.999,0.999,0.999,0.999,0.999,0.998,0.998,0.998,0.998,0.996,0.992,0.981,0.938,0.792,0.484,{"v":0.26,"d":"0.260"},{"v":0,"d":"0.000"},{"v":0,"d":"0.000"},{"v":0,"d":"0.000"},{"v":0,"d":"0.000"},{"v":0,"d":"0.000"},"","","","","","",0.996,0.998,0.997,0.999,0.999,0.999,0.999,0.999,0.999,0.999,0.999,0.999,0.999,0.999,0.999,0.999,0.999,0.999,0.999,0.999,0.998,0.997,0.996,0.996,0.996,0.995,{"v":0.99,"d":"0.990"},{"v":0.98,"d":"0.980"},0.953,0.853,0.558,0.163,0.034,{"v":0,"d":"0.000"},{"v":0,"d":"0.000"},{"v":0,"d":"0.000"},{"v":0,"d":"0.000"},{"v":0,"d":"0.000"},"","","","","","",0.993,0.996,0.995,0.998,0.998,0.998,0.997,0.997,0.997,0.998,0.998,0.998,0.998,0.999,0.999,0.999,0.999,0.998,0.998,0.999,0.996,0.995,0.992,0.991,0.992,0.989,0.979,{"v":0.96,"d":"0.960"},0.908,0.728,0.312,0.027,{"v":0,"d":"0.000"},{"v":0,"d":"0.000"},{"v":0,"d":"0.000"},{"v":0,"d":"0.000"},{"v":0,"d":"0.000"},{"v":0,"d":"0.000"}]
["E-FEL6",2.3068946,0,-9.6888755,-3,{"v":1.309702,"d":"1.3097020"},-2,6.5013927,-4,-4.2328222,-5,3.5888777,-6,"","","","","","","","","","","","","","","","","","","","","","","","","","","","","","","","","","","","","","","","","","","","","","","","","","",0.996,0.997,0.998,0.999,0.999,0.999,0.999,0.999,0.999,0.999,0.999,0.999,0.999,0.999,0.999,0.999,0.998,0.998,0.998,0.998,0.997,0.996,0.996,0.996,0.996,0.994,0.991,0.982,0.964,0.894,{"v":0.67,"d":"0.670"},0.278,{"v":0,"d":"0.000"},{"v":0,"d":"0.000"},{"v":0,"d":"0.000"},{"v":0,"d":"0.000"},{"v":0,"d":"0.000"},{"v":0,"d":"0.000"},"","","","","","",0.993,0.995,0.995,0.998,0.998,0.999,0.998,0.998,0.998,0.999,0.998,0.999,0.998,0.999,0.999,0.999,0.997,0.996,0.997,0.997,0.993,0.992,0.991,0.991,0.991,0.989,0.982,0.965,0.929,0.799,0.448,0.077,{"v":0,"d":"0.000"},{"v":0,"d":"0.000"},{"v":0,"d":"0.000"},{"v":0,"d":"0.000"},{"v":0,"d":"0.000"},{"v":0,"d":"0.000"}]
["E-FL5",2.4465754,0,-1.0107041,-2,1.7759132,-2,8.7970259,-4,-5.7014929,-5,6.0924663,-6,"","","","","","",0.999,0.999,0.998,0.999,0.999,0.999,0.999,0.999,0.999,0.999,0.999,0.999,0.999,0.999,0.999,0.999,0.999,0.999,0.999,0.999,0.999,0.999,0.998,0.998,0.998,0.994,0.988,0.973,0.929,0.799,0.503,0.283,{"v":0,"d":"0.000"},{"v":0,"d":"0.000"},{"v":0,"d":"0.000"},{"v":0,"d":"0.000"},{"v":0,"d":"0.000"},{"v":0,"d":"0.000"},"","","","","","",0.997,0.997,0.996,0.999,0.999,0.999,0.999,0.999,0.999,0.999,0.999,0.999,0.999,0.999,0.999,0.999,0.999,0.999,0.999,0.999,0.998,0.997,0.996,0.994,0.994,0.984,{"v":0.97,"d":"0.970"},0.934,0.832,{"v":0.57,"d":"0.570"},0.179,0.042,{"v":0,"d":"0.000"},{"v":0,"d":"0.000"},{"v":0,"d":"0.000"},{"v":0,"d":"0.000"},{"v":0,"d":"0.000"},{"v":0,"d":"0.000"},"","","","","","",0.993,0.994,0.993,0.999,0.999,0.998,0.998,0.998,0.999,0.998,0.998,0.998,0.998,0.998,0.998,0.998,0.999,0.998,0.999,0.999,0.996,0.994,0.993,0.989,0.987,0.967,0.941,0.873,0.692,0.325,0.032,{"v":0,"d":"0.000"},{"v":0,"d":"0.000"},{"v":0,"d":"0.000"},{"v":0,"d":"0.000"},{"v":0,"d":"0.000"},{"v":0,"d":"0.000"},{"v":0,"d":"0.000"}]
["E-FL6",2.4079653,0,-1.1135638,-2,1.5704715,-2,9.9186507,-4,-7.9934653,-5,7.0985473,-6,"","","","","","",0.998,0.998,0.996,0.999,0.999,0.999,0.999,0.999,0.999,0.999,0.999,0.999,0.999,0.999,0.999,0.999,0.999,0.999,0.999,0.999,0.999,0.999,0.998,0.998,0.997,0.992,0.984,0.964,0.909,{"v":0.76,"d":"0.760"},0.453,{"v":0,"d":"0.000"},{"v":0,"d":"0.000"},{"v":0,"d":"0.000"},{"v":0,"d":"0.000"},{"v":0,"d":"0.000"},{"v":0,"d":"0.000"},{"v":0,"d":"0.000"},"","","","","","",0.996,0.996,0.989,0.999,0.999,0.999,0.999,0.999,0.999,0.999,0.999,0.999,0.999,0.999,0.999,0.999,0.999,0.998,0.999,0.999,0.998,0.997,0.995,0.994,0.992,{"v":0.98,"d":"0.980"},0.959,0.913,0.787,0.504,0.138,{"v":0,"d":"0.000"},{"v":0,"d":"0.000"},{"v":0,"d":"0.000"},{"v":0,"d":"0.000"},{"v":0,"d":"0.000"},{"v":0,"d":"0.000"},{"v":0,"d":"0.000"},"","","","","","",0.992,0.991,0.979,0.997,0.998,0.998,0.998,0.998,0.998,0.998,0.999,0.999,0.999,0.999,0.999,0.998,0.997,0.996,0.998,0.999,0.996,0.993,{"v":0.99,"d":"0.990"},0.989,0.983,{"v":0.96,"d":"0.960"},0.921,0.833,0.619,0.254,0.019,{"v":0,"d":"0.000"},{"v":0,"d":"0.000"},{"v":0,"d":"0.000"},{"v":0,"d":"0.000"},{"v":0,"d":"0.000"},{"v":0,"d":"0.000"},{"v":0,"d":"0.000"}]
["E-LAF7",2.9704178,0,-1.3290679,-2,2.8359006,-2,1.7661786,-3,-1.2453482,-4,1.3951937,-5,"","","","","","","","","","","","","","","","","","","","","","","","","","","","","","","","","","","","","","","","","","","","","","","","","","",0.998,0.998,0.998,0.999,0.999,0.999,0.999,0.999,0.999,0.999,0.999,0.999,0.999,0.999,0.999,0.999,0.997,0.997,0.997,0.997,0.992,0.991,0.988,0.981,0.967,0.912,0.846,0.716,0.485,0.179,{"v":0,"d":"0.000"},{"v":0,"d":"0.000"},{"v":0,"d":"0.000"},{"v":0,"d":"0.000"},{"v":0,"d":"0.000"},{"v":0,"d":"0.000"},{"v":0,"d":"0.000"},{"v":0,"d":"0.000"},"","","","","","",0.996,0.996,0.996,0.999,0.999,0.999,0.999,0.999,0.999,0.999,0.999,0.999,0.999,0.999,0.999,0.998,0.995,0.994,0.993,0.994,0.984,0.982,0.975,0.962,0.934,0.831,0.715,0.513,0.235,0.032,{"v":0,"d":"0.000"},{"v":0,"d":"0.000"},{"v":0,"d":"0.000"},{"v":0,"d":"0.000"},{"v":0,"d":"0.000"},{"v":0,"d":"0.000"},{"v":0,"d":"0.000"},{"v":0,"d":"0.000"}]
["FC5",2.1894054,0,-9.9044908,-3,{"v":8.640337,"d":"8.6403370"},-3,2.2263067,-4,-1.2291942,-5,5.9386349,-7,"","","","","","",0.998,0.998,0.994,0.999,0.999,0.999,0.999,0.999,0.999,0.999,0.999,0.999,0.999,0.999,0.999,0.999,0.999,0.999,0.999,0.999,0.999,0.999,0.999,0.999,0.999,0.999,0.999,0.999,0.999,0.999,0.998,0.997,0.994,0.987,0.972,0.933,0.847,0.657,"","","","","","",0.996,0.995,0.986,0.999,0.999,0.999,0.999,0.999,0.999,0.999,0.999,0.999,0.999,0.999,0.999,0.999,0.999,0.999,0.999,0.999,0.999,0.999,0.999,0.999,0.999,0.999,0.999,0.997,0.998,0.997,0.996,0.992,0.985,0.968,0.932,{"v":0.84,"d":"0.840"},{"v":0.66,"d":"0.660"},{"v":0.35,"d":"0.350"},"","","","","","",0.992,0.991,0.971,0.999,0.999,0.999,0.999,0.999,0.999,0.999,0.999,0.999,0.999,0.999,0.999,0.999,0.999,0.998,0.999,0.999,0.999,0.999,0.998,0.997,0.997,0.998,0.998,0.993,0.996,0.995,0.992,0.984,{"v":0.97,"d":"0.970"},0.937,0.868,{"v":0.71,"d":"0.710"},{"v":0.43,"d":"0.430"},{"v":0.12,"d":"0.120"}]
["FCD1",2.2181132,0,{"v":-5.799427,"d":"-5.7994270"},-3,8.3470679,-3,6.5046523,-5,8.5142186,-6,-5.8852269,-7,0.999,0.999,0.999,0.999,0.999,0.999,0.999,0.999,0.999,0.999,0.999,0.999,0.999,0.999,0.999,0.999,0.999,0.999,0.999,0.999,0.999,0.999,0.999,0.999,0.999,0.999,0.999,0.999,0.999,0.999,0.999,0.999,0.999,0.999,0.998,0.994,0.988,0.975,0.947,0.899,0.823,0.718,0.599,0.486,0.999,0.999,0.999,0.999,0.999,0.999,0.999,0.999,0.999,0.999,0.999,0.999,0.999,0.999,0.999,0.999,0.999,0.999,0.999,0.999,0.999,0.999,0.999,0.999,0.999,0.999,0.999,0.999,0.999,0.998,0.999,0.997,0.998,0.997,0.995,0.986,0.969,0.937,0.872,0.765,0.613,0.436,0.277,0.164,0.999,0.999,0.999,0.999,0.999,0.999,0.999,0.999,0.999,0.999,0.999,0.999,0.999,0.999,0.999,0.999,0.999,0.999,0.999,0.999,0.999,0.999,0.999,0.998,0.999,0.999,0.999,0.999,0.997,0.997,0.997,0.995,0.996,0.995,{"v":0.99,"d":"0.990"},0.972,0.939,0.878,0.761,0.586,0.376,{"v":0.19,"d":"0.190"},0.077,0.027]
["FCD10",{"v":2.103249,"d":"2.1032490"},0,-5.0247988,-3,6.5323077,-3,1.3078405,-4,-6.3652072,-6,1.9254745,-7,"","","","","","","","","","","","","","","","","","","","","","","","","","","","","","","","","","","","","","","","","","","","","","","","","","",0.999,0.999,0.999,0.999,0.999,0.999,0.998,0.998,0.998,0.998,0.998,0.999,0.999,0.999,0.999,0.999,0.999,0.999,0.999,0.999,0.999,0.999,0.998,0.998,0.998,0.999,0.999,0.998,0.996,0.991,{"v":0.98,"d":"0.980"},0.956,0.905,{"v":0.82,"d":"0.820"},{"v":0.68,"d":"0.680"},{"v":0.51,"d":"0.510"},{"v":0.32,"d":"0.320"},{"v":0.17,"d":"0.170"},"","","","","","",0.999,0.999,0.999,0.998,0.998,0.998,0.997,0.996,0.997,0.997,0.997,0.998,0.998,0.998,0.998,0.998,0.998,0.998,0.998,0.999,0.999,0.998,0.997,0.996,0.996,0.998,0.998,0.997,0.992,0.982,{"v":0.96,"d":"0.960"},0.914,{"v":0.82,"d":"0.820"},{"v":0.67,"d":"0.670"},{"v":0.47,"d":"0.470"},{"v":0.26,"d":"0.260"},{"v":0.1,"d":"0.100"},{"v":0.03,"d":"0.030"}]
["FCD100",2.0482157,0,-4.3211222,-3,6.1826755,-3,{"v":3.141148,"d":"3.1411480"},-5,3.5370793,-6,-1.6694497,-7,0.999,0.999,0.999,0.999,0.999,0.999,0.999,0.999,0.999,0.999,0.999,0.999,0.999,0.999,0.999,0.999,0.999,0.999,0.999,0.999,0.999,0.999,0.999,0.999,0.999,0.999,0.999,0.999,0.999,0.999,0.999,0.999,0.999,0.999,0.998,0.995,0.989,0.975,0.947,0.897,0.815,{"v":0.7,"d":"0.700"},0.564,{"v":0.43,"d":"0.430"},0.999,0.999,0.999,0.999,0.999,0.999,0.999,0.999,0.999,0.999,0.998,0.997,0.997,0.997,0.997,0.998,0.998,0.998,0.998,0.999,0.999,0.999,0.999,0.999,0.999,0.999,0.999,0.999,0.999,0.999,0.999,0.999,0.999,0.998,0.995,0.988,0.972,0.938,0.873,0.761,0.599,{"v":0.41,"d":"0.410"},0.239,0.121,0.999,0.998,0.999,0.999,0.999,0.999,0.997,0.997,0.998,0.997,0.996,0.995,0.994,0.995,0.995,0.995,0.996,0.997,0.997,0.999,0.999,0.999,0.999,0.999,0.999,0.999,0.999,0.999,0.998,0.998,0.997,0.997,0.998,0.995,0.989,0.976,0.944,{"v":0.88,"d":"0.880"},0.761,0.579,0.358,0.168,0.057,0.015]
["FCD10A",2.1085888,0,-4.6553722,-3,{"v":6.954748,"d":"6.9547480"},-3,3.2184141,-5,5.2670946,-6,-2.7164844,-7,"","","","","","",0.999,0.999,0.999,0.999,0.999,0.999,0.999,0.999,0.999,0.999,0.999,0.999,0.999,0.999,0.999,0.999,0.999,0.999,0.999,0.999,0.999,0.999,0.999,0.999,0.999,0.999,0.999,0.998,0.997,0.994,0.987,0.972,0.943,0.891,{"v":0.81,"d":"0.810"},0.699,0.569,0.438,"","","","","","",0.999,0.999,0.999,0.999,0.999,0.999,0.999,0.999,0.999,0.998,0.998,0.999,0.999,0.999,0.999,0.999,0.999,0.999,0.999,0.999,0.999,0.999,0.999,0.998,0.998,0.998,0.997,0.995,0.992,0.984,0.967,0.931,0.862,0.749,0.589,0.407,0.243,0.127,"","","","","","",0.998,0.998,0.999,0.999,0.999,0.998,0.997,0.997,0.997,0.997,0.997,0.997,0.998,0.998,0.998,0.998,0.999,0.999,0.999,0.999,0.999,0.999,0.997,0.996,0.996,0.995,0.994,{"v":0.99,"d":"0.990"},0.983,0.968,0.935,0.867,0.744,0.561,0.347,0.166,0.059,0.016]
["FCD1B",2.2189068,0,-6.1707065,-3,8.0887631,-3,1.3357782,-4,1.9476186,-7,-2.2577804,-7,"","","","","","",0.999,0.999,0.999,0.999,0.999,0.999,0.999,0.999,0.999,0.999,0.999,0.999,0.999,0.999,0.999,0.999,0.999,0.999,0.999,0.999,0.999,0.999,0.999,0.999,0.999,0.999,0.999,0.997,0.994,0.987,0.971,0.938,0.878,{"v":0.78,"d":"0.780"},0.646,0.489,0.337,0.205,"","","","","","",0.999,0.998,0.999,0.999,0.999,0.999,0.999,0.999,0.999,0.999,0.998,0.998,0.998,0.998,0.998,0.998,0.999,0.999,0.999,0.999,0.999,0.999,0.998,0.998,0.998,0.998,0.997,0.993,0.986,0.968,0.929,0.852,0.721,0.537,0.334,0.167,0.066,{"v":0,"d":"0.000"},"","","","","","",0.997,0.997,0.997,0.999,0.999,0.999,0.999,0.999,0.999,0.999,0.999,0.999,0.999,0.999,0.999,0.999,0.998,0.998,0.999,0.999,0.999,0.998,0.997,0.996,0.995,0.996,0.993,0.987,0.972,0.938,0.863,0.726,{"v":0.52,"d":"0.520"},0.288,0.112,0.028,{"v":0,"d":"0.000"},{"v":0,"d":"0.000"}]
["FCD505",{"v":2.502355,"d":"2.5023550"},0,-7.2080042,-3,1.2012743,-2,3.4920842,-4,-2.4729676,-5,1.3801567,-6,"","","","","","","","","","","","","","","","","","","","","","","","","","","","","","","","","","","","","","","","","","","","",0.967,0.975,0.984,0.993,0.997,0.999,0.999,0.999,0.999,0.999,0.999,0.999,0.999,0.999,0.999,0.999,0.999,0.999,0.999,0.999,0.999,0.999,0.998,0.998,0.998,0.998,0.997,0.997,0.996,0.994,0.994,0.988,0.981,0.964,0.931,0.866,0.749,0.585,{"v":0.39,"d":"0.390"},0.213,{"v":0,"d":"0.000"},{"v":0,"d":"0.000"},{"v":0,"d":"0.000"},{"v":0,"d":"0.000"},0.935,0.951,0.968,0.987,0.995,0.999,0.998,0.999,0.999,0.999,0.999,0.999,0.999,0.999,0.999,0.999,0.999,0.999,0.999,0.999,0.999,0.999,0.997,0.997,0.997,0.997,0.995,0.994,0.992,0.989,0.988,0.977,0.962,{"v":0.93,"d":"0.930"},0.866,{"v":0.75,"d":"0.750"},{"v":0.56,"d":"0.560"},0.342,0.152,0.045,{"v":0,"d":"0.000"},{"v":0,"d":"0.000"},{"v":0,"d":"0.000"},{"v":0,"d":"0.000"}]
["FCD515",{"v":2.502355,"d":"2.5023550"},0,-7.2080042,-3,1.2012743,-2,3.4920842,-4,-2.4729676,-5,1.3801567,-6,0.979,0.984,0.989,0.994,0.997,0.999,0.999,0.999,0.999,0.999,0.999,0.999,0.999,0.999,0.999,0.999,0.999,0.999,0.999,0.999,0.999,0.999,0.999,0.999,0.999,0.999,0.999,0.999,0.998,0.998,0.998,0.996,0.992,0.985,0.969,0.935,0.877,0.781,0.641,{"v":0.48,"d":"0.480"},0.317,0.192,0.103,{"v":0,"d":"0.000"},0.948,0.961,0.973,0.986,0.993,0.999,0.999,0.999,0.999,0.999,0.999,0.999,0.999,0.999,0.998,0.998,0.998,0.998,0.999,0.998,0.999,0.999,0.998,0.998,0.999,0.999,0.999,0.998,0.997,0.996,0.995,{"v":0.99,"d":"0.990"},0.981,0.962,0.925,0.845,{"v":0.72,"d":"0.720"},0.538,{"v":0.33,"d":"0.330"},0.161,0.056,{"v":0,"d":"0.000"},{"v":0,"d":"0.000"},{"v":0,"d":"0.000"},0.899,0.923,0.946,0.973,0.987,0.999,0.998,0.999,0.999,0.999,0.998,0.998,0.997,0.997,0.997,0.997,0.996,0.996,0.998,0.997,0.997,0.998,0.997,0.997,0.998,0.999,0.997,0.996,0.994,0.991,{"v":0.99,"d":"0.990"},{"v":0.98,"d":"0.980"},0.962,0.926,0.856,0.714,0.518,{"v":0.29,"d":"0.290"},0.109,0.026,{"v":0,"d":"0.000"},{"v":0,"d":"0.000"},{"v":0,"d":"0.000"},{"v":0,"d":"0.000"}]
["FCD600",2.5009632,0,-7.1951364,-3,1.4064825,-2,2.1434104,-4,4.3873461,-6,4.8834355,-7,0.994,0.995,0.997,0.998,0.999,0.999,0.999,0.999,0.999,0.999,0.999,0.999,0.999,0.999,0.999,0.999,0.999,0.999,0.999,0.999,0.999,0.999,0.999,0.999,0.999,0.999,0.998,0.998,0.997,0.996,0.995,0.994,0.993,{"v":0.99,"d":"0.990"},0.983,0.969,0.942,0.888,0.777,0.528,0.166,{"v":0,"d":"0.000"},{"v":0,"d":"0.000"},{"v":0,"d":"0.000"},0.986,0.988,0.992,0.996,0.997,0.998,0.999,0.999,0.999,0.999,0.999,0.999,0.999,0.999,0.998,0.998,0.998,0.998,0.999,0.999,0.998,0.999,0.998,0.998,0.998,0.999,0.996,0.994,0.993,0.991,0.989,0.986,0.982,0.974,0.959,0.925,0.861,0.744,0.532,0.203,0.011,{"v":0,"d":"0.000"},{"v":0,"d":"0.000"},{"v":0,"d":"0.000"},0.971,0.976,0.983,0.991,0.994,0.997,0.999,0.999,0.998,0.999,0.999,0.998,0.997,0.997,0.997,0.996,0.996,0.997,0.997,0.997,0.996,0.997,0.996,0.996,0.997,0.998,0.992,0.989,0.985,0.982,0.977,0.971,0.963,0.949,0.919,0.856,0.742,0.553,0.283,0.041,{"v":0,"d":"0.000"},{"v":0,"d":"0.000"},{"v":0,"d":"0.000"},{"v":0,"d":"0.000"}]
["FCD705",2.3742832,0,-6.2014418,-3,1.0582967,-2,6.3100703,-5,{"v":8.196715,"d":"8.1967150"},-6,-3.4424446,-7,0.993,0.994,0.996,0.998,0.998,0.999,0.999,0.999,0.999,0.999,0.999,0.998,0.998,0.998,0.998,0.998,0.998,0.998,0.998,0.999,0.999,0.999,0.999,0.999,0.999,0.999,0.999,0.999,0.999,0.998,0.998,0.997,0.995,0.991,0.983,0.963,0.928,0.863,0.756,0.613,0.451,{"v":0.29,"d":"0.290"},0.184,0.121,0.982,0.985,0.989,0.995,0.996,0.997,0.998,0.998,0.998,0.998,0.997,0.996,0.996,0.996,0.996,0.996,0.996,0.996,0.997,0.997,0.997,0.997,0.997,0.997,0.998,0.999,0.998,0.997,0.996,0.995,0.995,0.993,0.988,0.978,0.958,0.911,0.829,0.691,0.497,0.295,0.137,0.045,{"v":0,"d":"0.000"},{"v":0,"d":"0.000"},0.965,{"v":0.97,"d":"0.970"},0.978,{"v":0.99,"d":"0.990"},0.993,0.995,0.995,0.995,0.995,0.995,0.994,0.993,0.992,0.992,0.992,0.991,0.992,0.992,0.994,0.993,0.994,0.994,0.994,0.994,0.997,0.999,0.997,0.995,0.993,{"v":0.99,"d":"0.990"},{"v":0.99,"d":"0.990"},0.986,0.977,0.956,0.918,{"v":0.83,"d":"0.830"},0.687,0.478,0.247,0.087,0.019,{"v":0,"d":"0.000"},{"v":0,"d":"0.000"},{"v":0,"d":"0.000"}]
["FD110",3.0534415,0,{"v":-1.275181,"d":"-1.2751810"},-2,4.0609369,-2,2.2706109,-3,-7.8086606,-5,1.9874026,-5,"","","","","","",0.999,0.999,0.999,0.999,0.999,0.999,0.999,0.999,0.999,0.999,0.999,0.999,0.999,0.999,0.999,0.999,0.998,0.998,0.998,0.999,0.997,0.995,0.993,0.989,0.982,0.959,0.928,0.854,0.667,0.347,{"v":0,"d":"0.000"},{"v":0,"d":"0.000"},{"v":0,"d":"0.000"},{"v":0,"d":"0.000"},{"v":0,"d":"0.000"},{"v":0,"d":"0.000"},{"v":0,"d":"0.000"},{"v":0,"d":"0.000"},"","","","","","",0.997,0.997,0.998,0.999,0.999,0.999,0.999,0.999,0.999,0.999,0.999,0.999,0.999,0.999,0.998,0.998,0.996,0.995,0.996,0.996,0.991,0.987,0.982,0.973,0.955,{"v":0.9,"d":"0.900"},0.829,0.674,0.363,0.071,{"v":0,"d":"0.000"},{"v":0,"d":"0.000"},{"v":0,"d":"0.000"},{"v":0,"d":"0.000"},{"v":0,"d":"0.000"},{"v":0,"d":"0.000"},{"v":0,"d":"0.000"},{"v":0,"d":"0.000"},"","","","","","",0.994,0.994,0.996,0.999,0.999,0.999,0.998,0.998,0.998,0.998,0.999,0.999,0.999,0.997,0.997,0.995,0.991,{"v":0.99,"d":"0.990"},0.992,0.993,0.983,0.975,0.964,0.946,0.912,{"v":0.81,"d":"0.810"},0.687,0.454,0.132,{"v":0,"d":"0.000"},{"v":0,"d":"0.000"},{"v":0,"d":"0.000"},{"v":0,"d":"0.000"},{"v":0,"d":"0.000"},{"v":0,"d":"0.000"},{"v":0,"d":"0.000"},{"v":0,"d":"0.000"},{"v":0,"d":"0.000"}]
["FD140",2.9851294,0,-1.4237988,-2,3.5496437,-2,2.8457557,-3,-1.9006799,-4,2.4309252,-5,"","","","","","",0.999,0.999,0.999,0.999,0.999,0.999,0.999,0.999,0.999,0.999,0.999,0.999,0.999,0.999,0.999,0.998,0.998,0.998,0.999,0.999,0.996,0.995,0.993,0.991,0.984,0.959,0.921,0.829,0.619,0.285,{"v":0,"d":"0.000"},{"v":0,"d":"0.000"},{"v":0,"d":"0.000"},{"v":0,"d":"0.000"},{"v":0,"d":"0.000"},{"v":0,"d":"0.000"},{"v":0,"d":"0.000"},{"v":0,"d":"0.000"},"","","","","","",0.997,0.997,0.997,0.999,0.999,0.998,0.998,0.998,0.998,0.998,0.998,0.998,0.998,0.998,0.998,0.996,0.996,0.995,0.997,0.997,0.991,0.988,0.983,0.977,0.961,0.901,0.815,0.626,0.301,0.043,{"v":0,"d":"0.000"},{"v":0,"d":"0.000"},{"v":0,"d":"0.000"},{"v":0,"d":"0.000"},{"v":0,"d":"0.000"},{"v":0,"d":"0.000"},{"v":0,"d":"0.000"},{"v":0,"d":"0.000"},"","","","","","",0.995,0.995,0.995,0.998,0.998,0.996,0.996,0.996,0.996,0.996,0.996,0.996,0.995,0.995,0.995,0.994,0.992,0.989,0.994,0.993,0.982,0.976,0.966,0.954,0.924,0.812,0.663,0.392,0.091,{"v":0,"d":"0.000"},{"v":0,"d":"0.000"},{"v":0,"d":"0.000"},{"v":0,"d":"0.000"},{"v":0,"d":"0.000"},{"v":0,"d":"0.000"},{"v":0,"d":"0.000"},{"v":0,"d":"0.000"},{"v":0,"d":"0.000"}]
["FD225",3.1189869,0,-1.5820772,-2,4.4425024,-2,3.5834882,-3,-2.3943449,-4,3.8756542,-5,0.944,0.956,0.972,0.989,0.993,0.996,0.998,0.998,0.999,0.999,0.999,0.999,0.999,0.999,0.999,0.999,0.999,0.999,0.999,0.999,0.999,0.999,0.999,0.999,0.999,0.999,0.997,0.996,0.995,0.994,{"v":0.99,"d":"0.990"},0.977,0.945,0.831,0.544,0.049,{"v":0,"d":"0.000"},{"v":0,"d":"0.000"},{"v":0,"d":"0.000"},{"v":0,"d":"0.000"},{"v":0,"d":"0.000"},{"v":0,"d":"0.000"},{"v":0,"d":"0.000"},{"v":0,"d":"0.000"},0.866,0.894,0.932,0.973,0.983,0.989,0.995,0.995,0.997,0.999,0.999,0.999,0.999,0.999,0.999,0.999,0.999,0.999,0.999,0.999,0.998,0.998,0.998,0.997,0.997,0.996,0.992,{"v":0.99,"d":"0.990"},0.988,0.984,0.976,0.944,0.868,{"v":0.63,"d":"0.630"},0.218,{"v":0,"d":"0.000"},{"v":0,"d":"0.000"},{"v":0,"d":"0.000"},{"v":0,"d":"0.000"},{"v":0,"d":"0.000"},{"v":0,"d":"0.000"},{"v":0,"d":"0.000"},{"v":0,"d":"0.000"},{"v":0,"d":"0.000"},{"v":0.75,"d":"0.750"},0.799,0.868,0.946,0.966,0.978,{"v":0.99,"d":"0.990"},{"v":0.99,"d":"0.990"},0.994,0.998,0.998,0.998,0.998,0.998,0.998,0.998,0.999,0.999,0.999,0.997,0.996,0.996,0.996,0.995,0.994,0.992,0.984,0.981,0.975,0.967,0.953,{"v":0.89,"d":"0.890"},0.753,0.397,0.048,{"v":0,"d":"0.000"},{"v":0,"d":"0.000"},{"v":0,"d":"0.000"},{"v":0,"d":"0.000"},{"v":0,"d":"0.000"},{"v":0,"d":"0.000"},{"v":0,"d":"0.000"},{"v":0,"d":"0.000"},{"v":0,"d":"0.000"}]
["FD60",3.1171483,0,-1.1616277,-2,4.4864975,-2,1.6588491,-3,2.5716854,-5,1.4757657,-5,{"v":0.97,"d":"0.970"},0.974,0.986,0.995,0.997,0.999,0.999,0.999,0.999,0.999,0.999,0.999,0.999,0.999,0.999,0.999,0.999,0.999,0.999,0.999,0.999,0.999,0.999,0.998,0.999,0.998,0.996,0.994,0.993,0.991,0.987,0.977,0.958,0.903,0.748,0.426,{"v":0,"d":"0.000"},{"v":0,"d":"0.000"},{"v":0,"d":"0.000"},{"v":0,"d":"0.000"},{"v":0,"d":"0.000"},{"v":0,"d":"0.000"},{"v":0,"d":"0.000"},{"v":0,"d":"0.000"},0.926,0.937,0.966,0.986,0.993,0.999,0.999,0.998,0.999,0.999,0.999,0.999,0.999,0.999,0.999,0.999,0.999,0.999,0.999,0.999,0.999,0.998,0.997,0.995,0.996,0.996,0.989,0.986,0.983,0.978,0.969,0.943,0.898,0.774,0.483,0.117,{"v":0,"d":"0.000"},{"v":0,"d":"0.000"},{"v":0,"d":"0.000"},{"v":0,"d":"0.000"},{"v":0,"d":"0.000"},{"v":0,"d":"0.000"},{"v":0,"d":"0.000"},{"v":0,"d":"0.000"},0.857,0.878,0.934,0.973,0.986,0.999,0.997,0.996,0.998,0.998,0.998,0.998,0.997,0.997,0.997,0.997,0.998,0.998,0.999,0.998,0.997,0.995,0.993,{"v":0.99,"d":"0.990"},0.993,0.991,0.979,0.972,0.965,0.957,0.939,0.889,0.806,0.599,0.234,0.014,{"v":0,"d":"0.000"},{"v":0,"d":"0.000"},{"v":0,"d":"0.000"},{"v":0,"d":"0.000"},{"v":0,"d":"0.000"},{"v":0,"d":"0.000"},{"v":0,"d":"0.000"},{"v":0,"d":"0.000"}]
["FD60-W",3.1171483,0,-1.1616277,-2,4.4864975,-2,1.6588491,-3,2.5716854,-5,1.4757657,-5,{"v":0.97,"d":"0.970"},0.974,0.986,0.994,0.997,0.999,0.999,0.999,0.999,0.999,0.999,0.999,0.999,0.999,0.999,0.999,0.999,0.999,0.999,0.999,0.999,0.999,0.998,0.998,0.998,0.999,0.997,0.996,0.996,0.994,{"v":0.99,"d":"0.990"},0.977,0.956,0.901,0.747,{"v":0.42,"d":"0.420"},{"v":0,"d":"0.000"},{"v":0,"d":"0.000"},{"v":0,"d":"0.000"},{"v":0,"d":"0.000"},{"v":0,"d":"0.000"},{"v":0,"d":"0.000"},{"v":0,"d":"0.000"},{"v":0,"d":"0.000"},0.926,0.937,0.966,0.986,0.993,0.999,0.999,0.998,0.999,0.999,0.999,0.999,0.999,0.999,0.999,0.999,0.999,0.999,0.999,0.999,0.999,0.998,0.996,0.995,0.996,0.997,0.993,0.991,0.989,0.984,0.976,0.944,0.894,{"v":0.77,"d":"0.770"},0.482,0.114,{"v":0,"d":"0.000"},{"v":0,"d":"0.000"},{"v":0,"d":"0.000"},{"v":0,"d":"0.000"},{"v":0,"d":"0.000"},{"v":0,"d":"0.000"},{"v":0,"d":"0.000"},{"v":0,"d":"0.000"},0.857,0.878,0.934,0.973,0.986,0.999,0.997,0.996,0.998,0.998,0.998,0.998,0.997,0.997,0.997,0.997,0.998,0.998,0.999,0.998,0.997,0.995,0.993,0.993,0.992,0.993,0.986,0.982,0.977,0.969,0.952,0.891,{"v":0.8,"d":"0.800"},0.593,0.232,0.013,{"v":0,"d":"0.000"},{"v":0,"d":"0.000"},{"v":0,"d":"0.000"},{"v":0,"d":"0.000"},{"v":0,"d":"0.000"},{"v":0,"d":"0.000"},{"v":0,"d":"0.000"},{"v":0,"d":"0.000"}]
["FDS16-W",3.6906098,0,-2.7849024,-2,6.3139051,-2,1.2443698,-2,-1.4774085,-3,1.7478701,-4,0.964,0.973,0.979,0.993,0.995,0.997,0.997,0.996,0.999,0.999,0.999,0.999,0.999,0.999,0.999,0.999,0.999,0.999,0.999,0.999,0.999,0.999,0.999,0.999,0.998,0.997,0.992,{"v":0.99,"d":"0.990"},0.985,0.974,0.903,{"v":0.44,"d":"0.440"},0.037,{"v":0,"d":"0.000"},{"v":0,"d":"0.000"},{"v":0,"d":"0.000"},{"v":0,"d":"0.000"},{"v":0,"d":"0.000"},{"v":0,"d":"0.000"},{"v":0,"d":"0.000"},{"v":0,"d":"0.000"},{"v":0,"d":"0.000"},{"v":0,"d":"0.000"},{"v":0,"d":"0.000"},0.913,0.934,0.948,0.982,0.987,0.992,0.993,0.991,0.997,0.999,0.999,0.999,0.999,0.999,0.999,0.999,0.998,0.998,0.998,0.999,0.998,0.998,0.998,0.997,0.996,0.992,0.981,0.974,0.963,0.937,0.774,0.129,{"v":0,"d":"0.000"},{"v":0,"d":"0.000"},{"v":0,"d":"0.000"},{"v":0,"d":"0.000"},{"v":0,"d":"0.000"},{"v":0,"d":"0.000"},{"v":0,"d":"0.000"},{"v":0,"d":"0.000"},{"v":0,"d":"0.000"},{"v":0,"d":"0.000"},{"v":0,"d":"0.000"},{"v":0,"d":"0.000"},0.833,0.873,0.898,0.965,0.973,0.985,0.985,0.982,0.993,0.998,0.999,0.998,0.998,0.998,0.997,0.997,0.997,0.997,0.996,0.997,0.997,0.996,0.995,0.994,0.993,0.984,0.962,0.948,0.928,0.877,0.599,0.017,{"v":0,"d":"0.000"},{"v":0,"d":"0.000"},{"v":0,"d":"0.000"},{"v":0,"d":"0.000"},{"v":0,"d":"0.000"},{"v":0,"d":"0.000"},{"v":0,"d":"0.000"},{"v":0,"d":"0.000"},{"v":0,"d":"0.000"},{"v":0,"d":"0.000"},{"v":0,"d":"0.000"},{"v":0,"d":"0.000"}]
["FDS18",{"v":3.563784,"d":"3.5637840"},0,-2.5449644,-2,5.8401659,-2,9.2310983,-3,-9.5499727,-4,1.1777456,-4,{"v":0.97,"d":"0.970"},0.979,0.986,0.996,0.998,0.999,0.996,0.996,0.996,0.997,0.998,0.998,0.998,0.998,0.998,0.999,0.999,0.999,0.999,0.999,0.999,0.999,0.998,0.997,0.996,0.993,0.984,0.978,0.967,0.942,0.868,0.594,0.316,{"v":0,"d":"0.000"},{"v":0,"d":"0.000"},{"v":0,"d":"0.000"},{"v":0,"d":"0.000"},{"v":0,"d":"0.000"},{"v":0,"d":"0.000"},{"v":0,"d":"0.000"},{"v":0,"d":"0.000"},{"v":0,"d":"0.000"},{"v":0,"d":"0.000"},{"v":0,"d":"0.000"},0.927,0.949,0.966,0.991,0.995,0.999,{"v":0.99,"d":"0.990"},0.989,0.991,0.993,0.994,0.995,0.995,0.995,0.996,0.997,0.998,0.999,0.999,0.998,0.998,0.997,0.996,0.993,0.991,0.983,0.961,0.945,0.919,0.862,0.701,0.272,0.056,{"v":0,"d":"0.000"},{"v":0,"d":"0.000"},{"v":0,"d":"0.000"},{"v":0,"d":"0.000"},{"v":0,"d":"0.000"},{"v":0,"d":"0.000"},{"v":0,"d":"0.000"},{"v":0,"d":"0.000"},{"v":0,"d":"0.000"},{"v":0,"d":"0.000"},{"v":0,"d":"0.000"},{"v":0.86,"d":"0.860"},{"v":0.9,"d":"0.900"},0.934,0.982,0.991,0.999,{"v":0.98,"d":"0.980"},0.979,0.982,0.986,0.988,{"v":0.99,"d":"0.990"},{"v":0.99,"d":"0.990"},{"v":0.99,"d":"0.990"},0.992,0.993,0.996,0.998,0.999,0.996,0.995,0.994,0.992,0.987,0.982,0.966,0.923,0.894,0.845,0.743,0.491,0.074,{"v":0,"d":"0.000"},{"v":0,"d":"0.000"},{"v":0,"d":"0.000"},{"v":0,"d":"0.000"},{"v":0,"d":"0.000"},{"v":0,"d":"0.000"},{"v":0,"d":"0.000"},{"v":0,"d":"0.000"},{"v":0,"d":"0.000"},{"v":0,"d":"0.000"},{"v":0,"d":"0.000"},{"v":0,"d":"0.000"}]
["FDS18-W",{"v":3.563784,"d":"3.5637840"},0,-2.5449644,-2,5.8401659,-2,9.2310983,-3,-9.5499727,-4,1.1777456,-4,"","","","","","",0.997,0.996,0.998,0.999,0.999,0.999,0.999,0.999,0.999,0.999,0.999,0.999,0.999,0.999,0.999,0.999,0.999,0.999,0.999,0.998,0.996,0.995,0.992,0.988,0.971,0.815,0.541,0.074,{"v":0,"d":"0.000"},{"v":0,"d":"0.000"},{"v":0,"d":"0.000"},{"v":0,"d":"0.000"},{"v":0,"d":"0.000"},{"v":0,"d":"0.000"},{"v":0,"d":"0.000"},{"v":0,"d":"0.000"},{"v":0,"d":"0.000"},{"v":0,"d":"0.000"},"","","","","","",0.992,0.991,0.995,0.998,0.999,0.999,0.999,0.999,0.999,0.999,0.999,0.999,0.999,0.999,0.999,0.999,0.999,0.999,0.998,0.996,{"v":0.99,"d":"0.990"},0.987,0.981,0.971,0.929,{"v":0.6,"d":"0.600"},0.215,{"v":0,"d":"0.000"},{"v":0,"d":"0.000"},{"v":0,"d":"0.000"},{"v":0,"d":"0.000"},{"v":0,"d":"0.000"},{"v":0,"d":"0.000"},{"v":0,"d":"0.000"},{"v":0,"d":"0.000"},{"v":0,"d":"0.000"},{"v":0,"d":"0.000"},{"v":0,"d":"0.000"},"","","","","","",0.985,0.982,{"v":0.99,"d":"0.990"},0.997,0.998,0.998,0.998,0.998,0.998,0.998,0.997,0.998,0.998,0.998,0.998,0.998,0.998,0.997,0.996,0.991,{"v":0.98,"d":"0.980"},0.974,0.963,0.943,0.863,{"v":0.36,"d":"0.360"},0.046,{"v":0,"d":"0.000"},{"v":0,"d":"0.000"},{"v":0,"d":"0.000"},{"v":0,"d":"0.000"},{"v":0,"d":"0.000"},{"v":0,"d":"0.000"},{"v":0,"d":"0.000"},{"v":0,"d":"0.000"},{"v":0,"d":"0.000"},{"v":0,"d":"0.000"},{"v":0,"d":"0.000"}]
["FDS20-W ",3.3114745,0,-1.9402447,-2,5.1621829,-2,5.8556024,-3,-5.3287332,-4,7.3197844,-5,0.917,0.934,0.953,0.984,0.991,0.996,0.997,0.996,0.998,0.999,0.999,0.999,0.999,0.999,0.999,0.999,0.999,0.999,0.999,0.999,0.999,0.999,0.999,0.999,0.999,0.998,0.998,0.997,0.997,0.995,0.989,0.928,0.739,0.315,0.022,{"v":0,"d":"0.000"},{"v":0,"d":"0.000"},{"v":0,"d":"0.000"},{"v":0,"d":"0.000"},{"v":0,"d":"0.000"},{"v":0,"d":"0.000"},{"v":0,"d":"0.000"},{"v":0,"d":"0.000"},{"v":0,"d":"0.000"},0.806,0.844,0.887,0.961,0.979,0.991,0.992,0.991,0.995,0.999,0.999,0.999,0.999,0.999,0.998,0.998,0.997,0.997,0.997,0.996,0.997,0.997,0.997,0.997,0.997,0.996,0.994,0.993,0.991,0.988,0.974,0.829,0.469,0.056,{"v":0,"d":"0.000"},{"v":0,"d":"0.000"},{"v":0,"d":"0.000"},{"v":0,"d":"0.000"},{"v":0,"d":"0.000"},{"v":0,"d":"0.000"},{"v":0,"d":"0.000"},{"v":0,"d":"0.000"},{"v":0,"d":"0.000"},{"v":0,"d":"0.000"},0.649,0.712,0.787,0.923,0.958,0.981,0.984,0.982,{"v":0.99,"d":"0.990"},0.999,0.999,0.999,0.998,0.998,0.996,0.996,0.995,0.994,0.994,0.993,0.995,0.993,0.993,0.994,0.994,0.992,0.988,0.986,0.983,0.976,0.949,0.687,{"v":0.22,"d":"0.220"},{"v":0,"d":"0.000"},{"v":0,"d":"0.000"},{"v":0,"d":"0.000"},{"v":0,"d":"0.000"},{"v":0,"d":"0.000"},{"v":0,"d":"0.000"},{"v":0,"d":"0.000"},{"v":0,"d":"0.000"},{"v":0,"d":"0.000"},{"v":0,"d":"0.000"},{"v":0,"d":"0.000"}]
["FDS24",3.5126327,0,{"v":-1.53015,"d":"-1.5301500"},-2,5.3936061,-2,3.4949369,-3,-1.7950295,-4,3.4403181,-5,0.985,0.989,0.996,0.999,0.999,0.999,0.999,0.999,0.999,0.999,0.999,0.999,0.999,0.999,0.999,0.999,0.999,0.999,0.999,0.999,0.999,0.999,0.998,0.998,0.998,0.997,0.991,0.988,0.983,0.975,0.958,0.919,0.878,0.787,0.586,0.163,{"v":0,"d":"0.000"},{"v":0,"d":"0.000"},{"v":0,"d":"0.000"},{"v":0,"d":"0.000"},{"v":0,"d":"0.000"},{"v":0,"d":"0.000"},{"v":0,"d":"0.000"},{"v":0,"d":"0.000"},0.962,0.972,0.989,0.997,0.999,0.998,0.999,0.999,0.999,0.999,0.999,0.999,0.999,0.999,0.999,0.999,0.999,0.998,0.998,0.998,0.998,0.998,0.996,0.995,0.994,0.991,0.979,0.971,0.959,0.939,0.898,0.811,0.722,0.549,0.263,{"v":0,"d":"0.000"},{"v":0,"d":"0.000"},{"v":0,"d":"0.000"},{"v":0,"d":"0.000"},{"v":0,"d":"0.000"},{"v":0,"d":"0.000"},{"v":0,"d":"0.000"},{"v":0,"d":"0.000"},{"v":0,"d":"0.000"},0.925,0.944,0.978,0.995,0.999,0.997,0.999,0.999,0.999,0.999,0.999,0.999,0.998,0.998,0.998,0.998,0.997,0.997,0.997,0.997,0.996,0.995,0.992,0.989,0.989,0.983,0.958,0.942,{"v":0.92,"d":"0.920"},0.881,0.806,0.657,0.521,0.301,0.069,{"v":0,"d":"0.000"},{"v":0,"d":"0.000"},{"v":0,"d":"0.000"},{"v":0,"d":"0.000"},{"v":0,"d":"0.000"},{"v":0,"d":"0.000"},{"v":0,"d":"0.000"},{"v":0,"d":"0.000"},{"v":0,"d":"0.000"}]
["FDS24-W",3.5126327,0,{"v":-1.53015,"d":"-1.5301500"},-2,5.3936061,-2,3.4949369,-3,-1.7950295,-4,3.4403181,-5,0.973,0.978,{"v":0.99,"d":"0.990"},0.994,0.996,0.998,0.998,0.998,0.998,0.999,0.999,0.999,0.999,0.999,0.999,0.999,0.999,0.999,0.999,0.999,0.998,0.998,0.998,0.998,0.997,0.996,0.993,0.991,0.988,0.983,0.972,0.946,0.915,0.838,0.646,0.248,0.007,{"v":0,"d":"0.000"},{"v":0,"d":"0.000"},{"v":0,"d":"0.000"},{"v":0,"d":"0.000"},{"v":0,"d":"0.000"},{"v":0,"d":"0.000"},{"v":0,"d":"0.000"},0.933,0.945,0.974,0.984,0.989,0.995,0.995,0.995,0.996,0.996,0.997,0.997,0.997,0.997,0.997,0.997,0.997,0.997,0.997,0.997,0.996,0.996,0.995,0.994,0.993,0.991,0.983,0.978,0.971,0.958,0.932,0.871,0.801,0.644,0.336,0.031,{"v":0,"d":"0.000"},{"v":0,"d":"0.000"},{"v":0,"d":"0.000"},{"v":0,"d":"0.000"},{"v":0,"d":"0.000"},{"v":0,"d":"0.000"},{"v":0,"d":"0.000"},{"v":0,"d":"0.000"},{"v":0.87,"d":"0.870"},0.894,0.949,0.968,0.979,{"v":0.99,"d":"0.990"},{"v":0.99,"d":"0.990"},{"v":0.99,"d":"0.990"},0.992,0.993,0.993,0.993,0.993,0.993,0.993,0.994,0.994,0.994,0.994,0.993,0.992,0.992,{"v":0.99,"d":"0.990"},0.988,0.987,0.982,0.967,0.956,0.942,0.917,0.868,0.759,0.642,0.414,0.113,{"v":0,"d":"0.000"},{"v":0,"d":"0.000"},{"v":0,"d":"0.000"},{"v":0,"d":"0.000"},{"v":0,"d":"0.000"},{"v":0,"d":"0.000"},{"v":0,"d":"0.000"},{"v":0,"d":"0.000"},{"v":0,"d":"0.000"}]
["FDS90",3.2606321,0,-1.7780398,-2,4.0902938,-2,5.6076934,-3,-5.6434039,-4,5.4763391,-5,0.975,{"v":0.98,"d":"0.980"},{"v":0.99,"d":"0.990"},0.997,0.999,0.999,0.999,0.999,0.999,0.999,0.999,0.999,0.999,0.999,0.999,0.999,0.999,0.999,0.999,0.999,0.999,0.999,0.998,0.998,0.998,0.998,0.995,0.994,0.991,0.987,0.978,0.953,0.918,{"v":0.83,"d":"0.830"},0.616,0.306,{"v":0,"d":"0.000"},{"v":0,"d":"0.000"},{"v":0,"d":"0.000"},{"v":0,"d":"0.000"},{"v":0,"d":"0.000"},{"v":0,"d":"0.000"},{"v":0,"d":"0.000"},{"v":0,"d":"0.000"},0.938,{"v":0.95,"d":"0.950"},0.976,0.991,0.997,0.999,0.997,0.997,0.998,0.999,0.999,0.999,0.999,0.999,0.999,0.999,0.999,0.999,0.999,0.998,0.999,0.998,0.996,0.994,0.995,0.995,0.989,0.984,0.977,0.968,0.946,0.887,0.808,0.627,0.298,0.052,{"v":0,"d":"0.000"},{"v":0,"d":"0.000"},{"v":0,"d":"0.000"},{"v":0,"d":"0.000"},{"v":0,"d":"0.000"},{"v":0,"d":"0.000"},{"v":0,"d":"0.000"},{"v":0,"d":"0.000"},0.879,0.902,0.953,0.983,0.994,0.999,0.993,0.994,0.996,0.999,0.999,0.999,0.999,0.999,0.999,0.998,0.998,0.998,0.997,0.997,0.997,0.995,0.992,0.988,0.991,{"v":0.99,"d":"0.990"},0.977,0.968,0.954,0.937,0.895,0.786,0.653,0.393,0.089,{"v":0,"d":"0.000"},{"v":0,"d":"0.000"},{"v":0,"d":"0.000"},{"v":0,"d":"0.000"},{"v":0,"d":"0.000"},{"v":0,"d":"0.000"},{"v":0,"d":"0.000"},{"v":0,"d":"0.000"},{"v":0,"d":"0.000"}]
["FDS90(P)",3.2565619,0,-1.5803965,-2,4.4330322,-2,4.3620098,-3,-3.6912261,-4,4.2999682,-5,0.975,{"v":0.98,"d":"0.980"},{"v":0.99,"d":"0.990"},0.997,0.999,0.999,0.999,0.999,0.999,0.999,0.999,0.999,0.999,0.999,0.999,0.999,0.999,0.999,0.999,0.999,0.999,0.999,0.998,0.998,0.998,0.998,0.995,0.994,0.991,0.987,0.978,0.953,0.918,{"v":0.83,"d":"0.830"},0.616,0.306,{"v":0,"d":"0.000"},{"v":0,"d":"0.000"},{"v":0,"d":"0.000"},{"v":0,"d":"0.000"},{"v":0,"d":"0.000"},{"v":0,"d":"0.000"},{"v":0,"d":"0.000"},{"v":0,"d":"0.000"},0.938,{"v":0.95,"d":"0.950"},0.976,0.991,0.997,0.999,0.997,0.997,0.998,0.999,0.999,0.999,0.999,0.999,0.999,0.999,0.999,0.999,0.999,0.998,0.999,0.998,0.996,0.994,0.995,0.995,0.989,0.984,0.977,0.968,0.946,0.887,0.808,0.627,0.298,0.052,{"v":0,"d":"0.000"},{"v":0,"d":"0.000"},{"v":0,"d":"0.000"},{"v":0,"d":"0.000"},{"v":0,"d":"0.000"},{"v":0,"d":"0.000"},{"v":0,"d":"0.000"},{"v":0,"d":"0.000"},0.879,0.902,0.953,0.983,0.994,0.999,0.993,0.994,0.996,0.999,0.999,0.999,0.999,0.999,0.999,0.998,0.998,0.998,0.997,0.997,0.997,0.995,0.992,0.988,0.991,{"v":0.99,"d":"0.990"},0.977,0.968,0.954,0.937,0.895,0.786,0.653,0.393,0.089,{"v":0,"d":"0.000"},{"v":0,"d":"0.000"},{"v":0,"d":"0.000"},{"v":0,"d":"0.000"},{"v":0,"d":"0.000"},{"v":0,"d":"0.000"},{"v":0,"d":"0.000"},{"v":0,"d":"0.000"},{"v":0,"d":"0.000"}]
["FDS90-SG",3.2606321,0,-1.7780398,-2,4.0902938,-2,5.6076934,-3,-5.6434039,-4,5.4763391,-5,0.975,{"v":0.98,"d":"0.980"},{"v":0.99,"d":"0.990"},0.996,0.999,0.999,0.999,0.999,0.999,0.999,0.999,0.999,0.999,0.999,0.999,0.999,0.999,0.999,0.999,0.999,0.999,0.999,0.999,0.998,0.999,0.999,0.996,0.995,0.993,{"v":0.99,"d":"0.990"},0.984,0.962,0.927,0.839,0.656,0.384,{"v":0,"d":"0.000"},{"v":0,"d":"0.000"},{"v":0,"d":"0.000"},{"v":0,"d":"0.000"},{"v":0,"d":"0.000"},{"v":0,"d":"0.000"},{"v":0,"d":"0.000"},{"v":0,"d":"0.000"},0.938,{"v":0.95,"d":"0.950"},0.976,0.991,0.997,0.999,0.997,0.997,0.998,0.999,0.999,0.999,0.999,0.999,0.999,0.999,0.999,0.999,0.999,0.998,0.999,0.998,0.997,0.996,0.998,0.998,0.991,0.988,0.983,0.976,{"v":0.96,"d":"0.960"},0.908,0.828,0.644,0.348,0.091,{"v":0,"d":"0.000"},{"v":0,"d":"0.000"},{"v":0,"d":"0.000"},{"v":0,"d":"0.000"},{"v":0,"d":"0.000"},{"v":0,"d":"0.000"},{"v":0,"d":"0.000"},{"v":0,"d":"0.000"},0.879,0.902,0.953,0.983,0.994,0.999,0.993,0.994,0.996,0.999,0.999,0.999,0.999,0.999,0.999,0.998,0.998,0.998,0.997,0.997,0.997,0.995,0.994,0.993,0.996,0.995,0.983,0.975,0.966,0.952,0.921,0.825,0.686,0.415,0.121,{"v":0,"d":"0.000"},{"v":0,"d":"0.000"},{"v":0,"d":"0.000"},{"v":0,"d":"0.000"},{"v":0,"d":"0.000"},{"v":0,"d":"0.000"},{"v":0,"d":"0.000"},{"v":0,"d":"0.000"},{"v":0,"d":"0.000"}]
["FF5",2.4743324,0,-1.0955338,-2,1.9293801,-2,1.4497732,-3,-1.1038744,-4,1.1136008,-5,"","","","","","","","","","","","","","","","","","","","","","",0.999,0.999,0.999,0.999,0.999,0.998,0.998,0.998,0.996,0.993,0.987,0.974,0.937,0.821,0.532,0.255,{"v":0,"d":"0.000"},{"v":0,"d":"0.000"},{"v":0,"d":"0.000"},{"v":0,"d":"0.000"},{"v":0,"d":"0.000"},{"v":0,"d":"0.000"},"","","","","","","","","","","","","","","","","","","","","","",0.999,0.999,0.999,0.999,0.997,0.996,0.995,0.994,0.991,0.982,0.969,0.937,0.849,{"v":0.61,"d":"0.610"},0.206,0.033,{"v":0,"d":"0.000"},{"v":0,"d":"0.000"},{"v":0,"d":"0.000"},{"v":0,"d":"0.000"},{"v":0,"d":"0.000"},{"v":0,"d":"0.000"},"","","","","","","","","","","","","","","","","","","","","","",0.999,0.998,0.998,0.998,0.995,0.992,0.991,0.988,0.982,0.964,0.939,0.878,0.721,0.372,0.042,{"v":0,"d":"0.000"},{"v":0,"d":"0.000"},{"v":0,"d":"0.000"},{"v":0,"d":"0.000"},{"v":0,"d":"0.000"},{"v":0,"d":"0.000"},{"v":0,"d":"0.000"}]
["FF8",2.9564361,0,-1.9762195,-2,2.9878823,-2,5.1830852,-3,-5.4202389,-4,4.8463245,-5,"","","","","","",0.997,0.996,0.996,0.999,0.999,0.999,0.999,0.999,0.999,0.999,0.999,0.999,0.999,0.999,0.999,0.999,0.999,0.999,0.999,0.999,0.997,0.996,0.995,0.992,0.986,0.967,0.944,0.892,0.765,0.496,{"v":0,"d":"0.000"},{"v":0,"d":"0.000"},{"v":0,"d":"0.000"},{"v":0,"d":"0.000"},{"v":0,"d":"0.000"},{"v":0,"d":"0.000"},{"v":0,"d":"0.000"},{"v":0,"d":"0.000"},"","","","","","",0.992,0.991,{"v":0.99,"d":"0.990"},0.998,0.998,0.998,0.998,0.998,0.998,0.998,0.998,0.998,0.998,0.998,0.998,0.998,0.999,0.999,0.999,0.998,0.994,{"v":0.99,"d":"0.990"},0.987,{"v":0.98,"d":"0.980"},0.965,{"v":0.92,"d":"0.920"},0.865,0.752,0.512,0.173,{"v":0,"d":"0.000"},{"v":0,"d":"0.000"},{"v":0,"d":"0.000"},{"v":0,"d":"0.000"},{"v":0,"d":"0.000"},{"v":0,"d":"0.000"},{"v":0,"d":"0.000"},{"v":0,"d":"0.000"},"","","","","","",0.984,0.982,{"v":0.98,"d":"0.980"},0.996,0.997,0.996,0.997,0.996,0.996,0.996,0.996,0.996,0.996,0.997,0.996,0.996,0.999,0.999,0.999,0.996,0.987,0.981,0.975,{"v":0.96,"d":"0.960"},0.932,0.846,0.748,0.566,0.262,{"v":0.03,"d":"0.030"},{"v":0,"d":"0.000"},{"v":0,"d":"0.000"},{"v":0,"d":"0.000"},{"v":0,"d":"0.000"},{"v":0,"d":"0.000"},{"v":0,"d":"0.000"},{"v":0,"d":"0.000"},{"v":0,"d":"0.000"}]
["LAC10",2.8951998,0,-1.1701218,-2,2.2126485,-2,3.8494791,-4,-7.9808302,-6,1.5035116,-6,"","","","","","","","","","","","","","","","","","","","","","","","","","","","","","","","","","","","","","","","","","","","","","","","","","",0.998,0.998,0.999,0.999,0.999,0.999,0.999,0.999,0.999,0.999,0.999,0.999,0.999,0.999,0.999,0.999,0.998,0.998,0.998,0.998,0.998,0.998,0.997,0.997,0.996,0.993,0.989,0.985,0.975,0.958,0.926,0.879,0.807,{"v":0.69,"d":"0.690"},0.492,0.214,{"v":0.03,"d":"0.030"},{"v":0,"d":"0.000"},"","","","","","",0.997,0.997,0.998,0.999,0.999,0.999,0.999,0.999,0.999,0.999,0.999,0.999,0.999,0.999,0.999,0.998,0.996,0.996,0.996,0.996,0.996,0.996,0.994,0.994,0.991,0.985,0.979,{"v":0.97,"d":"0.970"},{"v":0.95,"d":"0.950"},0.917,0.858,0.772,{"v":0.65,"d":"0.650"},0.476,0.242,0.046,{"v":0,"d":"0.000"},{"v":0,"d":"0.000"}]
["LAC12",2.7634844,0,-1.1068339,-2,1.8246442,-2,3.7697356,-4,-1.7788655,-5,1.5314262,-6,"","","","","","","","","","","","","","","","","","","","","","","","","","","","","","","","","","","","","","","","","","","","","","","","","","",0.996,0.997,0.997,0.999,0.999,0.999,0.999,0.999,0.998,0.999,0.999,0.999,0.999,0.999,0.999,0.999,0.999,0.999,0.999,0.999,0.999,0.997,0.997,0.994,0.993,{"v":0.99,"d":"0.990"},0.975,0.958,{"v":0.93,"d":"0.930"},{"v":0.87,"d":"0.870"},{"v":0.77,"d":"0.770"},{"v":0.64,"d":"0.640"},{"v":0.47,"d":"0.470"},{"v":0.3,"d":"0.300"},{"v":0.17,"d":"0.170"},{"v":0.09,"d":"0.090"},{"v":0.04,"d":"0.040"},{"v":0,"d":"0.000"},"","","","","","",0.993,0.993,0.994,0.998,0.998,0.998,0.998,0.997,0.997,0.997,0.997,0.998,0.998,0.998,0.998,0.998,0.999,0.999,0.999,0.999,0.999,0.994,0.994,0.989,0.986,{"v":0.98,"d":"0.980"},0.951,0.917,{"v":0.86,"d":"0.860"},{"v":0.76,"d":"0.760"},{"v":0.6,"d":"0.600"},{"v":0.41,"d":"0.410"},{"v":0.22,"d":"0.220"},{"v":0.09,"d":"0.090"},{"v":0.03,"d":"0.030"},{"v":0.01,"d":"0.010"},{"v":0,"d":"0.000"},{"v":0,"d":"0.000"}]
["LAC13",2.8125316,0,-1.2915271,-2,1.9960339,-2,1.9877888,-4,1.7647061,-5,-4.4767632,-7,"","","","","","","","","","","","","","","","","","","","","","","","","","","","","","","","","","","","","","","","","","","","","","","","","","",0.994,0.993,0.991,0.999,0.999,0.999,0.999,0.999,0.999,0.999,0.999,0.999,0.999,0.999,0.999,0.999,0.999,0.999,0.999,0.999,0.998,0.998,0.998,0.997,0.995,{"v":0.99,"d":"0.990"},0.985,0.976,{"v":0.96,"d":"0.960"},{"v":0.93,"d":"0.930"},{"v":0.89,"d":"0.890"},{"v":0.82,"d":"0.820"},{"v":0.72,"d":"0.720"},{"v":0.59,"d":"0.590"},{"v":0.39,"d":"0.390"},{"v":0.16,"d":"0.160"},{"v":0.06,"d":"0.060"},{"v":0,"d":"0.000"},"","","","","","",0.988,0.986,0.982,0.998,0.999,0.999,0.999,0.999,0.999,0.999,0.999,0.999,0.999,0.999,0.999,0.999,0.999,0.998,0.998,0.999,0.997,0.996,0.995,0.993,{"v":0.99,"d":"0.990"},{"v":0.98,"d":"0.980"},{"v":0.97,"d":"0.970"},0.952,0.921,{"v":0.87,"d":"0.870"},{"v":0.79,"d":"0.790"},{"v":0.67,"d":"0.670"},{"v":0.52,"d":"0.520"},{"v":0.34,"d":"0.340"},{"v":0.16,"d":"0.160"},{"v":0.03,"d":"0.030"},{"v":0,"d":"0.000"},{"v":0,"d":"0.000"}]
["LAC14",2.8255229,0,-1.3632902,-2,1.9791402,-2,1.5032564,-5,4.0761368,-5,-1.7527267,-6,0.843,0.887,{"v":0.96,"d":"0.960"},{"v":0.99,"d":"0.990"},0.996,0.999,0.999,0.999,0.999,0.999,0.999,0.999,0.999,0.999,0.999,0.999,0.999,0.999,0.999,0.999,0.999,0.999,0.999,0.999,0.999,0.999,0.999,0.999,0.999,0.998,0.998,0.997,0.996,0.995,0.992,0.987,0.981,0.971,0.954,0.931,0.904,0.868,0.817,0.746,0.653,0.741,0.904,0.974,{"v":0.99,"d":"0.990"},0.998,0.997,0.997,0.997,0.999,0.999,0.999,0.999,0.999,0.999,0.999,0.999,0.999,0.999,0.999,0.999,0.999,0.999,0.999,0.999,0.999,0.999,0.998,0.997,0.996,0.995,0.993,0.991,0.987,0.981,0.969,0.954,0.929,{"v":0.89,"d":"0.890"},0.837,0.776,0.701,0.603,0.481,0.427,0.549,0.818,0.949,0.981,0.996,0.994,0.993,0.993,0.999,0.999,0.999,0.999,0.999,0.999,0.999,0.999,0.999,0.998,0.999,0.999,0.999,0.999,0.999,0.998,0.999,0.997,0.997,0.995,0.992,{"v":0.99,"d":"0.990"},0.986,0.983,0.974,0.963,0.939,{"v":0.91,"d":"0.910"},0.863,0.792,0.701,0.602,0.491,0.364,0.231]
["LAC7",2.6876223,0,-1.4375187,-2,1.2545954,-2,1.4642295,-3,-1.6982461,-4,8.8048639,-6,"","","","","","","","","","","","","","","","","","","","","","","","","","","","","","","","","","","","","","","","","","","","","","","","","","",0.995,0.995,0.995,0.998,0.998,0.998,0.998,0.998,0.998,0.998,0.999,0.998,0.998,0.998,0.998,0.998,0.999,0.999,0.999,0.999,0.999,0.998,0.997,0.996,0.994,0.991,0.985,0.977,0.957,{"v":0.92,"d":"0.920"},{"v":0.87,"d":"0.870"},{"v":0.79,"d":"0.790"},{"v":0.66,"d":"0.660"},{"v":0.51,"d":"0.510"},{"v":0.35,"d":"0.350"},{"v":0.22,"d":"0.220"},{"v":0.1,"d":"0.100"},{"v":0.04,"d":"0.040"},"","","","","","",0.991,0.991,0.989,0.996,0.996,0.996,0.996,0.996,0.996,0.996,0.996,0.996,0.997,0.997,0.997,0.998,0.999,0.999,0.999,0.999,0.999,0.996,0.994,0.991,0.989,0.981,{"v":0.97,"d":"0.970"},0.954,0.915,{"v":0.85,"d":"0.850"},{"v":0.75,"d":"0.750"},{"v":0.62,"d":"0.620"},{"v":0.43,"d":"0.430"},{"v":0.26,"d":"0.260"},{"v":0.12,"d":"0.120"},{"v":0.05,"d":"0.050"},{"v":0.01,"d":"0.010"},{"v":0,"d":"0.000"}]
["LAC8",2.8778537,0,-1.3832906,-2,2.0301185,-2,2.7759871,-4,{"v":5.905983,"d":"5.9059830"},-6,1.7747647,-7,"","","","","","",0.998,0.998,0.998,0.999,0.999,0.999,0.999,0.999,0.999,0.999,0.999,0.999,0.999,0.999,0.999,0.999,0.999,0.999,0.999,0.999,0.999,0.999,0.999,0.999,0.998,0.997,0.996,0.995,0.992,0.986,0.977,0.965,0.947,0.921,0.887,0.845,{"v":0.79,"d":"0.790"},{"v":0.71,"d":"0.710"},"","","","","","",0.995,0.995,0.995,0.999,0.999,0.999,0.999,0.999,0.999,0.999,0.999,0.999,0.999,0.999,0.999,0.999,0.999,0.999,0.999,0.999,0.999,0.999,0.998,0.998,0.994,0.993,0.991,0.988,0.981,0.966,0.943,0.915,0.873,0.814,0.742,0.657,0.554,0.425,"","","","","","",0.991,{"v":0.99,"d":"0.990"},{"v":0.99,"d":"0.990"},0.999,0.999,0.999,0.999,0.999,0.998,0.998,0.998,0.998,0.999,0.999,0.998,0.998,0.999,0.997,0.998,0.998,0.998,0.997,0.996,0.995,0.987,0.986,0.981,0.976,0.962,0.932,0.889,0.838,0.761,0.663,0.551,0.431,0.306,{"v":0.18,"d":"0.180"}]
["LAC9",2.8081523,0,-1.4167885,-2,1.7693707,-2,7.6788759,-4,-7.4886174,-5,4.7044756,-6,"","","","","","","","","","","","","","","","","","","","","","","","","","","","","","","","","","","","","","","","","","","","","","","","","","",0.997,0.997,0.996,0.999,0.999,0.999,0.999,0.999,0.999,0.999,0.999,0.999,0.999,0.999,0.999,0.999,0.999,0.999,0.999,0.999,0.999,0.999,0.998,0.997,0.995,0.992,0.989,0.985,0.975,0.958,0.926,0.883,0.822,0.743,{"v":0.65,"d":"0.650"},0.551,0.449,0.343,"","","","","","",0.995,0.993,0.992,0.998,0.999,0.999,0.999,0.999,0.999,0.999,0.999,0.999,0.999,0.999,0.999,0.999,0.999,0.999,0.999,0.999,0.999,0.999,0.997,0.995,{"v":0.99,"d":"0.990"},0.985,0.979,{"v":0.97,"d":"0.970"},{"v":0.95,"d":"0.950"},0.917,0.858,{"v":0.78,"d":"0.780"},0.675,0.552,0.422,0.303,0.201,{"v":0.08,"d":"0.080"}]
["LACL60",2.6490884,0,-1.4159869,-2,1.4451135,-2,5.2707873,-4,-4.3447523,-5,2.4612971,-6,"","","","","","","","","","","","","","","","","","","","","","","","","","","","","","","","","","","","","","","","","","","","","","","","","","",0.997,0.996,0.995,0.999,0.999,0.999,0.999,0.999,0.999,0.999,0.999,0.999,0.999,0.999,0.999,0.999,0.999,0.999,0.998,0.999,0.999,0.998,0.997,0.996,0.995,0.993,{"v":0.99,"d":"0.990"},0.984,0.976,{"v":0.96,"d":"0.960"},{"v":0.94,"d":"0.940"},{"v":0.9,"d":"0.900"},{"v":0.84,"d":"0.840"},{"v":0.76,"d":"0.760"},{"v":0.65,"d":"0.650"},{"v":0.54,"d":"0.540"},{"v":0.41,"d":"0.410"},{"v":0.28,"d":"0.280"},"","","","","","",0.993,0.992,0.991,0.998,0.998,0.998,0.998,0.998,0.998,0.998,0.998,0.999,0.998,0.998,0.998,0.998,0.998,0.997,0.997,0.998,0.997,0.996,0.994,0.993,{"v":0.99,"d":"0.990"},0.985,0.979,0.969,0.952,0.922,{"v":0.87,"d":"0.870"},{"v":0.8,"d":"0.800"},{"v":0.7,"d":"0.700"},{"v":0.57,"d":"0.570"},{"v":0.43,"d":"0.430"},{"v":0.29,"d":"0.290"},{"v":0.17,"d":"0.170"},{"v":0.08,"d":"0.080"}]
["LAF2",2.9657374,0,-9.6571624,-3,2.6024525,-2,3.6684641,-4,2.8205551,-5,-1.3739929,-7,"","","","","","",0.999,0.999,0.999,0.999,0.999,0.999,0.999,0.999,0.999,0.999,0.999,0.999,0.999,0.999,0.999,0.999,0.999,0.999,0.999,0.999,0.999,0.999,0.998,0.997,0.997,0.995,0.993,0.988,0.978,0.957,0.919,0.852,0.738,0.554,{"v":0.31,"d":"0.310"},{"v":0,"d":"0.000"},{"v":0,"d":"0.000"},{"v":0,"d":"0.000"},"","","","","","",0.998,0.998,0.999,0.999,0.999,0.999,0.999,0.999,0.999,0.999,0.999,0.999,0.999,0.999,0.999,0.999,0.999,0.998,0.999,0.999,0.998,0.997,0.995,0.994,0.993,0.988,0.982,0.969,0.946,0.895,0.809,0.671,0.468,0.228,0.053,{"v":0,"d":"0.000"},{"v":0,"d":"0.000"},{"v":0,"d":"0.000"},"","","","","","",0.997,0.997,0.998,0.999,0.999,0.999,0.999,0.999,0.999,0.999,0.999,0.999,0.999,0.999,0.999,0.998,0.997,0.996,0.997,0.999,0.996,0.994,{"v":0.99,"d":"0.990"},0.987,0.985,0.977,0.965,{"v":0.94,"d":"0.940"},0.895,0.801,0.655,{"v":0.45,"d":"0.450"},0.219,0.052,{"v":0,"d":"0.000"},{"v":0,"d":"0.000"},{"v":0,"d":"0.000"},{"v":0,"d":"0.000"}]
["LAF3",2.8789799,0,{"v":-8.729237,"d":"-8.7292370"},-3,2.4425656,-2,4.5491773,-5,4.2802928,-5,-7.2834306,-7,"","","","","","",0.999,0.999,0.999,0.999,0.999,0.999,0.999,0.999,0.999,0.999,0.999,0.999,0.999,0.999,0.999,0.999,0.999,0.999,0.999,0.999,0.999,0.999,0.998,0.998,0.997,0.995,0.993,0.988,{"v":0.98,"d":"0.980"},0.963,0.928,0.857,0.713,{"v":0.48,"d":"0.480"},0.225,{"v":0,"d":"0.000"},{"v":0,"d":"0.000"},{"v":0,"d":"0.000"},"","","","","","",0.998,0.998,0.998,0.999,0.999,0.999,0.999,0.999,0.998,0.999,0.998,0.999,0.999,0.998,0.999,0.999,0.999,0.999,0.999,0.999,0.999,0.998,0.996,0.994,0.993,0.988,0.982,0.971,{"v":0.95,"d":"0.950"},{"v":0.91,"d":"0.910"},{"v":0.83,"d":"0.830"},{"v":0.68,"d":"0.680"},{"v":0.43,"d":"0.430"},{"v":0.16,"d":"0.160"},0.024,{"v":0,"d":"0.000"},{"v":0,"d":"0.000"},{"v":0,"d":"0.000"},"","","","","","",0.995,0.995,0.996,0.997,0.998,0.997,0.997,0.997,0.997,0.997,0.997,0.997,0.997,0.996,0.997,0.997,0.999,0.997,0.997,0.997,0.997,0.996,0.991,0.987,0.986,0.975,0.965,0.943,{"v":0.9,"d":"0.900"},{"v":0.82,"d":"0.820"},{"v":0.68,"d":"0.680"},{"v":0.46,"d":"0.460"},{"v":0.19,"d":"0.190"},{"v":0.02,"d":"0.020"},{"v":0,"d":"0.000"},{"v":0,"d":"0.000"},{"v":0,"d":"0.000"},{"v":0,"d":"0.000"}]
["LBC3N",2.5388484,0,-6.6855865,-3,1.5111456,-2,-1.5247241,-4,4.8340116,-5,-2.4061785,-6,"","","","","","","","","","","","","","","","","","","","","","","","","","","","","","","","","","","","","","","","","","","","","","","","","","",0.996,0.997,0.999,0.999,0.999,0.999,0.999,0.999,0.999,0.999,0.999,0.999,0.999,0.999,0.999,0.999,0.998,0.998,0.999,0.999,0.998,0.996,0.995,0.994,0.994,0.993,0.991,0.985,0.981,0.969,0.941,{"v":0.9,"d":"0.900"},0.836,0.742,0.624,0.486,0.337,{"v":0.18,"d":"0.180"},"","","","","","",0.993,0.995,0.999,0.999,0.999,0.999,0.999,0.999,0.999,0.999,0.999,0.999,0.999,0.999,0.999,0.999,0.996,0.996,0.998,0.997,0.995,0.992,0.991,0.988,0.988,0.986,0.982,0.971,0.961,0.939,0.886,{"v":0.81,"d":"0.810"},0.698,{"v":0.55,"d":"0.550"},{"v":0.39,"d":"0.390"},0.236,0.113,0.032]
["M-BACD12",{"v":2.468781,"d":"2.4687810"},0,{"v":-1.062639,"d":"-1.0626390"},-2,{"v":1.325184,"d":"1.3251840"},-2,{"v":4.048612,"d":"4.0486120"},-4,{"v":-2.974799,"d":"-2.9747990"},-5,{"v":1.825884,"d":"1.8258840"},-6,0.951,0.962,0.979,0.994,0.997,0.999,0.999,0.999,0.999,0.999,0.999,0.999,0.999,0.999,0.999,0.999,0.999,0.999,0.999,0.999,0.999,0.999,0.999,0.999,0.999,0.999,0.999,0.999,0.999,0.999,0.999,0.999,0.999,0.998,0.996,0.993,0.985,0.972,0.949,0.906,0.838,0.739,0.615,0.482,0.883,0.909,0.949,0.986,0.992,0.998,0.998,0.998,0.998,0.999,0.998,0.998,0.998,0.998,0.998,0.998,0.998,0.998,0.998,0.998,0.998,0.999,0.999,0.999,0.999,0.999,0.999,0.999,0.999,0.998,0.998,0.998,0.996,0.994,{"v":0.99,"d":"0.990"},0.982,0.964,0.932,0.876,0.782,0.643,0.469,0.297,{"v":0.16,"d":"0.160"},0.779,0.826,{"v":0.9,"d":"0.900"},0.972,0.985,0.997,0.996,0.996,0.996,0.997,0.997,0.996,0.996,0.996,0.995,0.995,0.995,0.996,0.996,0.997,0.996,0.998,0.999,0.999,0.999,0.999,0.999,0.999,0.998,0.996,0.997,0.996,0.993,0.988,0.981,0.964,0.929,0.869,0.768,0.612,0.413,{"v":0.22,"d":"0.220"},0.088,0.026]
["M-BACD15",{"v":2.590919,"d":"2.5909190"},0,{"v":-1.259476,"d":"-1.2594760"},-2,{"v":1.520205,"d":"1.5202050"},-2,{"v":2.99998,"d":"2.9999800"},-4,{"v":-1.131547,"d":"-1.1315470"},-5,{"v":9.15464,"d":"9.1546400"},-7,"","","","","","",0.999,0.999,0.999,0.999,0.999,0.999,0.999,0.999,0.999,0.999,0.999,0.999,0.999,0.999,0.999,0.999,0.999,0.999,0.999,0.999,0.999,0.999,0.999,0.998,0.998,0.998,0.997,0.996,0.994,0.989,0.979,0.963,0.936,0.893,0.816,0.746,0.644,{"v":0.5,"d":"0.500"},"","","","","","",0.998,0.998,0.998,0.999,0.998,0.998,0.998,0.998,0.998,0.998,0.998,0.998,0.998,0.998,0.998,0.999,0.998,0.998,0.998,0.999,0.998,0.998,0.997,0.996,0.996,0.995,0.993,{"v":0.99,"d":"0.990"},0.984,0.972,0.949,{"v":0.91,"d":"0.910"},0.847,0.753,0.602,0.481,0.333,0.177,"","","","","","",0.996,0.996,0.996,0.997,0.997,0.996,0.996,0.996,0.995,0.995,0.995,0.996,0.996,0.997,0.996,0.998,0.997,0.996,0.996,0.997,0.996,0.996,0.995,0.992,0.991,0.989,0.985,0.979,0.968,0.945,{"v":0.9,"d":"0.900"},0.827,0.718,0.567,0.363,0.231,0.111,0.031]
["M-BACD5N",{"v":2.48951,"d":"2.4895100"},0,{"v":-1.224496,"d":"-1.2244960"},-2,{"v":1.294262,"d":"1.2942620"},-2,{"v":3.490449,"d":"3.4904490"},-4,{"v":-1.777228,"d":"-1.7772280"},-5,{"v":9.113719,"d":"9.1137190"},-7,0.923,{"v":0.94,"d":"0.940"},0.973,0.993,0.997,0.999,0.998,0.998,0.996,0.998,0.998,0.998,0.998,0.998,0.998,0.998,0.998,0.998,0.998,0.998,0.999,0.999,0.999,0.999,0.999,0.999,0.999,0.999,0.999,0.999,0.999,0.999,0.998,0.997,0.994,0.989,0.979,0.962,0.932,0.882,0.808,0.707,0.587,0.461,0.819,0.857,0.935,0.983,0.992,0.998,0.995,0.994,0.991,0.996,0.996,0.996,0.995,0.996,0.996,0.996,0.996,0.996,0.996,0.996,0.997,0.998,0.999,0.999,0.999,0.999,0.999,0.999,0.999,0.999,0.998,0.997,0.995,0.992,0.986,0.973,0.949,0.907,0.838,0.731,0.587,0.421,0.264,0.144,0.671,0.734,0.874,0.967,0.985,0.996,{"v":0.99,"d":"0.990"},0.989,0.981,0.992,0.992,0.991,{"v":0.99,"d":"0.990"},0.991,0.991,0.991,0.992,0.992,0.992,0.993,0.994,0.996,0.999,0.999,0.999,0.999,0.999,0.999,0.998,0.997,0.996,0.994,{"v":0.99,"d":"0.990"},0.984,0.972,0.946,{"v":0.9,"d":"0.900"},0.822,0.702,0.534,0.344,0.177,{"v":0.07,"d":"0.070"},0.021]
["MC-BACD12",{"v":2.468781,"d":"2.4687810"},0,{"v":-1.062639,"d":"-1.0626390"},-2,{"v":1.325184,"d":"1.3251840"},-2,{"v":4.048612,"d":"4.0486120"},-4,{"v":-2.974799,"d":"-2.9747990"},-5,{"v":1.825884,"d":"1.8258840"},-6,"","","","","","",0.998,0.998,0.996,0.998,0.998,0.998,0.998,0.998,0.998,0.998,0.998,0.998,0.998,0.999,0.999,0.999,0.999,0.999,0.999,0.999,0.999,0.999,0.999,0.999,0.999,0.999,0.999,0.998,0.998,0.995,0.991,{"v":0.98,"d":"0.980"},{"v":0.96,"d":"0.960"},0.925,0.858,0.754,0.606,0.432,"","","","","","",0.995,0.994,0.991,0.996,0.996,0.996,0.995,0.996,0.996,0.996,0.996,0.996,0.996,0.996,0.997,0.998,0.999,0.999,0.999,0.999,0.999,0.999,0.999,0.999,0.999,0.999,0.997,0.996,0.994,0.989,0.978,0.951,0.903,0.823,0.681,0.493,0.286,0.122,"","","","","","",{"v":0.99,"d":"0.990"},0.989,0.981,0.992,0.992,0.991,{"v":0.99,"d":"0.990"},0.991,0.991,0.991,0.991,0.992,0.992,0.993,0.994,0.996,0.997,0.998,0.997,0.997,0.997,0.997,0.999,0.998,0.999,0.999,0.994,0.991,0.989,0.977,0.956,0.904,0.816,0.677,0.464,0.243,0.082,0.015]
["MC-BACD5N",{"v":2.48951,"d":"2.4895100"},0,{"v":-1.224496,"d":"-1.2244960"},-2,{"v":1.294262,"d":"1.2942620"},-2,{"v":3.490449,"d":"3.4904490"},-4,{"v":-1.777228,"d":"-1.7772280"},-5,{"v":9.113719,"d":"9.1137190"},-7,0.923,{"v":0.94,"d":"0.940"},0.973,0.993,0.997,0.999,0.998,0.998,0.996,0.998,0.998,0.998,0.998,0.998,0.998,0.998,0.998,0.998,0.998,0.998,0.999,0.999,0.999,0.999,0.999,0.999,0.999,0.999,0.999,0.999,0.999,0.999,0.998,0.998,0.996,0.993,0.983,0.971,0.944,0.903,0.836,0.747,0.636,0.518,0.819,0.857,0.935,0.983,0.992,0.998,0.995,0.994,0.991,0.996,0.996,0.996,0.995,0.996,0.996,0.996,0.996,0.996,0.996,0.996,0.997,0.998,0.999,0.999,0.999,0.999,0.999,0.999,0.999,0.998,0.998,0.997,0.996,0.994,{"v":0.99,"d":"0.990"},0.982,0.958,0.928,0.866,0.775,0.639,0.482,0.322,0.193,0.671,0.734,0.874,0.967,0.985,0.996,{"v":0.99,"d":"0.990"},0.989,0.981,0.992,0.992,0.991,{"v":0.99,"d":"0.990"},0.991,0.991,0.991,0.992,0.992,0.992,0.993,0.994,0.996,0.997,0.997,0.997,0.997,0.997,0.997,0.998,0.997,0.995,0.995,0.992,0.988,{"v":0.98,"d":"0.980"},0.965,0.919,0.861,{"v":0.75,"d":"0.750"},{"v":0.6,"d":"0.600"},0.408,0.233,0.104,0.037]
["MC-FCD1-M20",2.2209418,0,-7.4830372,-3,6.2463392,-3,7.1157759,-4,-8.2274254,-5,4.0430546,-6,"","","","","","",0.999,0.999,0.999,0.999,0.999,0.999,0.999,0.999,0.999,0.999,0.999,0.999,0.999,0.999,0.999,0.999,0.999,0.999,0.999,0.999,0.999,0.999,0.999,0.999,0.999,0.999,0.999,0.997,0.994,0.987,0.971,0.938,0.877,{"v":0.78,"d":"0.780"},0.645,0.489,0.337,0.205,"","","","","","",0.999,0.998,0.999,0.999,0.999,0.999,0.999,0.999,0.999,0.999,0.998,0.998,0.998,0.998,0.998,0.998,0.999,0.999,0.999,0.999,0.999,0.999,0.998,0.998,0.998,0.998,0.997,0.993,0.986,0.968,0.929,0.852,0.721,0.537,0.334,0.167,0.066,0.019,"","","","","","",0.997,0.997,0.997,0.999,0.999,0.999,0.999,0.999,0.999,0.999,0.999,0.999,0.999,0.999,0.999,0.999,0.998,0.998,0.999,0.999,0.999,0.998,0.997,0.996,0.995,0.996,0.993,0.987,0.972,0.938,0.863,0.726,{"v":0.52,"d":"0.520"},0.288,0.112,0.028,{"v":0,"d":"0.000"},{"v":0,"d":"0.000"}]
["MC-FCD500-20",2.3850427,0,{"v":-7.914269,"d":"-7.9142690"},-3,9.4886852,-3,5.7980093,-4,-6.0011677,-5,3.0355422,-6,"","","","","","",0.999,0.999,0.999,0.999,0.999,0.999,0.999,0.999,0.999,0.999,0.999,0.999,0.999,0.999,0.999,0.999,0.999,0.999,0.999,0.999,0.999,0.999,0.999,0.999,0.999,0.998,0.997,0.994,0.987,0.972,0.938,0.878,0.779,0.643,{"v":0.48,"d":"0.480"},0.323,0.181,{"v":0,"d":"0.000"},"","","","","","",0.999,0.998,0.999,0.999,0.999,0.999,0.999,0.999,0.999,0.999,0.998,0.998,0.998,0.998,0.998,0.998,0.999,0.999,0.999,0.999,0.999,0.999,0.998,0.997,0.997,0.996,0.993,0.986,0.969,0.931,0.853,0.722,0.536,0.331,{"v":0.16,"d":"0.160"},0.059,0.014,{"v":0,"d":"0.000"},"","","","","","",0.997,0.997,0.997,0.999,0.999,0.999,0.999,0.999,0.999,0.999,0.999,0.999,0.999,0.999,0.999,0.999,0.998,0.998,0.999,0.999,0.999,0.998,0.996,0.995,0.994,0.993,0.986,0.972,0.939,0.867,0.728,0.521,0.287,0.109,0.026,{"v":0,"d":"0.000"},{"v":0,"d":"0.000"},{"v":0,"d":"0.000"}]
["MC-FD80",{"v":2.761638,"d":"2.7616380"},0,{"v":-1.132633,"d":"-1.1326330"},-2,{"v":2.865346,"d":"2.8653460"},-2,{"v":1.529038,"d":"1.5290380"},-3,{"v":-8.743577,"d":"-8.7435770"},-5,{"v":1.496579,"d":"1.4965790"},-5,0.949,{"v":0.96,"d":"0.960"},0.972,0.986,0.993,0.997,0.998,0.998,0.999,0.999,0.999,0.999,0.999,0.999,0.999,0.999,0.999,0.999,0.999,0.999,0.999,0.999,0.999,0.999,0.999,0.999,0.999,0.998,0.997,0.996,0.994,0.986,{"v":0.97,"d":"0.970"},0.921,0.765,{"v":0,"d":"0.000"},{"v":0,"d":"0.000"},{"v":0,"d":"0.000"},{"v":0,"d":"0.000"},{"v":0,"d":"0.000"},{"v":0,"d":"0.000"},{"v":0,"d":"0.000"},{"v":0,"d":"0.000"},{"v":0,"d":"0.000"},0.877,0.904,{"v":0.93,"d":"0.930"},0.966,0.982,0.993,0.994,0.995,0.997,0.999,0.999,0.999,0.999,0.999,0.999,0.999,0.999,0.998,0.998,0.999,0.999,0.999,0.999,0.999,0.999,0.998,0.996,0.995,0.993,{"v":0.99,"d":"0.990"},0.985,0.965,0.928,0.813,0.512,{"v":0,"d":"0.000"},{"v":0,"d":"0.000"},{"v":0,"d":"0.000"},{"v":0,"d":"0.000"},{"v":0,"d":"0.000"},{"v":0,"d":"0.000"},{"v":0,"d":"0.000"},{"v":0,"d":"0.000"},{"v":0,"d":"0.000"},0.769,0.816,0.866,0.933,0.965,0.986,0.988,0.989,0.993,0.997,0.998,0.998,0.998,0.997,0.997,0.997,0.997,0.997,0.997,0.999,0.999,0.998,0.998,0.997,0.997,0.997,0.993,0.989,0.986,0.981,{"v":0.97,"d":"0.970"},0.931,0.861,0.661,0.263,{"v":0,"d":"0.000"},{"v":0,"d":"0.000"},{"v":0,"d":"0.000"},{"v":0,"d":"0.000"},{"v":0,"d":"0.000"},{"v":0,"d":"0.000"},{"v":0,"d":"0.000"},{"v":0,"d":"0.000"},{"v":0,"d":"0.000"}]
["MC-FDS2",{"v":3.771581,"d":"3.7715810"},0,-2.0445364,-2,6.3942579,-2,{"v":8.354547,"d":"8.3545470"},-3,-8.2031984,-4,1.0279507,-4,{"v":0.97,"d":"0.970"},{"v":0.98,"d":"0.980"},0.988,0.996,0.998,0.999,0.999,0.999,0.999,0.999,0.999,0.999,0.999,0.999,0.999,0.999,0.999,0.999,0.999,0.999,0.999,0.999,0.999,0.998,0.998,0.997,0.991,0.985,0.976,{"v":0.95,"d":"0.950"},0.855,0.503,{"v":0,"d":"0.000"},{"v":0,"d":"0.000"},{"v":0,"d":"0.000"},{"v":0,"d":"0.000"},{"v":0,"d":"0.000"},{"v":0,"d":"0.000"},{"v":0,"d":"0.000"},{"v":0,"d":"0.000"},{"v":0,"d":"0.000"},{"v":0,"d":"0.000"},{"v":0,"d":"0.000"},{"v":0,"d":"0.000"},"","","","","","",0.998,0.997,0.999,0.999,0.999,0.999,0.998,0.999,0.999,0.999,0.999,0.999,0.998,0.999,0.998,0.999,0.998,0.996,0.996,0.992,0.977,0.964,{"v":0.94,"d":"0.940"},{"v":0.88,"d":"0.880"},0.676,0.179,{"v":0,"d":"0.000"},{"v":0,"d":"0.000"},{"v":0,"d":"0.000"},{"v":0,"d":"0.000"},{"v":0,"d":"0.000"},{"v":0,"d":"0.000"},{"v":0,"d":"0.000"},{"v":0,"d":"0.000"},{"v":0,"d":"0.000"},{"v":0,"d":"0.000"},{"v":0,"d":"0.000"},{"v":0,"d":"0.000"},"","","","","","",0.995,0.994,0.997,0.998,0.999,0.998,0.996,0.998,0.998,0.998,0.998,0.998,0.996,0.998,0.996,0.998,0.995,0.992,0.993,0.984,0.954,0.928,0.884,0.774,0.457,0.032,{"v":0,"d":"0.000"},{"v":0,"d":"0.000"},{"v":0,"d":"0.000"},{"v":0,"d":"0.000"},{"v":0,"d":"0.000"},{"v":0,"d":"0.000"},{"v":0,"d":"0.000"},{"v":0,"d":"0.000"},{"v":0,"d":"0.000"},{"v":0,"d":"0.000"},{"v":0,"d":"0.000"},{"v":0,"d":"0.000"}]
["MC-FDS910-50",3.1667902,0,-1.3141416,-2,4.7178656,-2,2.2684284,-3,-5.3672387,-5,2.5328422,-5,"","","","","","",0.999,0.998,0.999,0.999,0.999,0.999,0.999,0.999,0.999,0.999,0.999,0.999,0.999,0.999,0.999,0.999,0.999,0.998,0.999,0.998,0.995,0.993,{"v":0.99,"d":"0.990"},0.986,0.976,0.941,0.881,0.728,0.432,0.022,{"v":0,"d":"0.000"},{"v":0,"d":"0.000"},{"v":0,"d":"0.000"},{"v":0,"d":"0.000"},{"v":0,"d":"0.000"},{"v":0,"d":"0.000"},{"v":0,"d":"0.000"},{"v":0,"d":"0.000"},"","","","","","",0.996,0.996,0.997,0.999,0.999,0.999,0.999,0.999,0.999,0.999,0.999,0.999,0.999,0.998,0.999,0.998,0.997,0.996,0.996,0.995,0.988,0.982,0.985,0.964,0.941,0.859,0.729,0.451,0.124,{"v":0,"d":"0.000"},{"v":0,"d":"0.000"},{"v":0,"d":"0.000"},{"v":0,"d":"0.000"},{"v":0,"d":"0.000"},{"v":0,"d":"0.000"},{"v":0,"d":"0.000"},{"v":0,"d":"0.000"},{"v":0,"d":"0.000"},"","","","","","",0.993,0.992,0.995,0.999,0.999,0.999,0.999,0.998,0.998,0.998,0.998,0.998,0.999,0.997,0.998,0.996,0.994,0.992,0.993,{"v":0.99,"d":"0.990"},0.975,0.965,0.952,{"v":0.93,"d":"0.930"},0.885,0.737,0.531,0.204,0.015,{"v":0,"d":"0.000"},{"v":0,"d":"0.000"},{"v":0,"d":"0.000"},{"v":0,"d":"0.000"},{"v":0,"d":"0.000"},{"v":0,"d":"0.000"},{"v":0,"d":"0.000"},{"v":0,"d":"0.000"},{"v":0,"d":"0.000"}]
["MC-LAC130",{"v":2.813412,"d":"2.8134120"},0,{"v":-1.332448,"d":"-1.3324480"},-2,{"v":1.927865,"d":"1.9278650"},-2,{"v":4.124452,"d":"4.1244520"},-4,{"v":-9.940432,"d":"-9.9404320"},-6,{"v":9.622024,"d":"9.6220240"},-7,"","","","","","",0.999,0.999,0.999,0.999,0.999,0.999,0.999,0.999,0.999,0.999,0.999,0.999,0.999,0.999,0.999,0.999,0.999,0.999,0.999,0.999,0.999,0.999,0.999,0.999,0.998,0.997,0.996,0.993,0.988,0.978,0.959,0.931,0.887,0.823,0.739,{"v":0.65,"d":"0.650"},0.528,0.359,"","","","","","",0.998,0.998,0.999,0.999,0.999,0.999,0.999,0.999,0.999,0.999,0.999,0.999,0.999,0.999,0.999,0.999,0.999,0.999,0.999,0.999,0.999,0.999,0.998,0.997,0.996,0.994,{"v":0.99,"d":"0.990"},0.983,0.971,0.947,{"v":0.9,"d":"0.900"},0.835,0.741,0.614,{"v":0.47,"d":"0.470"},0.341,0.203,0.077,"","","","","","",0.997,0.997,0.997,0.999,0.999,0.999,0.999,0.999,0.999,0.999,0.999,0.999,0.998,0.999,0.998,0.999,0.999,0.999,0.998,0.999,0.999,0.997,0.996,0.994,0.991,0.987,{"v":0.98,"d":"0.980"},0.966,0.943,0.897,0.811,0.698,0.549,0.377,0.221,0.116,0.041,{"v":0,"d":"0.000"}]
["MC-NBF1",{"v":2.975245,"d":"2.9752450"},0,{"v":-1.425016,"d":"-1.4250160"},-2,{"v":2.140074,"d":"2.1400740"},-2,{"v":9.755337,"d":"9.7553370"},-4,{"v":-6.97953,"d":"-6.9795300"},-5,{"v":4.114924,"d":"4.1149240"},-6,"","","","","","","","","","","","","","","","","","","","","","","","","","","","","","","","","","","","","","","","","","","","","","","","","","",0.994,0.994,0.994,0.998,0.999,0.999,0.999,0.999,0.998,0.999,0.999,0.999,0.999,0.999,0.999,0.999,0.999,0.999,0.999,0.999,0.999,0.999,0.998,0.998,0.997,0.996,0.994,0.991,0.984,0.973,0.953,0.923,0.881,0.823,0.697,0.672,0.584,0.412,"","","","","","",0.989,0.988,0.988,0.996,0.997,0.997,0.997,0.997,0.997,0.997,0.998,0.999,0.999,0.999,0.999,0.999,0.999,0.999,0.999,0.998,0.998,0.997,0.997,0.996,0.995,0.992,0.988,0.981,0.969,0.946,0.909,0.852,0.775,0.677,0.486,0.451,0.341,{"v":0.17,"d":"0.170"}]
["MC-NBFD130",{"v":3.173794,"d":"3.1737940"},0,{"v":-1.498658,"d":"-1.4986580"},-2,{"v":2.906741,"d":"2.9067410"},-2,{"v":1.204829,"d":"1.2048290"},-3,{"v":-5.355158,"d":"-5.3551580"},-5,{"v":5.27135,"d":"5.2713500"},-6,0.896,0.934,0.978,0.991,0.996,0.999,0.999,0.999,0.999,0.999,0.999,0.999,0.999,0.999,0.999,0.999,0.999,0.999,0.999,0.999,0.999,0.999,0.999,0.999,0.999,0.999,0.998,0.997,0.996,0.996,0.994,{"v":0.99,"d":"0.990"},0.985,0.976,0.959,0.913,0.815,0.604,0.291,{"v":0,"d":"0.000"},{"v":0,"d":"0.000"},{"v":0,"d":"0.000"},{"v":0,"d":"0.000"},{"v":0,"d":"0.000"},0.759,0.842,0.947,0.978,{"v":0.99,"d":"0.990"},0.997,0.997,0.997,0.998,0.999,0.999,0.999,0.999,0.999,0.999,0.999,0.999,0.999,0.998,0.999,0.998,0.998,0.998,0.997,0.997,0.997,0.995,0.993,0.991,0.988,0.984,0.974,0.963,0.942,0.901,0.797,0.601,0.284,0.046,{"v":0,"d":"0.000"},{"v":0,"d":"0.000"},{"v":0,"d":"0.000"},{"v":0,"d":"0.000"},{"v":0,"d":"0.000"},0.576,0.709,0.896,0.957,{"v":0.98,"d":"0.980"},0.994,0.994,0.993,0.997,0.998,0.998,0.998,0.998,0.998,0.998,0.998,0.998,0.998,0.996,0.997,0.995,0.996,0.996,0.995,0.994,0.993,{"v":0.99,"d":"0.990"},0.986,0.981,0.976,0.969,0.949,0.927,0.887,0.811,0.635,0.361,{"v":0.08,"d":"0.080"},{"v":0,"d":"0.000"},{"v":0,"d":"0.000"},{"v":0,"d":"0.000"},{"v":0,"d":"0.000"},{"v":0,"d":"0.000"},{"v":0,"d":"0.000"}]
["MC-NBFD135",3.1819698,0,-1.4926522,-2,2.8987649,-2,1.2223654,-3,-5.2916688,-5,4.7807227,-6,0.896,0.932,{"v":0.98,"d":"0.980"},0.995,0.999,0.999,0.999,0.999,0.999,0.999,0.999,0.999,0.999,0.999,0.999,0.999,0.999,0.999,0.999,0.999,0.999,0.999,0.999,0.999,0.999,0.999,0.999,0.999,0.998,0.997,0.996,0.992,0.989,0.982,0.968,0.935,0.853,0.677,0.386,{"v":0,"d":"0.000"},{"v":0,"d":"0.000"},{"v":0,"d":"0.000"},{"v":0,"d":"0.000"},{"v":0,"d":"0.000"},{"v":0.76,"d":"0.760"},{"v":0.84,"d":"0.840"},0.952,0.987,0.997,0.999,0.998,0.998,0.999,0.999,0.999,0.999,0.999,0.999,0.999,0.999,0.999,0.999,0.999,0.999,0.999,0.999,0.999,0.999,0.999,0.999,0.998,0.997,0.994,0.993,0.989,0.981,0.972,0.956,0.921,0.844,0.671,0.376,0.092,{"v":0,"d":"0.000"},{"v":0,"d":"0.000"},{"v":0,"d":"0.000"},{"v":0,"d":"0.000"},{"v":0,"d":"0.000"},0.577,0.705,0.906,0.974,0.995,0.999,0.997,0.997,0.997,0.999,0.999,0.999,0.999,0.999,0.999,0.999,0.999,0.999,0.998,0.999,0.998,0.999,0.999,0.999,0.999,0.999,0.995,0.994,0.989,0.985,0.978,0.963,0.945,0.914,0.848,0.713,0.451,0.142,{"v":0,"d":"0.000"},{"v":0,"d":"0.000"},{"v":0,"d":"0.000"},{"v":0,"d":"0.000"},{"v":0,"d":"0.000"},{"v":0,"d":"0.000"}]
["MC-PCD4-40",2.5831471,0,-9.7502344,-3,1.3615374,-2,3.6346122,-4,-2.1187082,-5,1.1536132,-6,"","","","","","",0.999,0.999,0.999,0.999,0.999,0.999,0.999,0.999,0.999,0.999,0.999,0.999,0.999,0.999,0.999,0.999,0.999,0.999,0.999,0.999,0.999,0.999,0.999,0.998,0.998,0.997,0.995,0.991,0.981,{"v":0.96,"d":"0.960"},0.921,0.854,0.751,{"v":0.62,"d":"0.620"},0.471,0.332,0.216,0.112,"","","","","","",0.997,0.997,0.997,0.998,0.998,0.997,0.997,0.997,0.997,0.997,0.997,0.997,0.997,0.999,0.998,0.999,0.999,0.998,0.998,0.999,0.998,0.998,0.997,0.996,0.996,0.993,0.988,0.977,0.954,0.903,0.814,0.675,0.489,0.304,0.154,0.063,0.022,{"v":0,"d":"0.000"},"","","","","","",0.994,0.994,0.995,0.996,0.995,0.995,0.994,0.994,0.994,0.994,0.994,0.994,0.994,0.997,0.997,0.997,0.997,0.996,0.997,0.998,0.997,0.996,0.994,0.992,0.991,0.986,0.976,0.954,0.911,0.815,0.663,0.455,{"v":0.24,"d":"0.240"},0.092,0.024,{"v":0,"d":"0.000"},{"v":0,"d":"0.000"},{"v":0,"d":"0.000"}]
["MC-PCD51-70",2.5025436,0,-1.0321437,-2,1.2433636,-2,2.1866535,-4,-5.5793977,-6,3.0188383,-7,0.956,0.969,0.981,0.994,0.997,0.999,0.998,0.998,0.999,0.999,0.999,0.999,0.999,0.999,0.999,0.999,0.999,0.999,0.999,0.999,0.999,0.999,0.999,0.999,0.999,0.999,0.999,0.999,0.999,0.998,0.998,0.998,0.998,0.997,0.996,0.993,0.987,0.976,0.957,0.929,0.887,0.832,0.765,0.681,0.894,0.925,0.954,0.985,0.993,0.998,0.996,0.996,0.997,0.999,0.999,0.999,0.999,0.999,0.999,0.999,0.999,0.999,0.999,0.999,0.999,0.999,0.999,0.999,0.998,0.999,0.998,0.998,0.997,0.996,0.996,0.996,0.995,0.993,0.989,0.982,0.967,{"v":0.94,"d":"0.940"},0.895,0.831,{"v":0.74,"d":"0.740"},{"v":0.63,"d":"0.630"},{"v":0.51,"d":"0.510"},0.381,{"v":0.8,"d":"0.800"},0.856,{"v":0.91,"d":"0.910"},0.971,0.986,0.997,0.992,0.992,0.994,0.998,0.998,0.998,0.999,0.998,0.998,0.999,0.999,0.999,0.999,0.999,0.999,0.999,0.998,0.998,0.997,0.998,0.997,0.996,0.994,0.992,0.991,0.991,{"v":0.99,"d":"0.990"},0.986,0.978,0.964,0.935,0.884,0.802,{"v":0.69,"d":"0.690"},0.547,0.397,{"v":0.26,"d":"0.260"},0.145]
["MC-TAF1",{"v":3.070806,"d":"3.0708060"},0,-1.2276924,-2,{"v":2.456566,"d":"2.4565660"},-2,4.7436648,-4,{"v":5.432616,"d":"5.4326160"},-7,6.5976661,-7,"","","","","","","","","","","","","","","","","","","","","","","","","","","","","","","","","","","","","","","","","","","","","","","","","","",0.998,0.998,0.999,0.999,0.999,0.999,0.999,0.999,0.999,0.999,0.999,0.999,0.999,0.999,0.999,0.999,0.999,0.999,0.998,0.999,0.999,0.998,0.997,0.996,0.995,0.992,0.989,0.983,0.971,0.949,0.912,0.855,0.773,0.668,0.449,0.429,{"v":0.34,"d":"0.340"},0.217,"","","","","","",0.997,0.996,0.997,0.998,0.998,0.998,0.998,0.998,0.998,0.998,0.998,0.999,0.999,0.998,0.998,0.998,0.998,0.997,0.997,0.998,0.997,0.996,0.994,0.992,{"v":0.99,"d":"0.990"},0.985,0.978,0.966,0.942,{"v":0.9,"d":"0.900"},0.831,0.731,0.598,0.446,0.202,0.184,0.116,0.047]
["MC-TAF101-100",3.0591566,0,-1.3604717,-2,2.4624272,-2,4.1834242,-4,2.5361908,-6,{"v":7.998082,"d":"7.9980820"},-7,0.864,0.907,0.971,0.992,0.998,0.999,0.998,0.998,0.998,0.999,0.999,0.999,0.999,0.999,0.999,0.999,0.999,0.999,0.999,0.999,0.999,0.999,0.999,0.999,0.999,0.999,0.999,0.999,0.999,0.998,0.998,0.996,0.995,0.993,0.989,{"v":0.98,"d":"0.980"},0.968,0.949,0.922,0.885,{"v":0.78,"d":"0.780"},0.783,0.723,0.589,0.694,0.784,0.929,0.979,0.994,0.999,0.996,0.996,0.996,0.999,0.999,0.999,0.999,0.999,0.999,0.999,0.999,0.999,0.999,0.999,0.999,0.999,0.999,0.999,0.999,0.999,0.999,0.998,0.997,0.996,0.995,0.991,0.988,0.982,0.972,0.951,0.922,0.878,0.817,0.737,0.538,0.543,0.444,0.266,0.482,0.614,0.863,0.958,0.988,0.999,0.993,0.992,0.992,0.999,0.999,0.999,0.999,0.999,0.999,0.999,0.999,0.999,0.998,0.998,0.998,0.998,0.998,0.998,0.998,0.998,0.997,0.996,0.994,0.992,0.989,0.983,0.976,0.964,0.944,0.905,{"v":0.85,"d":"0.850"},{"v":0.77,"d":"0.770"},0.668,0.543,0.289,0.295,0.197,0.071]
["MC-TAF105",3.0705638,0,-1.3310234,-2,2.5280355,-2,2.1829234,-4,3.2555293,-5,-8.1300421,-7,"","","","","","",0.999,0.999,0.999,0.999,0.999,0.999,0.999,0.999,0.999,0.999,0.999,0.999,0.999,0.999,0.999,0.999,0.999,0.999,0.999,0.999,0.999,0.999,0.999,0.999,0.998,0.997,0.995,0.992,0.987,0.977,0.962,0.939,0.905,0.859,0.735,{"v":0.72,"d":"0.720"},0.628,0.474,"","","","","","",0.997,0.997,0.997,0.999,0.999,0.999,0.999,0.999,0.999,0.999,0.999,0.999,0.999,0.999,0.999,0.999,0.999,0.999,0.999,0.999,0.999,0.999,0.998,0.997,0.996,0.992,0.988,0.981,0.969,0.945,0.909,0.854,0.779,0.684,0.464,0.439,0.314,0.156,"","","","","","",0.994,0.995,0.994,0.999,0.999,0.999,0.999,0.999,0.998,0.998,0.998,0.998,0.997,0.999,0.999,0.999,0.999,0.999,0.999,0.999,0.999,0.997,0.997,0.995,0.991,0.984,0.977,0.962,0.939,0.892,0.826,0.729,0.607,0.468,0.215,0.193,0.098,0.024]
["MC-TAF31-15",{"v":3.164475,"d":"3.1644750"},0,-1.3801295,-2,2.7926276,-2,{"v":5.7403,"d":"5.7403000"},-4,9.8223773,-7,1.3284244,-6,"","","","","","",0.999,0.999,0.999,0.999,0.999,0.999,0.999,0.999,0.999,0.999,0.999,0.999,0.999,0.999,0.999,0.999,0.999,0.999,0.999,0.999,0.999,0.999,0.999,0.998,0.998,0.996,0.994,0.991,0.985,0.976,{"v":0.96,"d":"0.960"},0.937,0.904,0.859,0.757,0.738,{"v":0.65,"d":"0.650"},0.488,"","","","","","",0.998,0.998,0.998,0.999,0.999,0.999,0.999,0.999,0.999,0.999,0.999,0.999,0.999,0.999,0.999,0.999,0.999,0.999,0.999,0.999,0.998,0.998,0.997,0.995,0.994,0.989,0.985,0.977,0.964,0.941,0.902,0.849,0.777,0.684,0.498,0.468,{"v":0.34,"d":"0.340"},0.166,"","","","","","",0.997,0.996,0.997,0.999,0.999,0.999,0.999,0.999,0.999,0.999,0.998,0.999,0.999,0.999,0.999,0.999,0.999,0.998,0.998,0.998,0.996,0.995,0.993,0.991,0.987,0.978,{"v":0.97,"d":"0.970"},0.955,0.928,0.886,0.814,{"v":0.72,"d":"0.720"},0.604,0.468,0.248,0.219,0.115,0.028]
["MC-TAF401",{"v":3.07279,"d":"3.0727900"},0,{"v":-1.366385,"d":"-1.3663850"},-2,{"v":2.527346,"d":"2.5273460"},-2,{"v":6.12182,"d":"6.1218200"},-4,{"v":-1.147045,"d":"-1.1470450"},-5,{"v":1.543,"d":"1.5430000"},-6,"","","","","","",0.999,0.999,0.999,0.999,0.999,0.999,0.999,0.999,0.999,0.999,0.999,0.998,0.998,0.998,0.999,0.998,0.999,0.999,0.999,0.999,0.999,0.999,0.998,0.998,0.997,0.995,0.992,0.988,0.981,0.966,0.938,{"v":0.89,"d":"0.890"},0.801,0.644,0.373,{"v":0,"d":"0.000"},{"v":0,"d":"0.000"},{"v":0,"d":"0.000"},"","","","","","",0.997,0.997,0.998,0.998,0.998,0.998,0.998,0.997,0.997,0.997,0.997,0.996,0.996,0.996,0.997,0.996,0.997,0.998,0.998,0.999,0.998,0.997,0.995,0.994,0.992,0.987,0.981,0.971,0.952,0.917,0.852,0.748,0.575,0.333,0.085,{"v":0,"d":"0.000"},{"v":0,"d":"0.000"},{"v":0,"d":"0.000"},"","","","","","",0.994,0.995,0.995,0.996,0.996,0.995,0.995,0.995,0.994,0.995,0.994,0.993,0.992,0.992,0.993,0.993,0.991,0.991,0.991,0.991,0.991,0.991,0.991,0.988,0.984,0.975,0.962,0.943,0.907,{"v":0.84,"d":"0.840"},0.726,{"v":0.56,"d":"0.560"},0.331,0.111,{"v":0,"d":"0.000"},{"v":0,"d":"0.000"},{"v":0,"d":"0.000"},{"v":0,"d":"0.000"}]
["MC-TAFD305",{"v":3.327184,"d":"3.3271840"},0,{"v":-1.343242,"d":"-1.3432420"},-2,{"v":3.3398,"d":"3.3398000"},-2,{"v":1.006047,"d":"1.0060470"},-3,{"v":-2.136908,"d":"-2.1369080"},-5,{"v":3.972561,"d":"3.9725610"},-6,0.909,0.943,0.983,0.994,0.998,0.999,0.999,0.999,0.999,0.999,0.999,0.999,0.999,0.999,0.999,0.999,0.999,0.999,0.999,0.999,0.999,0.999,0.999,0.999,0.999,0.999,0.999,0.998,0.997,0.996,0.994,0.987,0.981,0.967,0.938,0.874,0.728,0.474,{"v":0,"d":"0.000"},{"v":0,"d":"0.000"},{"v":0,"d":"0.000"},{"v":0,"d":"0.000"},{"v":0,"d":"0.000"},{"v":0,"d":"0.000"},0.788,0.864,0.959,0.986,0.996,0.999,0.998,0.998,0.998,0.998,0.997,0.997,0.997,0.997,0.997,0.997,0.997,0.997,0.998,0.997,0.997,0.998,0.999,0.999,0.999,0.999,0.997,0.995,0.993,0.989,0.985,0.969,0.952,0.919,0.851,0.714,0.452,0.155,{"v":0,"d":"0.000"},{"v":0,"d":"0.000"},{"v":0,"d":"0.000"},{"v":0,"d":"0.000"},{"v":0,"d":"0.000"},{"v":0,"d":"0.000"},0.621,0.746,{"v":0.92,"d":"0.920"},0.973,0.992,0.999,0.995,0.996,0.996,0.996,0.995,0.994,0.994,0.994,0.993,0.994,0.993,0.994,0.996,0.994,0.995,0.995,0.995,0.995,0.996,0.997,0.995,{"v":0.99,"d":"0.990"},0.986,0.979,{"v":0.97,"d":"0.970"},0.939,0.906,0.845,0.724,0.509,0.204,0.024,{"v":0,"d":"0.000"},{"v":0,"d":"0.000"},{"v":0,"d":"0.000"},{"v":0,"d":"0.000"},{"v":0,"d":"0.000"},{"v":0,"d":"0.000"}]
["MC-TAFD307",3.4286062,0,-1.3845333,-2,3.7363009,-2,1.1894554,-3,-1.5979979,-5,5.1827398,-6,"","","","","","",0.999,0.999,0.999,0.999,0.999,0.999,0.999,0.999,0.999,0.999,0.999,0.999,0.999,0.999,0.999,0.999,0.999,0.999,0.999,0.999,0.997,0.996,0.995,0.993,0.989,0.979,0.967,0.944,0.894,0.762,0.528,0.132,{"v":0,"d":"0.000"},{"v":0,"d":"0.000"},{"v":0,"d":"0.000"},{"v":0,"d":"0.000"},{"v":0,"d":"0.000"},{"v":0,"d":"0.000"},"","","","","","",0.997,0.997,0.998,0.999,0.999,0.999,0.999,0.999,0.999,0.999,0.999,0.999,0.999,0.998,0.998,0.998,0.998,0.997,0.997,0.996,0.993,{"v":0.99,"d":"0.990"},0.987,0.982,0.972,0.948,{"v":0.92,"d":"0.920"},0.866,0.755,0.507,0.202,{"v":0,"d":"0.000"},{"v":0,"d":"0.000"},{"v":0,"d":"0.000"},{"v":0,"d":"0.000"},{"v":0,"d":"0.000"},{"v":0,"d":"0.000"},{"v":0,"d":"0.000"},"","","","","","",0.995,0.994,0.996,0.997,0.998,0.997,0.998,0.997,0.997,0.997,0.997,0.998,0.998,0.996,0.996,0.996,0.995,0.994,0.994,0.993,0.986,0.981,0.975,0.965,0.946,0.898,0.847,0.749,0.571,0.257,0.041,{"v":0,"d":"0.000"},{"v":0,"d":"0.000"},{"v":0,"d":"0.000"},{"v":0,"d":"0.000"},{"v":0,"d":"0.000"},{"v":0,"d":"0.000"},{"v":0,"d":"0.000"}]
["MC-TAFD51-50",3.2288052,0,-1.4433046,-2,2.9863488,-2,8.2119282,-4,-1.0943492,-5,2.5804939,-6,"","","","","","",0.999,0.999,0.999,0.999,0.999,0.999,0.999,0.999,0.999,0.999,0.999,0.999,0.999,0.999,0.999,0.999,0.999,0.999,0.999,0.999,0.999,0.998,0.998,0.997,0.996,0.992,0.987,0.979,0.961,0.922,{"v":0.82,"d":"0.820"},0.614,0.222,0.019,{"v":0,"d":"0.000"},{"v":0,"d":"0.000"},{"v":0,"d":"0.000"},{"v":0,"d":"0.000"},"","","","","","",0.998,0.998,0.998,0.999,0.999,0.999,0.999,0.999,0.999,0.999,0.999,0.999,0.999,0.999,0.999,0.999,0.999,0.999,0.999,0.999,0.997,0.996,0.995,0.993,0.989,{"v":0.98,"d":"0.980"},0.969,0.949,0.906,0.816,0.608,0.296,0.023,{"v":0,"d":"0.000"},{"v":0,"d":"0.000"},{"v":0,"d":"0.000"},{"v":0,"d":"0.000"},{"v":0,"d":"0.000"},"","","","","","",0.996,0.996,0.997,0.999,0.999,0.999,0.999,0.999,0.999,0.999,0.999,0.998,0.999,0.999,0.999,0.999,0.999,0.998,0.998,0.997,0.995,0.993,{"v":0.99,"d":"0.990"},0.985,0.979,{"v":0.96,"d":"0.960"},{"v":0.94,"d":"0.940"},{"v":0.9,"d":"0.900"},0.821,0.666,0.369,0.088,{"v":0,"d":"0.000"},{"v":0,"d":"0.000"},{"v":0,"d":"0.000"},{"v":0,"d":"0.000"},{"v":0,"d":"0.000"},{"v":0,"d":"0.000"}]
["M-FCD1",2.2189068,0,-6.1707065,-3,8.0887631,-3,1.3357782,-4,1.9476186,-7,-2.2577804,-7,0.997,0.999,0.999,0.999,0.999,0.999,0.999,0.999,0.999,0.999,0.999,0.999,0.999,0.999,0.999,0.999,0.999,0.999,0.999,0.999,0.999,0.999,0.999,0.999,0.999,0.999,0.999,0.999,0.999,0.999,0.999,0.999,0.999,0.997,0.994,0.987,0.971,0.938,0.877,{"v":0.78,"d":"0.780"},0.645,0.489,0.337,0.205,0.992,0.997,0.997,0.998,0.998,0.998,0.999,0.998,0.999,0.999,0.999,0.999,0.999,0.999,0.999,0.999,0.998,0.998,0.998,0.998,0.998,0.998,0.999,0.999,0.999,0.999,0.999,0.999,0.998,0.998,0.998,0.998,0.997,0.993,0.986,0.968,0.929,0.852,0.721,0.537,0.334,0.167,0.066,0.019,0.985,0.994,0.995,0.997,0.997,0.996,0.997,0.997,0.997,0.999,0.999,0.999,0.999,0.999,0.999,0.999,0.999,0.999,0.999,0.999,0.999,0.999,0.998,0.998,0.999,0.999,0.999,0.998,0.997,0.996,0.995,0.996,0.993,0.987,0.972,0.938,0.863,0.726,{"v":0.52,"d":"0.520"},0.288,0.112,0.028,{"v":0,"d":"0.000"},{"v":0,"d":"0.000"}]
["M-FCD500",2.3841554,0,-7.8084423,-3,9.7130883,-3,4.9959889,-4,-4.7303224,-5,2.3205441,-6,0.996,0.998,0.998,0.999,0.999,0.999,0.999,0.999,0.999,0.999,0.999,0.999,0.999,0.999,0.999,0.999,0.999,0.999,0.999,0.999,0.999,0.999,0.999,0.999,0.999,0.999,0.999,0.999,0.999,0.999,0.999,0.998,0.997,0.994,0.987,0.972,0.938,0.878,0.779,0.643,{"v":0.48,"d":"0.480"},0.323,0.181,{"v":0,"d":"0.000"},{"v":0.99,"d":"0.990"},0.995,0.996,0.998,0.998,0.998,0.999,0.998,0.999,0.999,0.999,0.999,0.999,0.999,0.999,0.999,0.998,0.998,0.998,0.998,0.998,0.998,0.999,0.999,0.999,0.999,0.999,0.999,0.998,0.997,0.997,0.996,0.993,0.986,0.969,0.931,0.853,0.722,0.536,0.331,{"v":0.16,"d":"0.160"},0.059,0.014,{"v":0,"d":"0.000"},{"v":0.98,"d":"0.980"},0.991,0.992,0.997,0.997,0.997,0.997,0.997,0.997,0.999,0.999,0.999,0.999,0.999,0.999,0.999,0.999,0.999,0.999,0.999,0.999,0.999,0.998,0.998,0.999,0.999,0.999,0.998,0.996,0.995,0.994,0.993,0.986,0.972,0.939,0.867,0.728,0.521,0.287,0.109,0.026,{"v":0,"d":"0.000"},{"v":0,"d":"0.000"},{"v":0,"d":"0.000"}]
["M-FD80",{"v":2.761638,"d":"2.7616380"},0,{"v":-1.132633,"d":"-1.1326330"},-2,{"v":2.865346,"d":"2.8653460"},-2,{"v":1.529038,"d":"1.5290380"},-3,{"v":-8.743577,"d":"-8.7435770"},-5,{"v":1.496579,"d":"1.4965790"},-5,"","","","","","",0.999,0.999,0.998,0.999,0.999,0.999,0.999,0.999,0.999,0.999,0.999,0.999,0.999,0.999,0.999,0.999,0.999,0.999,0.999,0.998,0.995,0.994,0.991,0.988,0.982,0.965,0.941,0.878,0.734,0.488,{"v":0,"d":"0.000"},{"v":0,"d":"0.000"},{"v":0,"d":"0.000"},{"v":0,"d":"0.000"},{"v":0,"d":"0.000"},{"v":0,"d":"0.000"},{"v":0,"d":"0.000"},{"v":0,"d":"0.000"},"","","","","","",0.997,0.997,0.995,0.999,0.999,0.999,0.999,0.999,0.999,0.999,0.999,0.999,0.999,0.998,0.998,0.998,0.997,0.997,0.997,0.995,0.988,0.984,0.978,{"v":0.97,"d":"0.970"},0.955,0.914,0.858,0.723,0.461,0.166,{"v":0,"d":"0.000"},{"v":0,"d":"0.000"},{"v":0,"d":"0.000"},{"v":0,"d":"0.000"},{"v":0,"d":"0.000"},{"v":0,"d":"0.000"},{"v":0,"d":"0.000"},{"v":0,"d":"0.000"},"","","","","","",0.994,0.994,{"v":0.99,"d":"0.990"},0.997,0.998,0.998,0.998,0.998,0.997,0.997,0.998,0.998,0.998,0.996,0.996,0.996,0.994,0.994,0.994,{"v":0.99,"d":"0.990"},0.976,0.968,0.957,0.941,0.911,0.836,0.736,0.523,0.213,0.027,{"v":0,"d":"0.000"},{"v":0,"d":"0.000"},{"v":0,"d":"0.000"},{"v":0,"d":"0.000"},{"v":0,"d":"0.000"},{"v":0,"d":"0.000"},{"v":0,"d":"0.000"},{"v":0,"d":"0.000"}]
["M-FDS1",3.4984224,0,{"v":-1.689542,"d":"-1.6895420"},-2,5.7567078,-2,5.1693668,-3,{"v":-3.996631,"d":"-3.9966310"},-4,6.2368582,-5,"","","","","","","","","","","","","","","","","","","","","","","","","","","","","","","","","","","","","","","","","","","","","","","","","","",0.998,0.998,0.999,0.999,0.999,0.999,0.999,0.999,0.999,0.999,0.999,0.998,0.998,0.998,0.998,0.998,0.997,0.997,0.996,0.992,0.976,0.965,0.947,0.907,0.801,0.457,0.181,{"v":0,"d":"0.000"},{"v":0,"d":"0.000"},{"v":0,"d":"0.000"},{"v":0,"d":"0.000"},{"v":0,"d":"0.000"},{"v":0,"d":"0.000"},{"v":0,"d":"0.000"},{"v":0,"d":"0.000"},{"v":0,"d":"0.000"},{"v":0,"d":"0.000"},{"v":0,"d":"0.000"},"","","","","","",0.996,0.995,0.998,0.999,0.999,0.999,0.999,0.999,0.998,0.998,0.997,0.996,0.996,0.997,0.996,0.996,0.995,0.994,0.993,0.983,0.953,0.932,0.896,0.823,0.641,0.209,0.033,{"v":0,"d":"0.000"},{"v":0,"d":"0.000"},{"v":0,"d":"0.000"},{"v":0,"d":"0.000"},{"v":0,"d":"0.000"},{"v":0,"d":"0.000"},{"v":0,"d":"0.000"},{"v":0,"d":"0.000"},{"v":0,"d":"0.000"},{"v":0,"d":"0.000"},{"v":0,"d":"0.000"}]
["M-FDS2",{"v":3.771581,"d":"3.7715810"},0,-2.0445364,-2,6.3942579,-2,{"v":8.354547,"d":"8.3545470"},-3,-8.2031984,-4,1.0279507,-4,"","","","","","",0.999,0.999,0.999,0.999,0.999,0.999,0.999,0.999,0.999,0.999,0.999,0.999,0.999,0.999,0.999,0.999,0.999,0.999,0.998,0.994,0.982,0.972,0.954,0.915,0.803,0.457,0.132,{"v":0,"d":"0.000"},{"v":0,"d":"0.000"},{"v":0,"d":"0.000"},{"v":0,"d":"0.000"},{"v":0,"d":"0.000"},{"v":0,"d":"0.000"},{"v":0,"d":"0.000"},{"v":0,"d":"0.000"},{"v":0,"d":"0.000"},{"v":0,"d":"0.000"},{"v":0,"d":"0.000"},"","","","","","",0.999,0.998,0.999,0.999,0.999,0.999,0.999,0.999,0.999,0.999,0.999,0.999,0.998,0.999,0.999,0.999,0.998,0.997,0.995,0.986,0.955,0.931,{"v":0.89,"d":"0.890"},0.802,0.578,0.143,{"v":0,"d":"0.000"},{"v":0,"d":"0.000"},{"v":0,"d":"0.000"},{"v":0,"d":"0.000"},{"v":0,"d":"0.000"},{"v":0,"d":"0.000"},{"v":0,"d":"0.000"},{"v":0,"d":"0.000"},{"v":0,"d":"0.000"},{"v":0,"d":"0.000"},{"v":0,"d":"0.000"},{"v":0,"d":"0.000"},"","","","","","",0.997,0.997,0.998,0.998,0.998,0.998,0.999,0.999,0.999,0.999,0.999,0.998,0.997,0.999,0.999,0.999,0.997,0.994,0.991,0.972,0.911,0.867,0.792,0.643,0.334,{"v":0.02,"d":"0.020"},{"v":0,"d":"0.000"},{"v":0,"d":"0.000"},{"v":0,"d":"0.000"},{"v":0,"d":"0.000"},{"v":0,"d":"0.000"},{"v":0,"d":"0.000"},{"v":0,"d":"0.000"},{"v":0,"d":"0.000"},{"v":0,"d":"0.000"},{"v":0,"d":"0.000"},{"v":0,"d":"0.000"},{"v":0,"d":"0.000"}]
["M-FDS910",{"v":3.165987,"d":"3.1659870"},0,{"v":-1.349196,"d":"-1.3491960"},-2,{"v":4.649918,"d":"4.6499180"},-2,{"v":2.471413,"d":"2.4714130"},-3,{"v":-8.659596,"d":"-8.6595960"},-5,{"v":2.725927,"d":"2.7259270"},-5,0.973,{"v":0.98,"d":"0.980"},0.989,0.997,0.998,0.998,0.999,0.999,0.999,0.999,0.999,0.999,0.999,0.999,0.999,0.999,0.999,0.999,0.999,0.999,0.999,0.999,0.999,0.999,0.999,0.998,0.992,0.989,0.983,0.974,0.955,0.902,0.829,0.684,0.453,{"v":0,"d":"0.000"},{"v":0,"d":"0.000"},{"v":0,"d":"0.000"},{"v":0,"d":"0.000"},{"v":0,"d":"0.000"},{"v":0,"d":"0.000"},{"v":0,"d":"0.000"},{"v":0,"d":"0.000"},{"v":0,"d":"0.000"},0.935,{"v":0.95,"d":"0.950"},0.972,0.992,0.996,0.996,0.999,0.999,0.999,0.999,0.999,0.999,0.999,0.999,0.999,0.999,0.999,0.999,0.999,0.999,0.999,0.999,0.999,0.998,0.998,0.994,0.981,0.972,0.958,0.937,0.892,0.772,0.626,0.387,0.138,{"v":0,"d":"0.000"},{"v":0,"d":"0.000"},{"v":0,"d":"0.000"},{"v":0,"d":"0.000"},{"v":0,"d":"0.000"},{"v":0,"d":"0.000"},{"v":0,"d":"0.000"},{"v":0,"d":"0.000"},{"v":0,"d":"0.000"},0.875,0.902,0.945,0.985,0.993,0.993,0.999,0.999,0.999,0.999,0.999,0.999,0.999,0.999,0.999,0.999,0.999,0.999,0.999,0.999,0.998,0.998,0.997,0.995,0.995,0.988,0.962,0.944,0.918,0.877,0.795,0.596,0.392,{"v":0.15,"d":"0.150"},0.019,{"v":0,"d":"0.000"},{"v":0,"d":"0.000"},{"v":0,"d":"0.000"},{"v":0,"d":"0.000"},{"v":0,"d":"0.000"},{"v":0,"d":"0.000"},{"v":0,"d":"0.000"},{"v":0,"d":"0.000"},{"v":0,"d":"0.000"}]
["M-LAC130",{"v":2.813412,"d":"2.8134120"},0,{"v":-1.332448,"d":"-1.3324480"},-2,{"v":1.927865,"d":"1.9278650"},-2,{"v":4.124452,"d":"4.1244520"},-4,{"v":-9.940432,"d":"-9.9404320"},-6,{"v":9.622024,"d":"9.6220240"},-7,0.895,0.925,{"v":0.98,"d":"0.980"},0.994,0.998,0.999,0.999,0.999,0.999,0.999,0.999,0.999,0.999,0.999,0.999,0.999,0.999,0.999,0.999,0.999,0.999,0.999,0.999,0.999,0.999,0.999,0.999,0.999,0.999,0.999,0.998,0.997,0.996,0.992,0.986,0.975,0.954,0.921,0.873,0.806,0.722,0.626,0.511,0.366,0.758,0.823,{"v":0.95,"d":"0.950"},0.985,0.995,0.999,0.999,0.998,0.998,0.999,0.999,0.999,0.999,0.999,0.999,0.999,0.999,0.999,0.999,0.999,0.999,0.999,0.999,0.999,0.999,0.999,0.999,0.999,0.998,0.997,0.996,0.993,0.989,0.981,0.967,0.938,0.889,0.815,0.712,0.584,0.443,0.311,0.186,0.081,0.574,0.678,0.903,{"v":0.97,"d":"0.970"},0.991,0.999,0.997,0.997,0.997,0.999,0.999,0.999,0.999,0.999,0.999,0.999,0.999,0.999,0.999,0.999,0.999,0.999,0.999,0.999,0.999,0.999,0.999,0.999,0.997,0.995,0.992,0.985,0.978,0.963,0.934,{"v":0.88,"d":"0.880"},0.791,0.664,0.507,0.341,0.196,0.096,0.035,{"v":0,"d":"0.000"}]
["M-LAC14",2.8278386,0,-1.4773939,-2,1.8211733,-2,4.9311964,-4,-2.5486886,-5,1.6795487,-6,"","","","","","",0.999,0.999,0.999,0.999,0.999,0.999,0.999,0.999,0.999,0.999,0.999,0.999,0.999,0.999,0.999,0.999,0.999,0.999,0.999,0.999,0.999,0.999,0.999,0.998,0.997,0.996,0.994,0.991,0.985,0.976,0.958,0.931,{"v":0.89,"d":"0.890"},0.835,0.748,0.684,0.601,0.493,"","","","","","",0.999,0.999,0.999,0.999,0.999,0.999,0.999,0.999,0.999,0.999,0.999,0.999,0.999,0.999,0.999,0.999,0.999,0.999,0.999,0.999,0.999,0.998,0.997,0.995,0.993,0.989,0.985,0.978,0.964,0.941,0.898,0.836,0.748,0.637,0.484,0.387,{"v":0.28,"d":"0.280"},0.171,"","","","","","",0.998,0.998,0.998,0.999,0.999,0.999,0.999,0.999,0.999,0.999,0.999,0.999,0.999,0.999,0.999,0.999,0.999,0.999,0.999,0.999,0.998,0.997,0.994,{"v":0.99,"d":"0.990"},0.987,0.978,{"v":0.97,"d":"0.970"},0.956,{"v":0.93,"d":"0.930"},0.886,0.807,0.699,{"v":0.56,"d":"0.560"},0.406,0.234,{"v":0.15,"d":"0.150"},0.078,0.029]
["M-LAC8",2.8817481,0,-1.5730804,-2,1.7690493,-2,{"v":1.052669,"d":"1.0526690"},-3,{"v":-9.909308,"d":"-9.9093080"},-5,5.5248378,-6,"","","","","","","","","","","","","","","","","","","","","","","","","","","","","","","","","","","","","","","","","","","","","","","","","","",0.998,0.998,0.998,0.999,0.999,0.999,0.999,0.999,0.999,0.999,0.999,0.999,0.999,0.999,0.999,0.999,0.999,0.999,0.999,0.999,0.998,0.998,0.996,0.995,0.993,0.989,0.984,0.976,{"v":0.96,"d":"0.960"},{"v":0.93,"d":"0.930"},{"v":0.88,"d":"0.880"},0.813,{"v":0.71,"d":"0.710"},{"v":0.59,"d":"0.590"},{"v":0.42,"d":"0.420"},{"v":0.34,"d":"0.340"},{"v":0.24,"d":"0.240"},{"v":0,"d":"0.000"},"","","","","","",0.996,0.996,0.996,0.999,0.999,0.998,0.998,0.998,0.998,0.998,0.998,0.998,0.998,0.999,0.998,0.998,0.998,0.997,0.997,0.998,0.997,0.995,0.993,{"v":0.99,"d":"0.990"},0.986,0.977,0.968,0.952,0.922,{"v":0.86,"d":"0.860"},{"v":0.78,"d":"0.780"},{"v":0.66,"d":"0.660"},{"v":0.51,"d":"0.510"},{"v":0.35,"d":"0.350"},{"v":0.17,"d":"0.170"},{"v":0.11,"d":"0.110"},{"v":0.05,"d":"0.050"},{"v":0,"d":"0.000"}]
["M-LAF81",2.9167886,0,-1.2398199,-2,2.6675237,-2,6.5190504,-4,4.6956175,-6,{"v":2.691054,"d":"2.6910540"},-6,"","","","","","","","","","","","","","","","","","","","","","","","","","","","","","","","","","","","","","","","","","","","",0.864,{"v":0.9,"d":"0.900"},0.973,0.994,0.999,0.999,0.997,0.997,0.995,0.998,0.999,0.999,0.999,0.999,0.999,0.999,0.999,0.999,0.999,0.999,0.999,0.999,0.999,0.999,0.999,0.998,0.996,0.994,{"v":0.99,"d":"0.990"},0.984,0.976,0.956,0.936,0.909,0.873,0.811,0.668,0.408,0.136,{"v":0,"d":"0.000"},{"v":0,"d":"0.000"},{"v":0,"d":"0.000"},{"v":0,"d":"0.000"},{"v":0,"d":"0.000"},0.746,{"v":0.81,"d":"0.810"},0.947,0.988,0.999,0.999,0.995,0.994,0.989,0.995,0.999,0.999,0.999,0.999,0.999,0.999,0.999,0.999,0.999,0.999,0.999,0.999,0.999,0.999,0.998,0.997,0.993,0.988,{"v":0.98,"d":"0.980"},0.968,0.952,0.914,0.876,0.826,0.763,0.658,0.446,0.167,0.019,{"v":0,"d":"0.000"},{"v":0,"d":"0.000"},{"v":0,"d":"0.000"},{"v":0,"d":"0.000"},{"v":0,"d":"0.000"}]
["M-NBF1",{"v":2.975245,"d":"2.9752450"},0,{"v":-1.425016,"d":"-1.4250160"},-2,{"v":2.140074,"d":"2.1400740"},-2,{"v":9.755337,"d":"9.7553370"},-4,{"v":-6.97953,"d":"-6.9795300"},-5,{"v":4.114924,"d":"4.1149240"},-6,"","","","","","","","","","","","","","","","","","","","","","","","","","","","","","","","","","","","","","","","","","","","",0.742,0.829,0.953,0.985,0.996,0.999,0.997,0.997,0.995,0.998,0.999,0.999,0.999,0.999,0.999,0.999,0.999,0.999,0.999,0.999,0.999,0.999,0.999,0.999,0.999,0.999,0.998,0.997,0.997,0.996,0.994,{"v":0.99,"d":"0.990"},0.986,{"v":0.98,"d":"0.980"},0.969,0.949,0.915,{"v":0.87,"d":"0.870"},0.805,0.722,0.572,{"v":0.5,"d":"0.500"},0.363,0.179,{"v":0.55,"d":"0.550"},0.687,0.909,{"v":0.97,"d":"0.970"},0.993,0.999,0.995,0.994,0.989,0.995,0.999,0.999,0.999,0.999,0.999,0.999,0.999,0.999,0.999,0.999,0.999,0.999,0.999,0.998,0.998,0.998,0.997,0.995,0.993,0.991,0.987,0.981,0.972,0.961,0.938,0.901,0.838,0.757,0.648,0.521,0.327,{"v":0.25,"d":"0.250"},0.132,0.032]
["M-NBFD10",{"v":3.264623,"d":"3.2646230"},0,{"v":-1.581977,"d":"-1.5819770"},-2,{"v":3.225894,"d":"3.2258940"},-2,{"v":1.709312,"d":"1.7093120"},-3,{"v":-1.081957,"d":"-1.0819570"},-4,{"v":1.058323,"d":"1.0583230"},-5,"","","","","","",0.999,0.999,0.999,0.999,0.999,0.999,0.999,0.999,0.999,0.999,0.999,0.999,0.999,0.999,0.999,0.999,0.999,0.999,0.999,0.999,0.998,0.996,0.994,0.991,0.985,0.974,0.963,0.943,0.904,0.816,0.642,0.397,{"v":0,"d":"0.000"},{"v":0,"d":"0.000"},{"v":0,"d":"0.000"},{"v":0,"d":"0.000"},{"v":0,"d":"0.000"},{"v":0,"d":"0.000"},"","","","","","",0.999,0.999,0.999,0.999,0.999,0.999,0.999,0.999,0.999,0.999,0.999,0.999,0.999,0.998,0.999,0.999,0.999,0.999,0.999,0.999,0.994,{"v":0.99,"d":"0.990"},0.985,0.977,0.964,0.936,0.909,0.863,0.776,0.601,0.331,0.099,{"v":0,"d":"0.000"},{"v":0,"d":"0.000"},{"v":0,"d":"0.000"},{"v":0,"d":"0.000"},{"v":0,"d":"0.000"},{"v":0,"d":"0.000"},"","","","","","",0.998,0.998,0.998,0.999,0.999,0.998,0.998,0.998,0.997,0.997,0.997,0.998,0.998,0.997,0.998,0.997,0.999,0.999,0.999,0.997,0.989,0.981,{"v":0.97,"d":"0.970"},0.955,0.929,0.876,0.827,0.745,0.603,0.361,0.109,{"v":0,"d":"0.000"},{"v":0,"d":"0.000"},{"v":0,"d":"0.000"},{"v":0,"d":"0.000"},{"v":0,"d":"0.000"},{"v":0,"d":"0.000"},{"v":0,"d":"0.000"}]
["M-NBFD130",{"v":3.173794,"d":"3.1737940"},0,{"v":-1.498658,"d":"-1.4986580"},-2,{"v":2.906741,"d":"2.9067410"},-2,{"v":1.204829,"d":"1.2048290"},-3,{"v":-5.355158,"d":"-5.3551580"},-5,{"v":5.27135,"d":"5.2713500"},-6,0.904,0.938,0.983,0.996,0.999,0.999,0.999,0.999,0.999,0.999,0.999,0.999,0.999,0.999,0.999,0.999,0.999,0.998,0.999,0.998,0.999,0.999,0.999,0.999,0.999,0.999,0.999,0.998,0.997,0.996,0.994,0.988,0.983,0.972,0.951,0.904,0.803,0.625,0.374,{"v":0,"d":"0.000"},{"v":0,"d":"0.000"},{"v":0,"d":"0.000"},{"v":0,"d":"0.000"},{"v":0,"d":"0.000"},0.777,0.853,0.959,0.989,0.998,0.999,0.998,0.998,0.997,0.999,0.999,0.998,0.998,0.997,0.997,0.997,0.997,0.996,0.997,0.996,0.997,0.997,0.999,0.999,0.999,0.999,0.998,0.996,0.993,0.989,0.984,0.971,0.957,0.931,0.882,0.778,0.578,0.309,0.086,{"v":0,"d":"0.000"},{"v":0,"d":"0.000"},{"v":0,"d":"0.000"},{"v":0,"d":"0.000"},{"v":0,"d":"0.000"},0.604,0.728,0.919,0.978,0.996,0.999,0.995,0.995,0.993,0.998,0.996,0.994,0.995,0.993,0.992,0.992,0.991,0.991,0.991,0.993,0.992,0.993,0.999,0.999,0.999,0.999,0.996,0.992,0.986,0.979,0.968,0.943,0.916,0.868,0.779,0.605,0.334,0.095,{"v":0,"d":"0.000"},{"v":0,"d":"0.000"},{"v":0,"d":"0.000"},{"v":0,"d":"0.000"},{"v":0,"d":"0.000"},{"v":0,"d":"0.000"}]
["MP-BACD12",{"v":2.468781,"d":"2.4687810"},0,{"v":-1.062639,"d":"-1.0626390"},-2,{"v":1.325184,"d":"1.3251840"},-2,{"v":4.048612,"d":"4.0486120"},-4,{"v":-2.974799,"d":"-2.9747990"},-5,{"v":1.825884,"d":"1.8258840"},-6,0.951,0.962,0.979,0.994,0.997,0.999,0.999,0.999,0.999,0.999,0.999,0.999,0.999,0.999,0.999,0.999,0.999,0.999,0.999,0.999,0.999,0.999,0.999,0.999,0.999,0.999,0.999,0.999,0.999,0.999,0.999,0.999,0.999,0.998,0.996,0.993,0.985,0.972,0.949,0.906,0.838,0.739,0.615,0.482,0.883,0.909,0.949,0.986,0.992,0.998,0.998,0.998,0.998,0.999,0.998,0.998,0.998,0.998,0.998,0.998,0.998,0.998,0.998,0.998,0.998,0.999,0.999,0.999,0.999,0.999,0.999,0.999,0.999,0.998,0.998,0.998,0.996,0.994,{"v":0.99,"d":"0.990"},0.982,0.964,0.932,0.876,0.782,0.643,0.469,0.297,{"v":0.16,"d":"0.160"},0.779,0.826,{"v":0.9,"d":"0.900"},0.972,0.985,0.997,0.996,0.996,0.996,0.997,0.997,0.996,0.996,0.996,0.995,0.995,0.995,0.996,0.996,0.997,0.996,0.998,0.999,0.999,0.999,0.999,0.999,0.999,0.998,0.996,0.997,0.996,0.993,0.988,0.981,0.964,0.929,0.869,0.768,0.612,0.413,{"v":0.22,"d":"0.220"},0.088,0.026]
["MP-BACD15",{"v":2.590919,"d":"2.5909190"},0,{"v":-1.259476,"d":"-1.2594760"},-2,{"v":1.520205,"d":"1.5202050"},-2,{"v":2.99998,"d":"2.9999800"},-4,{"v":-1.131547,"d":"-1.1315470"},-5,{"v":9.15464,"d":"9.1546400"},-7,"","","","","","",0.999,0.999,0.999,0.999,0.999,0.999,0.999,0.999,0.999,0.999,0.999,0.999,0.999,0.999,0.999,0.999,0.999,0.999,0.999,0.999,0.999,0.999,0.999,0.998,0.998,0.998,0.997,0.996,0.994,0.989,0.979,0.963,0.936,0.893,0.816,0.746,0.644,{"v":0.5,"d":"0.500"},"","","","","","",0.998,0.998,0.998,0.999,0.998,0.998,0.998,0.998,0.998,0.998,0.998,0.998,0.998,0.998,0.998,0.999,0.998,0.998,0.998,0.999,0.998,0.998,0.997,0.996,0.996,0.995,0.993,{"v":0.99,"d":"0.990"},0.984,0.972,0.949,{"v":0.91,"d":"0.910"},0.847,0.753,0.602,0.481,0.333,0.177,"","","","","","",0.996,0.996,0.996,0.997,0.997,0.996,0.996,0.996,0.995,0.995,0.995,0.996,0.996,0.997,0.996,0.998,0.997,0.996,0.996,0.997,0.996,0.996,0.995,0.992,0.991,0.989,0.985,0.979,0.968,0.945,{"v":0.9,"d":"0.900"},0.827,0.718,0.567,0.363,0.231,0.111,0.031]
["MP-BACD5N",{"v":2.48951,"d":"2.4895100"},0,{"v":-1.224496,"d":"-1.2244960"},-2,{"v":1.294262,"d":"1.2942620"},-2,{"v":3.490449,"d":"3.4904490"},-4,{"v":-1.777228,"d":"-1.7772280"},-5,{"v":9.113719,"d":"9.1137190"},-7,0.923,{"v":0.94,"d":"0.940"},0.973,0.993,0.997,0.999,0.998,0.998,0.996,0.998,0.998,0.998,0.998,0.998,0.998,0.998,0.998,0.998,0.998,0.998,0.999,0.999,0.999,0.999,0.999,0.999,0.999,0.999,0.999,0.999,0.999,0.999,0.998,0.997,0.994,0.989,0.979,0.962,0.932,0.882,0.808,0.707,0.587,0.461,0.819,0.857,0.935,0.983,0.992,0.998,0.995,0.994,0.991,0.996,0.996,0.996,0.995,0.996,0.996,0.996,0.996,0.996,0.996,0.996,0.997,0.998,0.999,0.999,0.999,0.999,0.999,0.999,0.999,0.999,0.998,0.997,0.995,0.992,0.986,0.973,0.949,0.907,0.838,0.731,0.587,0.421,0.264,0.144,0.671,0.734,0.874,0.967,0.985,0.996,{"v":0.99,"d":"0.990"},0.989,0.981,0.992,0.992,0.991,{"v":0.99,"d":"0.990"},0.991,0.991,0.991,0.992,0.992,0.992,0.993,0.994,0.996,0.999,0.999,0.999,0.999,0.999,0.999,0.998,0.997,0.996,0.994,{"v":0.99,"d":"0.990"},0.984,0.972,0.946,{"v":0.9,"d":"0.900"},0.822,0.702,0.534,0.344,0.177,{"v":0.07,"d":"0.070"},0.021]
["M-PCD4",{"v":2.582335,"d":"2.5823350"},0,{"v":-9.952039,"d":"-9.9520390"},-3,{"v":1.329184,"d":"1.3291840"},-2,{"v":4.550621,"d":"4.5506210"},-4,{"v":-3.327132,"d":"-3.3271320"},-5,{"v":1.730172,"d":"1.7301720"},-6,"","","","","","",0.999,0.999,0.999,0.999,0.999,0.999,0.999,0.999,0.999,0.999,0.999,0.999,0.999,0.999,0.999,0.999,0.999,0.999,0.999,0.999,0.999,0.999,0.999,0.998,0.998,0.995,0.992,0.984,0.969,0.937,0.878,0.786,{"v":0.66,"d":"0.660"},0.509,0.358,0.218,{"v":0,"d":"0.000"},{"v":0,"d":"0.000"},"","","","","","",0.999,0.998,0.999,0.999,0.999,0.999,0.999,0.999,0.999,0.999,0.998,0.998,0.998,0.998,0.998,0.998,0.998,0.999,0.999,0.999,0.999,0.998,0.997,0.996,0.994,0.989,{"v":0.98,"d":"0.980"},0.961,0.924,{"v":0.85,"d":"0.850"},0.722,0.548,0.353,0.185,0.077,{"v":0,"d":"0.000"},{"v":0,"d":"0.000"},{"v":0,"d":"0.000"},"","","","","","",0.997,0.997,0.998,0.999,0.999,0.999,0.998,0.998,0.998,0.998,0.997,0.996,0.997,0.996,0.995,0.996,0.996,0.997,0.998,0.999,0.998,0.996,0.994,0.991,0.988,0.977,{"v":0.96,"d":"0.960"},0.924,0.854,0.723,0.521,{"v":0.3,"d":"0.300"},0.125,0.034,{"v":0,"d":"0.000"},{"v":0,"d":"0.000"},{"v":0,"d":"0.000"},{"v":0,"d":"0.000"}]
["M-PCD51",{"v":2.502026,"d":"2.5020260"},0,{"v":-1.108292,"d":"-1.1082920"},-2,{"v":1.12772,"d":"1.1277200"},-2,{"v":5.715408,"d":"5.7154080"},-4,{"v":-5.587455,"d":"-5.5874550"},-5,{"v":2.905292,"d":"2.9052920"},-6,0.962,0.973,0.984,0.995,0.997,0.999,0.999,0.999,0.999,0.999,0.999,0.999,0.999,0.999,0.999,0.999,0.999,0.999,0.999,0.999,0.999,0.999,0.999,0.999,0.999,0.999,0.999,0.999,0.999,0.999,0.999,0.999,0.998,0.997,0.994,0.988,0.978,0.959,{"v":0.93,"d":"0.930"},0.885,0.823,0.743,0.643,0.517,0.909,0.933,{"v":0.96,"d":"0.960"},0.986,0.993,0.997,0.999,0.998,0.999,0.999,0.999,0.999,0.999,0.999,0.999,0.999,0.998,0.998,0.998,0.998,0.998,0.998,0.999,0.999,0.999,0.999,0.999,0.999,0.998,0.998,0.997,0.996,0.995,0.992,0.985,0.971,0.945,0.902,0.834,0.737,0.615,0.476,0.331,0.191,0.826,0.871,0.921,0.973,0.986,0.995,0.997,0.997,0.998,0.999,0.999,0.999,0.998,0.998,0.998,0.998,0.999,0.998,0.999,0.998,0.998,0.998,0.999,0.999,0.999,0.999,0.999,0.998,0.997,0.995,0.994,0.993,{"v":0.99,"d":"0.990"},0.983,{"v":0.97,"d":"0.970"},0.943,0.893,0.813,0.696,0.544,0.378,0.226,{"v":0.11,"d":"0.110"},0.037]
["M-PCD55AR",2.6366261,0,-9.2645802,-3,1.6956609,-2,2.6444551,-4,6.1366528,-6,3.4208341,-7,0.976,0.981,0.992,0.998,0.999,0.999,0.999,0.999,0.999,0.999,0.999,0.999,0.999,0.999,0.999,0.999,0.999,0.999,0.999,0.999,0.999,0.999,0.999,0.999,0.999,0.999,0.999,0.999,0.998,0.997,0.996,0.993,0.989,0.983,0.971,0.948,{"v":0.91,"d":"0.910"},{"v":0.85,"d":"0.850"},0.751,0.594,{"v":0,"d":"0.000"},{"v":0,"d":"0.000"},{"v":0,"d":"0.000"},{"v":0,"d":"0.000"},{"v":0.94,"d":"0.940"},0.953,0.979,0.994,0.997,0.998,0.998,0.998,0.998,0.999,0.999,0.998,0.998,0.998,0.998,0.998,0.998,0.998,0.998,0.999,0.999,0.999,0.999,0.999,0.999,0.999,0.998,0.997,0.996,0.993,{"v":0.99,"d":"0.990"},0.982,0.973,0.957,{"v":0.93,"d":"0.930"},0.874,0.791,0.666,0.489,0.272,{"v":0,"d":"0.000"},{"v":0,"d":"0.000"},{"v":0,"d":"0.000"},{"v":0,"d":"0.000"},0.734,0.788,0.899,0.972,0.984,{"v":0.99,"d":"0.990"},0.991,{"v":0.99,"d":"0.990"},{"v":0.99,"d":"0.990"},0.994,0.992,0.991,0.996,0.996,0.996,0.996,0.996,0.997,0.997,0.998,0.998,0.999,0.999,0.999,0.999,0.999,0.996,0.994,0.991,0.987,{"v":0.98,"d":"0.980"},0.965,0.948,0.916,0.864,0.764,0.625,0.443,0.239,0.074,{"v":0,"d":"0.000"},{"v":0,"d":"0.000"},{"v":0,"d":"0.000"},{"v":0,"d":"0.000"}]
["MP-FCD1-M20",2.2209418,0,-7.4830372,-3,6.2463392,-3,7.1157759,-4,-8.2274254,-5,4.0430546,-6,0.997,0.999,0.999,0.999,0.999,0.999,0.999,0.999,0.999,0.999,0.999,0.999,0.999,0.999,0.999,0.999,0.999,0.999,0.999,0.999,0.999,0.999,0.999,0.999,0.999,0.999,0.999,0.999,0.999,0.999,0.999,0.999,0.999,0.997,0.994,0.987,0.971,0.938,0.877,{"v":0.78,"d":"0.780"},0.645,0.489,0.337,0.205,0.992,0.997,0.997,0.998,0.998,0.998,0.999,0.998,0.999,0.999,0.999,0.999,0.999,0.999,0.999,0.999,0.998,0.998,0.998,0.998,0.998,0.998,0.999,0.999,0.999,0.999,0.999,0.999,0.998,0.998,0.998,0.998,0.997,0.993,0.986,0.968,0.929,0.852,0.721,0.537,0.334,0.167,0.066,0.019,0.985,0.994,0.995,0.997,0.997,0.996,0.997,0.997,0.997,0.999,0.999,0.999,0.999,0.999,0.999,0.999,0.999,0.999,0.999,0.999,0.999,0.999,0.998,0.998,0.999,0.999,0.999,0.998,0.997,0.996,0.995,0.996,0.993,0.987,0.972,0.938,0.863,0.726,{"v":0.52,"d":"0.520"},0.288,0.112,0.028,{"v":0,"d":"0.000"},{"v":0,"d":"0.000"}]
["MP-FCD500-20",2.3850427,0,{"v":-7.914269,"d":"-7.9142690"},-3,9.4886852,-3,5.7980093,-4,-6.0011677,-5,3.0355422,-6,0.996,0.998,0.998,0.999,0.999,0.999,0.999,0.999,0.999,0.999,0.999,0.999,0.999,0.999,0.999,0.999,0.999,0.999,0.999,0.999,0.999,0.999,0.999,0.999,0.999,0.999,0.999,0.999,0.999,0.999,0.999,0.998,0.997,0.994,0.987,0.972,0.938,0.878,0.779,0.643,{"v":0.48,"d":"0.480"},0.323,0.181,{"v":0,"d":"0.000"},{"v":0.99,"d":"0.990"},0.995,0.996,0.998,0.998,0.998,0.999,0.998,0.999,0.999,0.999,0.999,0.999,0.999,0.999,0.999,0.998,0.998,0.998,0.998,0.998,0.998,0.999,0.999,0.999,0.999,0.999,0.999,0.998,0.997,0.997,0.996,0.993,0.986,0.969,0.931,0.853,0.722,0.536,0.331,{"v":0.16,"d":"0.160"},0.059,0.014,{"v":0,"d":"0.000"},{"v":0.98,"d":"0.980"},0.991,0.992,0.997,0.997,0.997,0.997,0.997,0.997,0.999,0.999,0.999,0.999,0.999,0.999,0.999,0.999,0.999,0.999,0.999,0.999,0.999,0.998,0.998,0.999,0.999,0.999,0.998,0.996,0.995,0.994,0.993,0.986,0.972,0.939,0.867,0.728,0.521,0.287,0.109,0.026,{"v":0,"d":"0.000"},{"v":0,"d":"0.000"},{"v":0,"d":"0.000"}]
["MP-FD80",{"v":2.761638,"d":"2.7616380"},0,{"v":-1.132633,"d":"-1.1326330"},-2,{"v":2.865346,"d":"2.8653460"},-2,{"v":1.529038,"d":"1.5290380"},-3,{"v":-8.743577,"d":"-8.7435770"},-5,{"v":1.496579,"d":"1.4965790"},-5,"","","","","","",0.999,0.999,0.998,0.999,0.999,0.999,0.999,0.999,0.999,0.999,0.999,0.999,0.999,0.999,0.999,0.999,0.999,0.999,0.999,0.998,0.995,0.994,0.991,0.988,0.982,0.965,0.941,0.878,0.734,0.488,{"v":0,"d":"0.000"},{"v":0,"d":"0.000"},{"v":0,"d":"0.000"},{"v":0,"d":"0.000"},{"v":0,"d":"0.000"},{"v":0,"d":"0.000"},{"v":0,"d":"0.000"},{"v":0,"d":"0.000"},"","","","","","",0.997,0.997,0.995,0.999,0.999,0.999,0.999,0.999,0.999,0.999,0.999,0.999,0.999,0.998,0.998,0.998,0.997,0.997,0.997,0.995,0.988,0.984,0.978,{"v":0.97,"d":"0.970"},0.955,0.914,0.858,0.723,0.461,0.166,{"v":0,"d":"0.000"},{"v":0,"d":"0.000"},{"v":0,"d":"0.000"},{"v":0,"d":"0.000"},{"v":0,"d":"0.000"},{"v":0,"d":"0.000"},{"v":0,"d":"0.000"},{"v":0,"d":"0.000"},"","","","","","",0.994,0.994,{"v":0.99,"d":"0.990"},0.997,0.998,0.998,0.998,0.998,0.997,0.997,0.998,0.998,0.998,0.996,0.996,0.996,0.994,0.994,0.994,{"v":0.99,"d":"0.990"},0.976,0.968,0.957,0.941,0.911,0.836,0.736,0.523,0.213,0.027,{"v":0,"d":"0.000"},{"v":0,"d":"0.000"},{"v":0,"d":"0.000"},{"v":0,"d":"0.000"},{"v":0,"d":"0.000"},{"v":0,"d":"0.000"},{"v":0,"d":"0.000"},{"v":0,"d":"0.000"}]
["MP-FDS1",3.4984224,0,{"v":-1.689542,"d":"-1.6895420"},-2,5.7567078,-2,5.1693668,-3,{"v":-3.996631,"d":"-3.9966310"},-4,6.2368582,-5,"","","","","","","","","","","","","","","","","","","","","","","","","","","","","","","","","","","","","","","","","","","","","","","","","","",0.998,0.998,0.999,0.999,0.999,0.999,0.999,0.999,0.999,0.999,0.999,0.998,0.998,0.998,0.998,0.998,0.997,0.997,0.996,0.992,0.976,0.965,0.947,0.907,0.801,0.457,0.181,{"v":0,"d":"0.000"},{"v":0,"d":"0.000"},{"v":0,"d":"0.000"},{"v":0,"d":"0.000"},{"v":0,"d":"0.000"},{"v":0,"d":"0.000"},{"v":0,"d":"0.000"},{"v":0,"d":"0.000"},{"v":0,"d":"0.000"},{"v":0,"d":"0.000"},{"v":0,"d":"0.000"},"","","","","","",0.996,0.995,0.998,0.999,0.999,0.999,0.999,0.999,0.998,0.998,0.997,0.996,0.996,0.997,0.996,0.996,0.995,0.994,0.993,0.983,0.953,0.932,0.896,0.823,0.641,0.209,0.033,{"v":0,"d":"0.000"},{"v":0,"d":"0.000"},{"v":0,"d":"0.000"},{"v":0,"d":"0.000"},{"v":0,"d":"0.000"},{"v":0,"d":"0.000"},{"v":0,"d":"0.000"},{"v":0,"d":"0.000"},{"v":0,"d":"0.000"},{"v":0,"d":"0.000"},{"v":0,"d":"0.000"}]
["MP-FDS2",{"v":3.771581,"d":"3.7715810"},0,-2.0445364,-2,6.3942579,-2,{"v":8.354547,"d":"8.3545470"},-3,-8.2031984,-4,1.0279507,-4,"","","","","","",0.999,0.999,0.999,0.999,0.999,0.999,0.999,0.999,0.999,0.999,0.999,0.999,0.999,0.999,0.999,0.999,0.999,0.999,0.998,0.994,0.982,0.972,0.954,0.915,0.803,0.457,0.132,{"v":0,"d":"0.000"},{"v":0,"d":"0.000"},{"v":0,"d":"0.000"},{"v":0,"d":"0.000"},{"v":0,"d":"0.000"},{"v":0,"d":"0.000"},{"v":0,"d":"0.000"},{"v":0,"d":"0.000"},{"v":0,"d":"0.000"},{"v":0,"d":"0.000"},{"v":0,"d":"0.000"},"","","","","","",0.999,0.998,0.999,0.999,0.999,0.999,0.999,0.999,0.999,0.999,0.999,0.999,0.998,0.999,0.999,0.999,0.998,0.997,0.995,0.986,0.955,0.931,{"v":0.89,"d":"0.890"},0.802,0.578,0.143,{"v":0,"d":"0.000"},{"v":0,"d":"0.000"},{"v":0,"d":"0.000"},{"v":0,"d":"0.000"},{"v":0,"d":"0.000"},{"v":0,"d":"0.000"},{"v":0,"d":"0.000"},{"v":0,"d":"0.000"},{"v":0,"d":"0.000"},{"v":0,"d":"0.000"},{"v":0,"d":"0.000"},{"v":0,"d":"0.000"},"","","","","","",0.997,0.997,0.998,0.998,0.998,0.998,0.999,0.999,0.999,0.999,0.999,0.998,0.997,0.999,0.999,0.999,0.997,0.994,0.991,0.972,0.911,0.867,0.792,0.643,0.334,{"v":0.02,"d":"0.020"},{"v":0,"d":"0.000"},{"v":0,"d":"0.000"},{"v":0,"d":"0.000"},{"v":0,"d":"0.000"},{"v":0,"d":"0.000"},{"v":0,"d":"0.000"},{"v":0,"d":"0.000"},{"v":0,"d":"0.000"},{"v":0,"d":"0.000"},{"v":0,"d":"0.000"},{"v":0,"d":"0.000"},{"v":0,"d":"0.000"}]
["MP-FDS910-50",3.1667902,0,-1.3141416,-2,4.7178656,-2,2.2684284,-3,-5.3672387,-5,2.5328422,-5,0.973,{"v":0.98,"d":"0.980"},0.989,0.997,0.998,0.998,0.999,0.999,0.999,0.999,0.999,0.999,0.999,0.999,0.999,0.999,0.999,0.999,0.999,0.999,0.999,0.999,0.999,0.999,0.999,0.998,0.992,0.989,0.983,0.974,0.955,0.902,0.829,0.684,0.453,{"v":0,"d":"0.000"},{"v":0,"d":"0.000"},{"v":0,"d":"0.000"},{"v":0,"d":"0.000"},{"v":0,"d":"0.000"},{"v":0,"d":"0.000"},{"v":0,"d":"0.000"},{"v":0,"d":"0.000"},{"v":0,"d":"0.000"},0.935,{"v":0.95,"d":"0.950"},0.972,0.992,0.996,0.996,0.999,0.999,0.999,0.999,0.999,0.999,0.999,0.999,0.999,0.999,0.999,0.999,0.999,0.999,0.999,0.999,0.999,0.998,0.998,0.994,0.981,0.972,0.958,0.937,0.892,0.772,0.626,0.387,0.138,{"v":0,"d":"0.000"},{"v":0,"d":"0.000"},{"v":0,"d":"0.000"},{"v":0,"d":"0.000"},{"v":0,"d":"0.000"},{"v":0,"d":"0.000"},{"v":0,"d":"0.000"},{"v":0,"d":"0.000"},{"v":0,"d":"0.000"},0.875,0.902,0.945,0.985,0.993,0.993,0.999,0.999,0.999,0.999,0.999,0.999,0.999,0.999,0.999,0.999,0.999,0.999,0.999,0.999,0.998,0.998,0.997,0.995,0.995,0.988,0.962,0.944,0.918,0.877,0.795,0.596,0.392,{"v":0.15,"d":"0.150"},0.019,{"v":0,"d":"0.000"},{"v":0,"d":"0.000"},{"v":0,"d":"0.000"},{"v":0,"d":"0.000"},{"v":0,"d":"0.000"},{"v":0,"d":"0.000"},{"v":0,"d":"0.000"},{"v":0,"d":"0.000"},{"v":0,"d":"0.000"}]
["MP-LAC130",{"v":2.813412,"d":"2.8134120"},0,{"v":-1.332448,"d":"-1.3324480"},-2,{"v":1.927865,"d":"1.9278650"},-2,{"v":4.124452,"d":"4.1244520"},-4,{"v":-9.940432,"d":"-9.9404320"},-6,{"v":9.622024,"d":"9.6220240"},-7,0.895,0.925,{"v":0.98,"d":"0.980"},0.994,0.998,0.999,0.999,0.999,0.999,0.999,0.999,0.999,0.999,0.999,0.999,0.999,0.999,0.999,0.999,0.999,0.999,0.999,0.999,0.999,0.999,0.999,0.999,0.999,0.999,0.999,0.998,0.997,0.996,0.992,0.986,0.975,0.954,0.921,0.873,0.806,0.722,0.626,0.511,0.366,0.758,0.823,{"v":0.95,"d":"0.950"},0.985,0.995,0.999,0.999,0.998,0.998,0.999,0.999,0.999,0.999,0.999,0.999,0.999,0.999,0.999,0.999,0.999,0.999,0.999,0.999,0.999,0.999,0.999,0.999,0.999,0.998,0.997,0.996,0.993,0.989,0.981,0.967,0.938,0.889,0.815,0.712,0.584,0.443,0.311,0.186,0.081,0.574,0.678,0.903,{"v":0.97,"d":"0.970"},0.991,0.999,0.997,0.997,0.997,0.999,0.999,0.999,0.999,0.999,0.999,0.999,0.999,0.999,0.999,0.999,0.999,0.999,0.999,0.999,0.999,0.999,0.999,0.999,0.997,0.995,0.992,0.985,0.978,0.963,0.934,{"v":0.88,"d":"0.880"},0.791,0.664,0.507,0.341,0.196,0.096,0.035,{"v":0,"d":"0.000"}]
["MP-LAC14-80",2.8306733,0,-1.4855863,-2,1.8103472,-2,5.3539971,-4,-3.1929778,-5,2.0340983,-6,"","","","","","",0.999,0.999,0.999,0.999,0.999,0.999,0.999,0.999,0.999,0.999,0.999,0.999,0.999,0.999,0.999,0.999,0.999,0.999,0.999,0.999,0.999,0.999,0.999,0.998,0.997,0.996,0.994,0.991,0.985,0.976,0.958,0.931,{"v":0.89,"d":"0.890"},0.835,0.748,0.684,0.601,0.493,"","","","","","",0.999,0.999,0.999,0.999,0.999,0.999,0.999,0.999,0.999,0.999,0.999,0.999,0.999,0.999,0.999,0.999,0.999,0.999,0.999,0.999,0.999,0.998,0.997,0.995,0.993,0.989,0.985,0.978,0.964,0.941,0.898,0.836,0.748,0.637,0.484,0.387,{"v":0.28,"d":"0.280"},0.171,"","","","","","",0.998,0.998,0.998,0.999,0.999,0.999,0.999,0.999,0.999,0.999,0.999,0.999,0.999,0.999,0.999,0.999,0.999,0.999,0.999,0.999,0.998,0.997,0.994,{"v":0.99,"d":"0.990"},0.987,0.978,{"v":0.97,"d":"0.970"},0.956,{"v":0.93,"d":"0.930"},0.886,0.807,0.699,{"v":0.56,"d":"0.560"},0.406,0.234,{"v":0.15,"d":"0.150"},0.078,0.029]
["MP-LAC8-30",2.8827498,0,-1.5740789,-2,1.7707976,-2,1.0483265,-3,-9.8332811,-5,5.4828685,-6,"","","","","","","","","","","","","","","","","","","","","","","","","","","","","","","","","","","","","","","","","","","","","","","","","","",0.998,0.998,0.998,0.999,0.999,0.999,0.999,0.999,0.999,0.999,0.999,0.999,0.999,0.999,0.999,0.999,0.999,0.999,0.999,0.999,0.998,0.998,0.996,0.995,0.993,0.989,0.984,0.976,{"v":0.96,"d":"0.960"},{"v":0.93,"d":"0.930"},{"v":0.88,"d":"0.880"},0.813,{"v":0.71,"d":"0.710"},{"v":0.59,"d":"0.590"},{"v":0.42,"d":"0.420"},{"v":0.34,"d":"0.340"},{"v":0.24,"d":"0.240"},{"v":0,"d":"0.000"},"","","","","","",0.996,0.996,0.996,0.999,0.999,0.998,0.998,0.998,0.998,0.998,0.998,0.998,0.998,0.999,0.998,0.998,0.998,0.997,0.997,0.998,0.997,0.995,0.993,{"v":0.99,"d":"0.990"},0.986,0.977,0.968,0.952,0.922,{"v":0.86,"d":"0.860"},{"v":0.78,"d":"0.780"},{"v":0.66,"d":"0.660"},{"v":0.51,"d":"0.510"},{"v":0.35,"d":"0.350"},{"v":0.17,"d":"0.170"},{"v":0.11,"d":"0.110"},{"v":0.05,"d":"0.050"},{"v":0,"d":"0.000"}]
["MP-LAF81",2.9167886,0,-1.2398199,-2,2.6675237,-2,6.5190504,-4,4.6956175,-6,{"v":2.691054,"d":"2.6910540"},-6,"","","","","","","","","","","","","","","","","","","","","","","","","","","","","","","","","","","","","","","","","","","","",0.864,{"v":0.9,"d":"0.900"},0.973,0.994,0.999,0.999,0.997,0.997,0.995,0.998,0.999,0.999,0.999,0.999,0.999,0.999,0.999,0.999,0.999,0.999,0.999,0.999,0.999,0.999,0.999,0.998,0.996,0.994,{"v":0.99,"d":"0.990"},0.984,0.976,0.956,0.936,0.909,0.873,0.811,0.668,0.408,0.136,{"v":0,"d":"0.000"},{"v":0,"d":"0.000"},{"v":0,"d":"0.000"},{"v":0,"d":"0.000"},{"v":0,"d":"0.000"},0.746,{"v":0.81,"d":"0.810"},0.947,0.988,0.999,0.999,0.995,0.994,0.989,0.995,0.999,0.999,0.999,0.999,0.999,0.999,0.999,0.999,0.999,0.999,0.999,0.999,0.999,0.999,0.998,0.997,0.993,0.988,{"v":0.98,"d":"0.980"},0.968,0.952,0.914,0.876,0.826,0.763,0.658,0.446,0.167,0.019,{"v":0,"d":"0.000"},{"v":0,"d":"0.000"},{"v":0,"d":"0.000"},{"v":0,"d":"0.000"},{"v":0,"d":"0.000"}]
["MP-NBF1",{"v":2.975245,"d":"2.9752450"},0,{"v":-1.425016,"d":"-1.4250160"},-2,{"v":2.140074,"d":"2.1400740"},-2,{"v":9.755337,"d":"9.7553370"},-4,{"v":-6.97953,"d":"-6.9795300"},-5,{"v":4.114924,"d":"4.1149240"},-6,"","","","","","","","","","","","","","","","","","","","","","","","","","","","","","","","","","","","","","","","","","","","",0.742,0.829,0.953,0.985,0.996,0.999,0.997,0.997,0.995,0.998,0.999,0.999,0.999,0.999,0.999,0.999,0.999,0.999,0.999,0.999,0.999,0.999,0.999,0.999,0.999,0.999,0.998,0.997,0.997,0.996,0.994,{"v":0.99,"d":"0.990"},0.986,{"v":0.98,"d":"0.980"},0.969,0.949,0.915,{"v":0.87,"d":"0.870"},0.805,0.722,0.572,{"v":0.5,"d":"0.500"},0.363,0.179,{"v":0.55,"d":"0.550"},0.687,0.909,{"v":0.97,"d":"0.970"},0.993,0.999,0.995,0.994,0.989,0.995,0.999,0.999,0.999,0.999,0.999,0.999,0.999,0.999,0.999,0.999,0.999,0.999,0.999,0.998,0.998,0.998,0.997,0.995,0.993,0.991,0.987,0.981,0.972,0.961,0.938,0.901,0.838,0.757,0.648,0.521,0.327,{"v":0.25,"d":"0.250"},0.132,0.032]
["MP-NBFD10-20",3.2722586,0,-1.8817211,-2,2.7264508,-2,3.2789193,-3,-3.2827672,-4,2.1743362,-5,"","","","","","",0.999,0.999,0.999,0.999,0.999,0.999,0.999,0.999,0.999,0.999,0.999,0.999,0.999,0.999,0.999,0.999,0.999,0.999,0.999,0.999,0.998,0.996,0.994,0.991,0.985,0.974,0.963,0.943,0.904,0.816,0.642,0.397,{"v":0,"d":"0.000"},{"v":0,"d":"0.000"},{"v":0,"d":"0.000"},{"v":0,"d":"0.000"},{"v":0,"d":"0.000"},{"v":0,"d":"0.000"},"","","","","","",0.999,0.999,0.999,0.999,0.999,0.999,0.999,0.999,0.999,0.999,0.999,0.999,0.999,0.998,0.999,0.999,0.999,0.999,0.999,0.999,0.994,{"v":0.99,"d":"0.990"},0.985,0.977,0.964,0.936,0.909,0.863,0.776,0.601,0.331,0.099,{"v":0,"d":"0.000"},{"v":0,"d":"0.000"},{"v":0,"d":"0.000"},{"v":0,"d":"0.000"},{"v":0,"d":"0.000"},{"v":0,"d":"0.000"},"","","","","","",0.998,0.998,0.998,0.999,0.999,0.998,0.998,0.998,0.997,0.997,0.997,0.998,0.998,0.997,0.998,0.997,0.999,0.999,0.999,0.997,0.989,0.981,{"v":0.97,"d":"0.970"},0.955,0.929,0.876,0.827,0.745,0.603,0.361,0.109,{"v":0,"d":"0.000"},{"v":0,"d":"0.000"},{"v":0,"d":"0.000"},{"v":0,"d":"0.000"},{"v":0,"d":"0.000"},{"v":0,"d":"0.000"},{"v":0,"d":"0.000"}]
["MP-NBFD130",{"v":3.173794,"d":"3.1737940"},0,{"v":-1.498658,"d":"-1.4986580"},-2,{"v":2.906741,"d":"2.9067410"},-2,{"v":1.204829,"d":"1.2048290"},-3,{"v":-5.355158,"d":"-5.3551580"},-5,{"v":5.27135,"d":"5.2713500"},-6,0.904,0.938,0.983,0.996,0.999,0.999,0.999,0.999,0.999,0.999,0.999,0.999,0.999,0.999,0.999,0.999,0.999,0.998,0.999,0.998,0.999,0.999,0.999,0.999,0.999,0.999,0.999,0.998,0.997,0.996,0.994,0.988,0.983,0.972,0.951,0.904,0.803,0.625,0.374,{"v":0,"d":"0.000"},{"v":0,"d":"0.000"},{"v":0,"d":"0.000"},{"v":0,"d":"0.000"},{"v":0,"d":"0.000"},0.777,0.853,0.959,0.989,0.998,0.999,0.998,0.998,0.997,0.999,0.999,0.998,0.998,0.997,0.997,0.997,0.997,0.996,0.997,0.996,0.997,0.997,0.999,0.999,0.999,0.999,0.998,0.996,0.993,0.989,0.984,0.971,0.957,0.931,0.882,0.778,0.578,0.309,0.086,{"v":0,"d":"0.000"},{"v":0,"d":"0.000"},{"v":0,"d":"0.000"},{"v":0,"d":"0.000"},{"v":0,"d":"0.000"},0.604,0.728,0.919,0.978,0.996,0.999,0.995,0.995,0.993,0.998,0.996,0.994,0.995,0.993,0.992,0.992,0.991,0.991,0.991,0.993,0.992,0.993,0.999,0.999,0.999,0.999,0.996,0.992,0.986,0.979,0.968,0.943,0.916,0.868,0.779,0.605,0.334,0.095,{"v":0,"d":"0.000"},{"v":0,"d":"0.000"},{"v":0,"d":"0.000"},{"v":0,"d":"0.000"},{"v":0,"d":"0.000"},{"v":0,"d":"0.000"}]
["MP-PCD4-40",2.5831471,0,-9.7502344,-3,1.3615374,-2,3.6346122,-4,-2.1187082,-5,1.1536132,-6,"","","","","","",0.999,0.999,0.999,0.999,0.999,0.999,0.999,0.999,0.999,0.999,0.999,0.999,0.999,0.999,0.999,0.999,0.999,0.999,0.999,0.999,0.999,0.999,0.999,0.998,0.998,0.995,0.992,0.984,0.969,0.937,0.878,0.786,{"v":0.66,"d":"0.660"},0.509,0.358,0.218,{"v":0,"d":"0.000"},{"v":0,"d":"0.000"},"","","","","","",0.999,0.998,0.999,0.999,0.999,0.999,0.999,0.999,0.999,0.999,0.998,0.998,0.998,0.998,0.998,0.998,0.998,0.999,0.999,0.999,0.999,0.998,0.997,0.996,0.994,0.989,{"v":0.98,"d":"0.980"},0.961,0.924,{"v":0.85,"d":"0.850"},0.722,0.548,0.353,0.185,0.077,{"v":0,"d":"0.000"},{"v":0,"d":"0.000"},{"v":0,"d":"0.000"},"","","","","","",0.997,0.997,0.998,0.999,0.999,0.999,0.998,0.998,0.998,0.998,0.997,0.996,0.997,0.996,0.995,0.996,0.996,0.997,0.998,0.999,0.998,0.996,0.994,0.991,0.988,0.977,{"v":0.96,"d":"0.960"},0.924,0.854,0.723,0.521,{"v":0.3,"d":"0.300"},0.125,0.034,{"v":0,"d":"0.000"},{"v":0,"d":"0.000"},{"v":0,"d":"0.000"},{"v":0,"d":"0.000"}]
["MP-PCD51-70",2.5025436,0,-1.0321437,-2,1.2433636,-2,2.1866535,-4,-5.5793977,-6,3.0188383,-7,0.962,0.973,0.984,0.995,0.997,0.999,0.999,0.999,0.999,0.999,0.999,0.999,0.999,0.999,0.999,0.999,0.999,0.999,0.999,0.999,0.999,0.999,0.999,0.999,0.999,0.999,0.999,0.999,0.999,0.999,0.999,0.999,0.998,0.997,0.994,0.988,0.978,0.959,{"v":0.93,"d":"0.930"},0.885,0.823,0.743,0.643,0.517,0.909,0.933,{"v":0.96,"d":"0.960"},0.986,0.993,0.997,0.999,0.998,0.999,0.999,0.999,0.999,0.999,0.999,0.999,0.999,0.998,0.998,0.998,0.998,0.998,0.998,0.999,0.999,0.999,0.999,0.999,0.999,0.998,0.998,0.997,0.996,0.995,0.992,0.985,0.971,0.945,0.902,0.834,0.737,0.615,0.476,0.331,0.191,0.826,0.871,0.921,0.973,0.986,0.995,0.997,0.997,0.998,0.999,0.999,0.999,0.998,0.998,0.998,0.998,0.999,0.998,0.999,0.998,0.998,0.998,0.999,0.999,0.999,0.999,0.999,0.998,0.997,0.995,0.994,0.993,{"v":0.99,"d":"0.990"},0.983,{"v":0.97,"d":"0.970"},0.943,0.893,0.813,0.696,0.544,0.378,0.226,{"v":0.11,"d":"0.110"},0.037]
["MP-PCD55AR",2.6366261,0,-9.2645802,-3,1.6956609,-2,2.6444551,-4,6.1366528,-6,3.4208341,-7,0.976,0.981,0.992,0.998,0.999,0.999,0.999,0.999,0.999,0.999,0.999,0.999,0.999,0.999,0.999,0.999,0.999,0.999,0.999,0.999,0.999,0.999,0.999,0.999,0.999,0.999,0.999,0.999,0.998,0.997,0.996,0.993,0.989,0.983,0.971,0.948,{"v":0.91,"d":"0.910"},{"v":0.85,"d":"0.850"},0.751,0.594,{"v":0,"d":"0.000"},{"v":0,"d":"0.000"},{"v":0,"d":"0.000"},{"v":0,"d":"0.000"},{"v":0.94,"d":"0.940"},0.953,0.979,0.994,0.997,0.998,0.998,0.998,0.998,0.999,0.999,0.998,0.998,0.998,0.998,0.998,0.998,0.998,0.998,0.999,0.999,0.999,0.999,0.999,0.999,0.999,0.998,0.997,0.996,0.993,{"v":0.99,"d":"0.990"},0.982,0.973,0.957,{"v":0.93,"d":"0.930"},0.874,0.791,0.666,0.489,0.272,{"v":0,"d":"0.000"},{"v":0,"d":"0.000"},{"v":0,"d":"0.000"},{"v":0,"d":"0.000"},0.734,0.788,0.899,0.972,0.984,{"v":0.99,"d":"0.990"},0.991,{"v":0.99,"d":"0.990"},{"v":0.99,"d":"0.990"},0.994,0.992,0.991,0.996,0.996,0.996,0.996,0.996,0.997,0.997,0.998,0.998,0.999,0.999,0.999,0.999,0.999,0.996,0.994,0.991,0.987,{"v":0.98,"d":"0.980"},0.965,0.948,0.916,0.864,0.764,0.625,0.443,0.239,0.074,{"v":0,"d":"0.000"},{"v":0,"d":"0.000"},{"v":0,"d":"0.000"},{"v":0,"d":"0.000"}]
["MP-TAC60-90",3.0209214,0,{"v":-1.57801,"d":"-1.5780100"},-2,{"v":2.114253,"d":"2.1142530"},-2,9.5556554,-4,-7.4489819,-5,{"v":4.360632,"d":"4.3606320"},-6,0.874,0.916,0.978,0.993,0.998,0.999,0.998,0.998,0.998,0.999,0.999,0.999,0.999,0.999,0.999,0.999,0.999,0.998,0.999,0.999,0.999,0.999,0.999,0.999,0.999,0.999,0.999,0.999,0.999,0.998,0.997,0.995,0.992,0.988,0.981,0.967,0.945,0.913,0.868,0.799,0.699,0.643,0.573,0.453,0.715,0.804,0.946,0.983,0.995,0.999,0.996,0.996,0.996,0.998,0.998,0.998,0.998,0.998,0.998,0.998,0.997,0.996,0.998,0.999,0.999,0.999,0.999,0.999,0.999,0.999,0.999,0.999,0.998,0.996,0.993,0.988,0.981,0.971,0.953,{"v":0.92,"d":"0.920"},0.868,0.796,0.702,0.571,0.409,0.331,0.249,0.138,0.511,0.647,0.894,0.967,{"v":0.99,"d":"0.990"},0.998,0.996,0.996,0.993,0.995,0.995,0.996,0.996,0.996,0.996,0.996,0.995,0.993,0.996,0.999,0.997,0.998,0.999,0.999,0.999,0.999,0.999,0.998,0.995,0.992,0.987,0.975,0.963,0.943,0.908,0.847,0.754,0.634,0.493,0.326,0.167,0.109,0.062,0.019]
["MP-TAC80-60",2.9372128,0,-1.6185789,-2,{"v":1.839514,"d":"1.8395140"},-2,1.0266071,-3,-9.2379872,-5,5.0509237,-6,"","","","","","",0.999,0.999,0.999,0.999,0.999,0.999,0.999,0.999,0.999,0.999,0.999,0.999,0.999,0.999,0.999,0.999,0.999,0.999,0.999,0.999,0.999,0.999,0.999,0.998,0.998,0.996,0.994,{"v":0.99,"d":"0.990"},0.983,0.971,0.952,0.923,0.883,0.818,0.723,0.671,0.603,0.478,"","","","","","",0.999,0.999,0.999,0.999,0.999,0.999,0.999,0.999,0.999,0.998,0.998,0.998,0.998,0.999,0.999,0.999,0.999,0.999,0.999,0.999,0.999,0.999,0.998,0.996,0.994,0.989,0.984,0.975,0.959,{"v":0.93,"d":"0.930"},0.884,0.819,0.732,0.606,0.444,0.369,0.283,{"v":0.16,"d":"0.160"},"","","","","","",0.999,0.999,0.997,0.999,0.998,0.998,0.997,0.998,0.997,0.997,0.997,0.996,0.996,0.998,0.999,0.998,0.999,0.999,0.999,0.999,0.999,0.997,0.995,0.992,0.989,0.979,0.968,{"v":0.95,"d":"0.950"},0.919,0.865,0.782,0.671,0.536,0.367,0.197,0.136,{"v":0.08,"d":"0.080"},0.025]
["MP-TAF101-100",3.0591566,0,-1.3604717,-2,2.4624272,-2,4.1834242,-4,2.5361908,-6,{"v":7.998082,"d":"7.9980820"},-7,0.881,0.921,{"v":0.98,"d":"0.980"},0.994,0.998,0.999,0.999,0.999,0.999,0.999,0.999,0.999,0.999,0.999,0.999,0.999,0.999,0.999,0.999,0.999,0.999,0.999,0.999,0.999,0.999,0.999,0.999,0.999,0.999,0.998,0.997,0.996,0.994,0.991,0.985,0.976,{"v":0.96,"d":"0.960"},0.936,0.903,0.845,0.761,0.721,0.647,0.504,0.728,0.815,0.951,0.985,0.996,0.999,0.998,0.998,0.999,0.999,0.999,0.999,0.999,0.999,0.999,0.998,0.998,0.998,0.999,0.999,0.999,0.998,0.999,0.999,0.998,0.999,0.999,0.998,0.997,0.995,0.993,0.989,0.985,0.977,0.964,{"v":0.94,"d":"0.940"},0.902,0.848,0.775,0.657,0.506,0.442,0.337,{"v":0.18,"d":"0.180"},{"v":0.53,"d":"0.530"},0.664,0.904,0.971,0.993,0.999,0.997,0.996,0.998,0.999,0.999,0.998,0.999,0.998,0.997,0.997,0.997,0.997,0.997,0.998,0.998,0.998,0.998,0.997,0.997,0.999,0.999,0.996,0.993,{"v":0.99,"d":"0.990"},0.986,0.979,{"v":0.97,"d":"0.970"},0.955,{"v":0.93,"d":"0.930"},0.884,0.814,0.719,0.601,0.432,0.257,0.195,0.114,0.032]
["MP-TAF105",3.0705638,0,-1.3310234,-2,2.5280355,-2,2.1829234,-4,3.2555293,-5,-8.1300421,-7,"","","","","","",0.999,0.999,0.999,0.999,0.999,0.999,0.999,0.999,0.999,0.999,0.999,0.999,0.999,0.999,0.999,0.999,0.999,0.999,0.999,0.999,0.999,0.999,0.998,0.998,0.997,0.995,0.993,{"v":0.99,"d":"0.990"},0.984,0.975,0.958,0.934,{"v":0.9,"d":"0.900"},0.853,0.736,0.721,0.637,0.496,"","","","","","",0.998,0.998,0.999,0.999,0.999,0.999,0.999,0.999,0.999,0.999,0.999,0.999,0.999,0.999,0.999,0.999,0.999,0.999,0.999,0.999,0.998,0.997,0.996,0.995,0.992,0.988,0.983,0.975,0.961,0.938,0.898,0.843,0.769,0.673,0.465,0.442,0.325,0.174,"","","","","","",0.997,0.997,0.997,0.999,0.999,0.999,0.999,0.999,0.999,0.999,0.999,0.998,0.998,0.999,0.999,0.998,0.998,0.998,0.998,0.998,0.996,0.994,0.992,0.989,0.985,0.976,0.967,0.951,0.924,0.881,0.807,{"v":0.71,"d":"0.710"},0.591,0.452,0.216,0.195,0.105,{"v":0.03,"d":"0.030"}]
["MP-TAF31-15",{"v":3.164475,"d":"3.1644750"},0,-1.3801295,-2,2.7926276,-2,{"v":5.7403,"d":"5.7403000"},-4,9.8223773,-7,1.3284244,-6,"","","","","","",0.999,0.999,0.999,0.999,0.999,0.999,0.999,0.999,0.999,0.999,0.999,0.999,0.999,0.999,0.999,0.999,0.999,0.999,0.999,0.999,0.999,0.999,0.998,0.997,0.996,0.993,{"v":0.99,"d":"0.990"},0.984,0.974,0.957,0.929,0.889,0.836,0.763,0.662,0.591,0.503,0.372,"","","","","","",0.999,0.999,0.999,0.999,0.999,0.999,0.999,0.999,0.999,0.999,0.998,0.999,0.999,0.998,0.997,0.998,0.999,0.999,0.999,0.999,0.999,0.997,0.995,0.993,0.989,0.982,0.974,{"v":0.96,"d":"0.960"},0.936,0.895,0.831,0.745,0.639,0.508,0.357,0.268,0.179,0.085,"","","","","","",0.999,0.999,0.999,0.999,0.999,0.998,0.998,0.998,0.998,0.998,0.997,0.997,0.998,0.996,0.995,0.995,0.999,0.999,0.999,0.999,0.998,0.994,0.991,0.986,0.979,0.964,0.948,0.922,0.876,0.801,{"v":0.69,"d":"0.690"},0.555,0.409,0.258,0.128,0.072,0.032,{"v":0,"d":"0.000"}]
["MP-TAF401",{"v":3.07279,"d":"3.0727900"},0,{"v":-1.366385,"d":"-1.3663850"},-2,{"v":2.527346,"d":"2.5273460"},-2,{"v":6.12182,"d":"6.1218200"},-4,{"v":-1.147045,"d":"-1.1470450"},-5,{"v":1.543,"d":"1.5430000"},-6,0.898,0.934,0.983,0.994,0.998,0.999,0.999,0.999,0.999,0.999,0.999,0.999,0.999,0.999,0.999,0.999,0.999,0.998,0.998,0.998,0.999,0.998,0.999,0.999,0.999,0.999,0.999,0.998,0.998,0.997,0.996,0.993,{"v":0.99,"d":"0.990"},0.985,0.976,0.957,0.921,0.852,0.725,0.524,0.284,{"v":0,"d":"0.000"},{"v":0,"d":"0.000"},{"v":0,"d":"0.000"},0.764,0.844,0.957,0.986,0.996,0.999,0.997,0.997,0.998,0.998,0.998,0.998,0.998,0.997,0.997,0.997,0.997,0.996,0.996,0.996,0.997,0.996,0.998,0.998,0.998,0.998,0.997,0.996,0.994,0.992,0.989,0.983,0.976,0.963,0.941,0.896,0.814,0.671,0.447,0.199,0.043,{"v":0,"d":"0.000"},{"v":0,"d":"0.000"},{"v":0,"d":"0.000"},0.584,0.712,0.916,0.973,0.993,0.999,0.994,0.995,0.995,0.996,0.996,0.995,0.995,0.995,0.994,0.995,0.994,0.993,0.992,0.992,0.993,0.993,0.997,0.996,0.995,0.996,0.994,0.992,0.989,0.985,0.978,0.966,0.952,0.928,0.886,0.804,0.663,0.451,{"v":0.2,"d":"0.200"},{"v":0.04,"d":"0.040"},{"v":0,"d":"0.000"},{"v":0,"d":"0.000"},{"v":0,"d":"0.000"},{"v":0,"d":"0.000"}]
["MP-TAFD305",{"v":3.327184,"d":"3.3271840"},0,{"v":-1.343242,"d":"-1.3432420"},-2,{"v":3.3398,"d":"3.3398000"},-2,{"v":1.006047,"d":"1.0060470"},-3,{"v":-2.136908,"d":"-2.1369080"},-5,{"v":3.972561,"d":"3.9725610"},-6,0.913,0.948,0.986,0.996,0.999,0.999,0.999,0.999,0.999,0.999,0.999,0.999,0.999,0.999,0.999,0.999,0.999,0.999,0.999,0.999,0.999,0.999,0.999,0.999,0.999,0.999,0.999,0.998,0.997,0.995,0.992,0.985,0.977,0.961,{"v":0.93,"d":"0.930"},0.864,{"v":0.73,"d":"0.730"},0.523,0.271,{"v":0,"d":"0.000"},{"v":0,"d":"0.000"},{"v":0,"d":"0.000"},{"v":0,"d":"0.000"},{"v":0,"d":"0.000"},0.796,0.876,0.966,{"v":0.99,"d":"0.990"},0.999,0.999,0.998,0.998,0.998,0.998,0.997,0.997,0.997,0.997,0.997,0.997,0.997,0.997,0.998,0.997,0.997,0.998,0.999,0.999,0.999,0.999,0.998,0.995,0.992,0.988,{"v":0.98,"d":"0.980"},0.963,0.943,0.906,0.835,0.694,0.456,0.198,0.038,{"v":0,"d":"0.000"},{"v":0,"d":"0.000"},{"v":0,"d":"0.000"},{"v":0,"d":"0.000"},{"v":0,"d":"0.000"},0.634,0.768,0.934,0.981,0.998,0.999,0.995,0.996,0.996,0.996,0.995,0.994,0.994,0.994,0.993,0.994,0.993,0.994,0.996,0.994,0.995,0.995,0.999,0.999,0.999,0.999,0.995,{"v":0.99,"d":"0.990"},0.984,0.976,0.961,0.927,0.888,{"v":0.82,"d":"0.820"},0.698,0.481,0.208,0.039,{"v":0,"d":"0.000"},{"v":0,"d":"0.000"},{"v":0,"d":"0.000"},{"v":0,"d":"0.000"},{"v":0,"d":"0.000"},{"v":0,"d":"0.000"}]
["MP-TAFD307",3.4286062,0,-1.3845333,-2,3.7363009,-2,1.1894554,-3,-1.5979979,-5,5.1827398,-6,"","","","","","",0.999,0.999,0.999,0.999,0.999,0.999,0.999,0.999,0.999,0.999,0.999,0.999,0.999,0.999,0.999,0.999,0.999,0.999,0.999,0.999,0.997,0.996,0.994,0.992,0.987,0.974,{"v":0.96,"d":"0.960"},0.932,0.876,{"v":0.76,"d":"0.760"},0.558,0.308,{"v":0,"d":"0.000"},{"v":0,"d":"0.000"},{"v":0,"d":"0.000"},{"v":0,"d":"0.000"},{"v":0,"d":"0.000"},{"v":0,"d":"0.000"},"","","","","","",0.998,0.998,0.998,0.999,0.999,0.999,0.999,0.999,0.999,0.999,0.999,0.999,0.999,0.999,0.999,0.999,0.999,0.999,0.999,0.998,0.993,{"v":0.99,"d":"0.990"},0.985,0.979,0.967,0.936,0.902,0.839,0.719,0.504,0.233,0.053,{"v":0,"d":"0.000"},{"v":0,"d":"0.000"},{"v":0,"d":"0.000"},{"v":0,"d":"0.000"},{"v":0,"d":"0.000"},{"v":0,"d":"0.000"},"","","","","","",0.996,0.995,0.997,0.998,0.998,0.998,0.998,0.998,0.998,0.998,0.998,0.998,0.998,0.998,0.999,0.999,0.999,0.999,0.998,0.996,0.987,{"v":0.98,"d":"0.980"},0.971,0.958,0.934,0.875,0.813,0.703,0.517,0.254,0.054,{"v":0,"d":"0.000"},{"v":0,"d":"0.000"},{"v":0,"d":"0.000"},{"v":0,"d":"0.000"},{"v":0,"d":"0.000"},{"v":0,"d":"0.000"},{"v":0,"d":"0.000"}]
["MP-TAFD405",3.6542352,0,-1.5688325,-2,4.8094089,-2,2.6498065,-3,-1.3971852,-4,1.9581201,-5,0.936,0.965,0.992,0.997,0.999,0.999,0.999,0.999,0.999,0.999,0.999,0.999,0.999,0.999,0.999,0.999,0.999,0.999,0.999,0.999,0.999,0.999,0.999,0.999,0.999,0.998,0.993,0.989,0.984,0.976,0.962,{"v":0.93,"d":"0.930"},0.897,0.833,0.701,{"v":0.43,"d":"0.430"},0.069,{"v":0,"d":"0.000"},{"v":0,"d":"0.000"},{"v":0,"d":"0.000"},{"v":0,"d":"0.000"},{"v":0,"d":"0.000"},{"v":0,"d":"0.000"},{"v":0,"d":"0.000"},0.847,0.914,0.979,0.992,0.998,0.999,0.999,0.999,0.999,0.999,0.999,0.999,0.999,0.999,0.998,0.998,0.998,0.997,0.997,0.999,0.999,0.999,0.999,0.998,0.998,0.995,0.982,0.973,0.961,0.942,0.907,0.833,0.761,0.634,0.411,0.121,{"v":0,"d":"0.000"},{"v":0,"d":"0.000"},{"v":0,"d":"0.000"},{"v":0,"d":"0.000"},{"v":0,"d":"0.000"},{"v":0,"d":"0.000"},{"v":0,"d":"0.000"},{"v":0,"d":"0.000"},0.717,0.836,0.958,0.984,0.997,0.998,0.998,0.998,0.998,0.999,0.998,0.998,0.997,0.997,0.997,0.997,0.996,0.994,0.995,0.999,0.999,0.998,0.998,0.996,0.996,0.989,0.965,0.947,0.924,0.887,0.822,0.694,{"v":0.58,"d":"0.580"},0.402,0.169,0.015,{"v":0,"d":"0.000"},{"v":0,"d":"0.000"},{"v":0,"d":"0.000"},{"v":0,"d":"0.000"},{"v":0,"d":"0.000"},{"v":0,"d":"0.000"},{"v":0,"d":"0.000"},{"v":0,"d":"0.000"}]
["MP-TAFD51-50",3.2288052,0,-1.4433046,-2,2.9863488,-2,8.2119282,-4,-1.0943492,-5,2.5804939,-6,"","","","","","",0.999,0.999,0.999,0.999,0.999,0.999,0.999,0.999,0.999,0.999,0.999,0.999,0.999,0.999,0.999,0.999,0.999,0.999,0.999,0.999,0.998,0.998,0.996,0.995,0.992,0.986,{"v":0.98,"d":"0.980"},0.968,0.946,0.898,0.798,0.623,0.379,{"v":0,"d":"0.000"},{"v":0,"d":"0.000"},{"v":0,"d":"0.000"},{"v":0,"d":"0.000"},{"v":0,"d":"0.000"},"","","","","","",0.998,0.998,0.999,0.999,0.999,0.999,0.999,0.999,0.999,0.999,0.999,0.999,0.999,0.999,0.998,0.998,0.999,0.999,0.999,0.999,0.996,0.994,0.991,0.987,{"v":0.98,"d":"0.980"},0.966,0.951,0.923,0.871,0.765,0.568,0.306,0.088,{"v":0,"d":"0.000"},{"v":0,"d":"0.000"},{"v":0,"d":"0.000"},{"v":0,"d":"0.000"},{"v":0,"d":"0.000"},"","","","","","",0.996,0.996,0.997,0.999,0.999,0.998,0.997,0.999,0.999,0.999,0.998,0.999,0.998,0.999,0.997,0.996,0.999,0.999,0.999,0.998,0.993,0.988,0.982,0.974,0.961,0.933,0.903,0.852,0.759,0.585,0.323,0.093,{"v":0,"d":"0.000"},{"v":0,"d":"0.000"},{"v":0,"d":"0.000"},{"v":0,"d":"0.000"},{"v":0,"d":"0.000"},{"v":0,"d":"0.000"}]
["M-TAC60",{"v":3.017866,"d":"3.0178660"},0,-1.5790934,-2,2.1144702,-2,9.3137389,-4,-6.9379914,-5,{"v":4.02762,"d":"4.0276200"},-6,0.874,0.916,0.978,0.993,0.998,0.999,0.998,0.998,0.998,0.999,0.999,0.999,0.999,0.999,0.999,0.999,0.999,0.998,0.999,0.999,0.999,0.999,0.999,0.999,0.999,0.999,0.999,0.999,0.999,0.998,0.997,0.995,0.992,0.988,0.981,0.967,0.945,0.913,0.868,0.799,0.699,0.643,0.573,0.453,0.715,0.804,0.946,0.983,0.995,0.999,0.996,0.996,0.996,0.998,0.998,0.998,0.998,0.998,0.998,0.998,0.997,0.996,0.998,0.999,0.999,0.999,0.999,0.999,0.999,0.999,0.999,0.999,0.998,0.996,0.993,0.988,0.981,0.971,0.953,{"v":0.92,"d":"0.920"},0.868,0.796,0.702,0.571,0.409,0.331,0.249,0.138,0.511,0.647,0.894,0.967,{"v":0.99,"d":"0.990"},0.998,0.996,0.996,0.993,0.995,0.995,0.996,0.996,0.996,0.996,0.996,0.995,0.993,0.996,0.999,0.997,0.998,0.999,0.999,0.999,0.999,0.999,0.998,0.995,0.992,0.987,0.975,0.963,0.943,0.908,0.847,0.754,0.634,0.493,0.326,0.167,0.109,0.062,0.019]
["M-TAC80",2.9351948,0,-1.6193458,-2,1.8392287,-2,1.0086167,-3,-8.7565474,-5,4.6921333,-6,"","","","","","",0.999,0.999,0.999,0.999,0.999,0.999,0.999,0.999,0.999,0.999,0.999,0.999,0.999,0.999,0.999,0.999,0.999,0.999,0.999,0.999,0.999,0.999,0.999,0.998,0.998,0.996,0.994,{"v":0.99,"d":"0.990"},0.983,0.971,0.952,0.923,0.883,0.818,0.723,0.671,0.603,0.478,"","","","","","",0.999,0.999,0.999,0.999,0.999,0.999,0.999,0.999,0.999,0.998,0.998,0.998,0.998,0.999,0.999,0.999,0.999,0.999,0.999,0.999,0.999,0.999,0.998,0.996,0.994,0.989,0.984,0.975,0.959,{"v":0.93,"d":"0.930"},0.884,0.819,0.732,0.606,0.444,0.369,0.283,{"v":0.16,"d":"0.160"},"","","","","","",0.999,0.999,0.997,0.999,0.998,0.998,0.997,0.998,0.997,0.997,0.997,0.996,0.996,0.998,0.999,0.998,0.999,0.999,0.999,0.999,0.999,0.997,0.995,0.992,0.989,0.979,0.968,{"v":0.95,"d":"0.950"},0.919,0.865,0.782,0.671,0.536,0.367,0.197,0.136,{"v":0.08,"d":"0.080"},0.025]
["M-TAF1",{"v":3.070806,"d":"3.0708060"},0,-1.2276924,-2,{"v":2.456566,"d":"2.4565660"},-2,4.7436648,-4,{"v":5.432616,"d":"5.4326160"},-7,6.5976661,-7,"","","","","","","","","","","","","","","","","","","","","","","","","","","","","","","","","","","","","","","","","","","","","","","","","","",0.998,0.998,0.999,0.999,0.999,0.999,0.999,0.999,0.999,0.999,0.999,0.999,0.999,0.999,0.999,0.999,0.999,0.999,0.998,0.999,0.999,0.998,0.997,0.996,0.995,0.992,0.989,0.983,0.971,0.949,0.912,0.855,0.773,0.668,0.449,0.429,{"v":0.34,"d":"0.340"},0.217,"","","","","","",0.997,0.996,0.997,0.998,0.998,0.998,0.998,0.998,0.998,0.998,0.998,0.999,0.999,0.998,0.998,0.998,0.998,0.997,0.997,0.998,0.997,0.996,0.994,0.992,{"v":0.99,"d":"0.990"},0.985,0.978,0.966,0.942,{"v":0.9,"d":"0.900"},0.831,0.731,0.598,0.446,0.202,0.184,0.116,0.047]
["M-TAF101",{"v":3.05615,"d":"3.0561500"},0,{"v":-1.38471,"d":"-1.3847100"},-2,{"v":2.431126,"d":"2.4311260"},-2,{"v":4.980027,"d":"4.9800270"},-4,{"v":-7.318676,"d":"-7.3186760"},-6,{"v":1.24041,"d":"1.2404100"},-6,0.881,0.921,{"v":0.98,"d":"0.980"},0.994,0.998,0.999,0.999,0.999,0.999,0.999,0.999,0.999,0.999,0.999,0.999,0.999,0.999,0.999,0.999,0.999,0.999,0.999,0.999,0.999,0.999,0.999,0.999,0.999,0.999,0.998,0.997,0.996,0.994,0.991,0.985,0.976,{"v":0.96,"d":"0.960"},0.936,0.903,0.845,0.761,0.721,0.647,0.504,0.728,0.815,0.951,0.985,0.996,0.999,0.998,0.998,0.999,0.999,0.999,0.999,0.999,0.999,0.999,0.998,0.998,0.998,0.999,0.999,0.999,0.998,0.999,0.999,0.998,0.999,0.999,0.998,0.997,0.995,0.993,0.989,0.985,0.977,0.964,{"v":0.94,"d":"0.940"},0.902,0.848,0.775,0.657,0.506,0.442,0.337,{"v":0.18,"d":"0.180"},{"v":0.53,"d":"0.530"},0.664,0.904,0.971,0.993,0.999,0.997,0.996,0.998,0.999,0.999,0.998,0.999,0.998,0.997,0.997,0.997,0.997,0.997,0.998,0.998,0.998,0.998,0.997,0.997,0.999,0.999,0.996,0.993,{"v":0.99,"d":"0.990"},0.986,0.979,{"v":0.97,"d":"0.970"},0.955,{"v":0.93,"d":"0.930"},0.884,0.814,0.719,0.601,0.432,0.257,0.195,0.114,0.032]
["M-TAF105",3.0705638,0,-1.3310234,-2,2.5280355,-2,2.1829234,-4,3.2555293,-5,-8.1300421,-7,"","","","","","",0.999,0.999,0.999,0.999,0.999,0.999,0.999,0.999,0.999,0.999,0.999,0.999,0.999,0.999,0.999,0.999,0.999,0.999,0.999,0.999,0.999,0.999,0.998,0.998,0.997,0.995,0.993,{"v":0.99,"d":"0.990"},0.984,0.975,0.958,0.934,{"v":0.9,"d":"0.900"},0.853,0.736,0.721,0.637,0.496,"","","","","","",0.998,0.998,0.999,0.999,0.999,0.999,0.999,0.999,0.999,0.999,0.999,0.999,0.999,0.999,0.999,0.999,0.999,0.999,0.999,0.999,0.998,0.997,0.996,0.995,0.992,0.988,0.983,0.975,0.961,0.938,0.898,0.843,0.769,0.673,0.465,0.442,0.325,0.174,"","","","","","",0.997,0.997,0.997,0.999,0.999,0.999,0.999,0.999,0.999,0.999,0.999,0.998,0.998,0.999,0.999,0.998,0.998,0.998,0.998,0.998,0.996,0.994,0.992,0.989,0.985,0.976,0.967,0.951,0.924,0.881,0.807,{"v":0.71,"d":"0.710"},0.591,0.452,0.216,0.195,0.105,{"v":0.03,"d":"0.030"}]
["M-TAF31",{"v":3.164358,"d":"3.1643580"},0,{"v":-1.403321,"d":"-1.4033210"},-2,{"v":2.767034,"d":"2.7670340"},-2,{"v":6.403025,"d":"6.4030250"},-4,{"v":-6.349234,"d":"-6.3492340"},-6,{"v":1.615744,"d":"1.6157440"},-6,"","","","","","",0.999,0.999,0.999,0.999,0.999,0.999,0.999,0.999,0.999,0.999,0.999,0.999,0.999,0.999,0.999,0.999,0.999,0.999,0.999,0.999,0.999,0.999,0.998,0.997,0.996,0.993,{"v":0.99,"d":"0.990"},0.984,0.974,0.957,0.929,0.889,0.836,0.763,0.662,0.591,0.503,0.372,"","","","","","",0.999,0.999,0.999,0.999,0.999,0.999,0.999,0.999,0.999,0.999,0.998,0.999,0.999,0.998,0.997,0.998,0.999,0.999,0.999,0.999,0.999,0.997,0.995,0.993,0.989,0.982,0.974,{"v":0.96,"d":"0.960"},0.936,0.895,0.831,0.745,0.639,0.508,0.357,0.268,0.179,0.085,"","","","","","",0.999,0.999,0.999,0.999,0.999,0.998,0.998,0.998,0.998,0.998,0.997,0.997,0.998,0.996,0.995,0.995,0.999,0.999,0.999,0.999,0.998,0.994,0.991,0.986,0.979,0.964,0.948,0.922,0.876,0.801,{"v":0.69,"d":"0.690"},0.555,0.409,0.258,0.128,0.072,0.032,{"v":0,"d":"0.000"}]
["M-TAF401",{"v":3.07279,"d":"3.0727900"},0,{"v":-1.366385,"d":"-1.3663850"},-2,{"v":2.527346,"d":"2.5273460"},-2,{"v":6.12182,"d":"6.1218200"},-4,{"v":-1.147045,"d":"-1.1470450"},-5,{"v":1.543,"d":"1.5430000"},-6,0.898,0.934,0.983,0.994,0.998,0.999,0.999,0.999,0.999,0.999,0.999,0.999,0.999,0.999,0.999,0.999,0.999,0.998,0.998,0.998,0.999,0.998,0.999,0.999,0.999,0.999,0.999,0.998,0.998,0.997,0.996,0.993,{"v":0.99,"d":"0.990"},0.985,0.976,0.957,0.921,0.852,0.725,0.524,0.284,{"v":0,"d":"0.000"},{"v":0,"d":"0.000"},{"v":0,"d":"0.000"},0.764,0.844,0.957,0.986,0.996,0.999,0.997,0.997,0.998,0.998,0.998,0.998,0.998,0.997,0.997,0.997,0.997,0.996,0.996,0.996,0.997,0.996,0.998,0.998,0.998,0.998,0.997,0.996,0.994,0.992,0.989,0.983,0.976,0.963,0.941,0.896,0.814,0.671,0.447,0.199,0.043,{"v":0,"d":"0.000"},{"v":0,"d":"0.000"},{"v":0,"d":"0.000"},0.584,0.712,0.916,0.973,0.993,0.999,0.994,0.995,0.995,0.996,0.996,0.995,0.995,0.995,0.994,0.995,0.994,0.993,0.992,0.992,0.993,0.993,0.997,0.996,0.995,0.996,0.994,0.992,0.989,0.985,0.978,0.966,0.952,0.928,0.886,0.804,0.663,0.451,{"v":0.2,"d":"0.200"},{"v":0.04,"d":"0.040"},{"v":0,"d":"0.000"},{"v":0,"d":"0.000"},{"v":0,"d":"0.000"},{"v":0,"d":"0.000"}]
["M-TAFD305",{"v":3.327184,"d":"3.3271840"},0,{"v":-1.343242,"d":"-1.3432420"},-2,{"v":3.3398,"d":"3.3398000"},-2,{"v":1.006047,"d":"1.0060470"},-3,{"v":-2.136908,"d":"-2.1369080"},-5,{"v":3.972561,"d":"3.9725610"},-6,0.913,0.948,0.986,0.996,0.999,0.999,0.999,0.999,0.999,0.999,0.999,0.999,0.999,0.999,0.999,0.999,0.999,0.999,0.999,0.999,0.999,0.999,0.999,0.999,0.999,0.999,0.999,0.998,0.997,0.995,0.992,0.985,0.977,0.961,{"v":0.93,"d":"0.930"},0.864,{"v":0.73,"d":"0.730"},0.523,0.271,{"v":0,"d":"0.000"},{"v":0,"d":"0.000"},{"v":0,"d":"0.000"},{"v":0,"d":"0.000"},{"v":0,"d":"0.000"},0.796,0.876,0.966,{"v":0.99,"d":"0.990"},0.999,0.999,0.998,0.998,0.998,0.998,0.997,0.997,0.997,0.997,0.997,0.997,0.997,0.997,0.998,0.997,0.997,0.998,0.999,0.999,0.999,0.999,0.998,0.995,0.992,0.988,{"v":0.98,"d":"0.980"},0.963,0.943,0.906,0.835,0.694,0.456,0.198,0.038,{"v":0,"d":"0.000"},{"v":0,"d":"0.000"},{"v":0,"d":"0.000"},{"v":0,"d":"0.000"},{"v":0,"d":"0.000"},0.634,0.768,0.934,0.981,0.998,0.999,0.995,0.996,0.996,0.996,0.995,0.994,0.994,0.994,0.993,0.994,0.993,0.994,0.996,0.994,0.995,0.995,0.999,0.999,0.999,0.999,0.995,{"v":0.99,"d":"0.990"},0.984,0.976,0.961,0.927,0.888,{"v":0.82,"d":"0.820"},0.698,0.481,0.208,0.039,{"v":0,"d":"0.000"},{"v":0,"d":"0.000"},{"v":0,"d":"0.000"},{"v":0,"d":"0.000"},{"v":0,"d":"0.000"},{"v":0,"d":"0.000"}]
["M-TAFD307",3.4286062,0,-1.3845333,-2,3.7363009,-2,1.1894554,-3,-1.5979979,-5,5.1827398,-6,"","","","","","",0.999,0.999,0.999,0.999,0.999,0.999,0.999,0.999,0.999,0.999,0.999,0.999,0.999,0.999,0.999,0.999,0.999,0.999,0.999,0.999,0.997,0.996,0.994,0.992,0.987,0.974,{"v":0.96,"d":"0.960"},0.932,0.876,{"v":0.76,"d":"0.760"},0.558,0.308,{"v":0,"d":"0.000"},{"v":0,"d":"0.000"},{"v":0,"d":"0.000"},{"v":0,"d":"0.000"},{"v":0,"d":"0.000"},{"v":0,"d":"0.000"},"","","","","","",0.998,0.998,0.998,0.999,0.999,0.999,0.999,0.999,0.999,0.999,0.999,0.999,0.999,0.999,0.999,0.999,0.999,0.999,0.999,0.998,0.993,{"v":0.99,"d":"0.990"},0.985,0.979,0.967,0.936,0.902,0.839,0.719,0.504,0.233,0.053,{"v":0,"d":"0.000"},{"v":0,"d":"0.000"},{"v":0,"d":"0.000"},{"v":0,"d":"0.000"},{"v":0,"d":"0.000"},{"v":0,"d":"0.000"},"","","","","","",0.996,0.995,0.997,0.998,0.998,0.998,0.998,0.998,0.998,0.998,0.998,0.998,0.998,0.998,0.999,0.999,0.999,0.999,0.998,0.996,0.987,{"v":0.98,"d":"0.980"},0.971,0.958,0.934,0.875,0.813,0.703,0.517,0.254,0.054,{"v":0,"d":"0.000"},{"v":0,"d":"0.000"},{"v":0,"d":"0.000"},{"v":0,"d":"0.000"},{"v":0,"d":"0.000"},{"v":0,"d":"0.000"},{"v":0,"d":"0.000"}]
["M-TAFD405",3.6542352,0,-1.5688325,-2,4.8094089,-2,2.6498065,-3,-1.3971852,-4,1.9581201,-5,0.936,0.965,0.992,0.997,0.999,0.999,0.999,0.999,0.999,0.999,0.999,0.999,0.999,0.999,0.999,0.999,0.999,0.999,0.999,0.999,0.999,0.999,0.999,0.999,0.999,0.998,0.993,0.989,0.984,0.976,0.962,{"v":0.93,"d":"0.930"},0.897,0.833,0.701,{"v":0.43,"d":"0.430"},0.069,{"v":0,"d":"0.000"},{"v":0,"d":"0.000"},{"v":0,"d":"0.000"},{"v":0,"d":"0.000"},{"v":0,"d":"0.000"},{"v":0,"d":"0.000"},{"v":0,"d":"0.000"},0.847,0.914,0.979,0.992,0.998,0.999,0.999,0.999,0.999,0.999,0.999,0.999,0.999,0.999,0.998,0.998,0.998,0.997,0.997,0.999,0.999,0.999,0.999,0.998,0.998,0.995,0.982,0.973,0.961,0.942,0.907,0.833,0.761,0.634,0.411,0.121,{"v":0,"d":"0.000"},{"v":0,"d":"0.000"},{"v":0,"d":"0.000"},{"v":0,"d":"0.000"},{"v":0,"d":"0.000"},{"v":0,"d":"0.000"},{"v":0,"d":"0.000"},{"v":0,"d":"0.000"},0.717,0.836,0.958,0.984,0.997,0.998,0.998,0.998,0.998,0.999,0.998,0.998,0.997,0.997,0.997,0.997,0.996,0.994,0.995,0.999,0.999,0.998,0.998,0.996,0.996,0.989,0.965,0.947,0.924,0.887,0.822,0.694,{"v":0.58,"d":"0.580"},0.402,0.169,0.015,{"v":0,"d":"0.000"},{"v":0,"d":"0.000"},{"v":0,"d":"0.000"},{"v":0,"d":"0.000"},{"v":0,"d":"0.000"},{"v":0,"d":"0.000"},{"v":0,"d":"0.000"},{"v":0,"d":"0.000"}]
["M-TAFD51",{"v":3.227682,"d":"3.2276820"},0,{"v":-1.453816,"d":"-1.4538160"},-2,{"v":2.92121,"d":"2.9212100"},-2,{"v":1.057062,"d":"1.0570620"},-3,{"v":-4.787162,"d":"-4.7871620"},-5,{"v":4.557239,"d":"4.5572390"},-6,"","","","","","",0.999,0.999,0.999,0.999,0.999,0.999,0.999,0.999,0.999,0.999,0.999,0.999,0.999,0.999,0.999,0.999,0.999,0.999,0.999,0.999,0.998,0.998,0.996,0.995,0.992,0.986,{"v":0.98,"d":"0.980"},0.968,0.946,0.898,0.798,0.623,0.379,{"v":0,"d":"0.000"},{"v":0,"d":"0.000"},{"v":0,"d":"0.000"},{"v":0,"d":"0.000"},{"v":0,"d":"0.000"},"","","","","","",0.998,0.998,0.999,0.999,0.999,0.999,0.999,0.999,0.999,0.999,0.999,0.999,0.999,0.999,0.998,0.998,0.999,0.999,0.999,0.999,0.996,0.994,0.991,0.987,{"v":0.98,"d":"0.980"},0.966,0.951,0.923,0.871,0.765,0.568,0.306,0.088,{"v":0,"d":"0.000"},{"v":0,"d":"0.000"},{"v":0,"d":"0.000"},{"v":0,"d":"0.000"},{"v":0,"d":"0.000"},"","","","","","",0.996,0.996,0.997,0.999,0.999,0.998,0.997,0.999,0.999,0.999,0.998,0.999,0.998,0.999,0.997,0.996,0.999,0.999,0.999,0.998,0.993,0.988,0.982,0.974,0.961,0.933,0.903,0.852,0.759,0.585,0.323,0.093,{"v":0,"d":"0.000"},{"v":0,"d":"0.000"},{"v":0,"d":"0.000"},{"v":0,"d":"0.000"},{"v":0,"d":"0.000"},{"v":0,"d":"0.000"}]
["NBF1",2.9753491,0,{"v":-1.461347,"d":"-1.4613470"},-2,2.1096383,-2,{"v":1.198038,"d":"1.1980380"},-3,-1.1887388,-4,{"v":7.344435,"d":"7.3444350"},-6,"","","","","","",0.998,0.998,0.998,0.999,0.999,0.999,0.999,0.999,0.999,0.999,0.999,0.999,0.999,0.999,0.999,0.999,0.999,0.999,0.999,0.999,0.999,0.999,0.999,0.999,0.998,0.997,0.995,0.993,0.988,{"v":0.98,"d":"0.980"},0.966,0.945,0.914,0.861,{"v":0.76,"d":"0.760"},0.584,0.348,0.225,"","","","","","",0.995,0.995,0.995,0.999,0.999,0.999,0.999,0.999,0.999,0.999,0.999,0.999,0.999,0.999,0.999,0.999,0.999,0.999,0.999,0.999,0.999,0.999,0.999,0.997,0.995,0.992,0.988,0.982,0.971,{"v":0.95,"d":"0.950"},0.917,0.869,0.798,0.687,0.504,0.261,0.071,0.024,"","","","","","",0.991,0.989,{"v":0.99,"d":"0.990"},0.999,0.999,0.999,0.999,0.999,0.999,0.999,0.999,0.999,0.999,0.998,0.999,0.998,0.999,0.999,0.999,0.999,0.999,0.999,0.997,0.995,0.991,0.984,0.977,0.964,0.943,0.902,0.841,0.755,0.637,0.472,0.254,0.068,{"v":0,"d":"0.000"},{"v":0,"d":"0.000"}]
["NBFD10",3.2615573,0,-1.4542851,-2,3.3470739,-2,1.2266479,-3,-2.5391842,-5,5.5971739,-6,0.896,0.932,0.978,0.993,0.998,0.999,0.999,0.999,0.999,0.999,0.999,0.999,0.999,0.999,0.999,0.999,0.999,0.999,0.999,0.999,0.999,0.999,0.999,0.999,0.999,0.999,0.999,0.998,0.996,0.994,{"v":0.99,"d":"0.990"},{"v":0.98,"d":"0.980"},{"v":0.97,"d":"0.970"},0.949,0.904,{"v":0.8,"d":"0.800"},0.605,0.343,{"v":0,"d":"0.000"},{"v":0,"d":"0.000"},{"v":0,"d":"0.000"},{"v":0,"d":"0.000"},{"v":0,"d":"0.000"},{"v":0,"d":"0.000"},{"v":0.76,"d":"0.760"},0.839,0.946,0.983,0.994,0.998,0.998,0.997,0.998,0.999,0.999,0.999,0.999,0.999,0.999,0.999,0.999,0.999,0.999,0.999,0.999,0.999,0.999,0.999,0.999,0.999,0.996,0.994,{"v":0.99,"d":"0.990"},0.984,0.975,0.952,0.927,0.878,0.778,0.573,0.284,0.069,{"v":0,"d":"0.000"},{"v":0,"d":"0.000"},{"v":0,"d":"0.000"},{"v":0,"d":"0.000"},{"v":0,"d":"0.000"},{"v":0,"d":"0.000"},0.577,0.704,0.894,0.966,0.988,0.996,0.996,0.993,0.996,0.999,0.999,0.999,0.999,0.999,0.999,0.999,0.999,0.999,0.999,0.999,0.999,0.999,0.999,0.999,0.999,0.999,0.993,0.988,{"v":0.98,"d":"0.980"},0.969,{"v":0.95,"d":"0.950"},0.906,0.859,0.771,0.605,0.328,0.081,{"v":0,"d":"0.000"},{"v":0,"d":"0.000"},{"v":0,"d":"0.000"},{"v":0,"d":"0.000"},{"v":0,"d":"0.000"},{"v":0,"d":"0.000"},{"v":0,"d":"0.000"}]
["NBFD11",3.1010267,0,-1.0022108,-2,3.2631687,-2,-8.1029268,-4,{"v":1.935011,"d":"1.9350110"},-4,-8.0279799,-6,"","","","","","",0.999,0.999,0.999,0.999,0.999,0.999,0.999,0.999,0.999,0.999,0.999,0.999,0.999,0.999,0.999,0.999,0.999,0.999,0.999,0.999,0.999,0.999,0.999,0.998,0.997,0.995,0.993,0.989,0.983,0.972,0.951,0.912,0.831,{"v":0.65,"d":"0.650"},0.347,{"v":0,"d":"0.000"},{"v":0,"d":"0.000"},{"v":0,"d":"0.000"},"","","","","","",0.998,0.997,0.998,0.999,0.999,0.999,0.999,0.999,0.999,0.999,0.999,0.999,0.999,0.999,0.999,0.999,0.999,0.999,0.999,0.999,0.999,0.998,0.997,0.995,0.993,0.988,0.982,0.972,0.959,{"v":0.93,"d":"0.930"},0.881,0.795,0.629,{"v":0.34,"d":"0.340"},0.071,{"v":0,"d":"0.000"},{"v":0,"d":"0.000"},{"v":0,"d":"0.000"},"","","","","","",0.996,0.994,0.997,0.999,0.999,0.999,0.999,0.999,0.999,0.999,0.999,0.999,0.999,0.999,0.999,0.998,0.999,0.999,0.999,0.999,0.999,0.995,0.995,{"v":0.99,"d":"0.990"},0.986,0.977,0.964,0.944,0.919,0.866,0.776,0.632,0.396,0.116,{"v":0,"d":"0.000"},{"v":0,"d":"0.000"},{"v":0,"d":"0.000"},{"v":0,"d":"0.000"}]
["NBFD12",3.1513655,0,-1.3052015,-2,2.9502111,-2,6.7643437,-4,3.6679701,-6,1.8233293,-6,"","","","","","","","","","","","","","","","","","","","","","","","","","","","","","","","","","","","","","","","","","","","","","","","","","",0.999,0.999,0.999,0.999,0.999,0.999,0.999,0.999,0.999,0.999,0.999,0.999,0.999,0.999,0.999,0.999,0.999,0.999,0.999,0.998,0.997,0.996,0.995,0.993,0.991,0.987,0.981,0.972,0.954,{"v":0.92,"d":"0.920"},0.841,0.685,0.398,0.106,{"v":0,"d":"0.000"},{"v":0,"d":"0.000"},{"v":0,"d":"0.000"},{"v":0,"d":"0.000"},"","","","","","",0.996,0.996,0.997,0.999,0.999,0.999,0.999,0.999,0.999,0.999,0.999,0.999,0.999,0.999,0.999,0.999,0.997,0.997,0.997,0.996,0.994,0.992,0.989,0.986,0.982,0.974,0.962,0.945,0.911,0.847,0.708,0.469,0.158,0.011,{"v":0,"d":"0.000"},{"v":0,"d":"0.000"},{"v":0,"d":"0.000"},{"v":0,"d":"0.000"}]
["NBFD13",3.1729223,0,-1.4248534,-2,2.9168114,-2,{"v":1.342876,"d":"1.3428760"},-3,-9.6178753,-5,8.4042556,-6,"","","","","","",0.999,0.999,0.999,0.999,0.999,0.999,0.999,0.999,0.999,0.999,0.999,0.999,0.999,0.999,0.999,0.999,0.999,0.999,0.999,0.999,0.999,0.998,0.997,0.995,0.992,0.987,0.981,0.969,0.949,{"v":0.9,"d":"0.900"},0.778,{"v":0.56,"d":"0.560"},0.284,{"v":0,"d":"0.000"},{"v":0,"d":"0.000"},{"v":0,"d":"0.000"},{"v":0,"d":"0.000"},{"v":0,"d":"0.000"},"","","","","","",0.998,0.998,0.998,0.999,0.999,0.999,0.999,0.999,0.999,0.999,0.999,0.999,0.999,0.999,0.999,0.999,0.999,0.999,0.999,0.999,0.997,0.995,0.991,0.987,0.981,0.967,0.953,0.925,0.876,0.769,0.534,0.235,0.043,{"v":0,"d":"0.000"},{"v":0,"d":"0.000"},{"v":0,"d":"0.000"},{"v":0,"d":"0.000"},{"v":0,"d":"0.000"},"","","","","","",0.997,0.996,0.997,0.999,0.999,0.999,0.999,0.999,0.999,0.999,0.999,0.999,0.999,0.999,0.999,0.999,0.999,0.999,0.999,0.999,0.993,{"v":0.99,"d":"0.990"},0.983,0.974,0.963,0.936,0.908,0.856,0.768,0.591,0.285,0.055,{"v":0,"d":"0.000"},{"v":0,"d":"0.000"},{"v":0,"d":"0.000"},{"v":0,"d":"0.000"},{"v":0,"d":"0.000"},{"v":0,"d":"0.000"}]
["NBFD15",3.1540011,0,-1.3256753,-2,3.4103312,-2,1.8472167,-3,-1.0807332,-4,1.2975901,-5,0.984,0.988,0.997,0.999,0.999,0.999,0.999,0.999,0.999,0.999,0.999,0.999,0.999,0.999,0.999,0.999,0.999,0.999,0.999,0.999,0.999,0.999,0.999,0.999,0.999,0.999,0.997,0.996,0.994,0.993,{"v":0.99,"d":"0.990"},0.982,0.973,0.952,0.903,0.772,0.493,0.158,{"v":0,"d":"0.000"},{"v":0,"d":"0.000"},{"v":0,"d":"0.000"},{"v":0,"d":"0.000"},{"v":0,"d":"0.000"},{"v":0,"d":"0.000"},{"v":0.96,"d":"0.960"},0.971,0.993,0.999,0.999,0.999,0.999,0.999,0.999,0.999,0.999,0.999,0.999,0.999,0.999,0.999,0.999,0.999,0.998,0.998,0.998,0.998,0.998,0.998,0.998,0.998,0.993,{"v":0.99,"d":"0.990"},0.986,0.982,0.974,0.956,0.933,0.885,0.776,0.524,0.169,{"v":0.01,"d":"0.010"},{"v":0,"d":"0.000"},{"v":0,"d":"0.000"},{"v":0,"d":"0.000"},{"v":0,"d":"0.000"},{"v":0,"d":"0.000"},{"v":0,"d":"0.000"},0.922,0.943,0.987,0.999,0.999,0.999,0.999,0.998,0.998,0.999,0.999,0.999,0.999,0.999,0.999,0.999,0.998,0.998,0.996,0.996,0.997,0.996,0.996,0.996,0.996,0.996,0.986,0.981,0.972,0.964,0.949,0.914,0.871,0.784,0.602,0.274,0.029,{"v":0,"d":"0.000"},{"v":0,"d":"0.000"},{"v":0,"d":"0.000"},{"v":0,"d":"0.000"},{"v":0,"d":"0.000"},{"v":0,"d":"0.000"},{"v":0,"d":"0.000"}]
["NBFD15-W",3.1540011,0,-1.3256753,-2,3.4103312,-2,1.8472167,-3,-1.0807332,-4,1.2975901,-5,0.984,0.988,0.997,0.999,0.999,0.999,0.999,0.999,0.999,0.999,0.999,0.999,0.999,0.999,0.999,0.999,0.999,0.999,0.999,0.999,0.999,0.999,0.999,0.999,0.999,0.999,0.998,0.997,0.996,0.996,0.994,0.988,0.979,0.962,0.915,0.791,0.511,0.235,{"v":0,"d":"0.000"},{"v":0,"d":"0.000"},{"v":0,"d":"0.000"},{"v":0,"d":"0.000"},{"v":0,"d":"0.000"},{"v":0,"d":"0.000"},{"v":0.96,"d":"0.960"},0.971,0.993,0.999,0.999,0.999,0.999,0.999,0.999,0.999,0.999,0.999,0.999,0.999,0.999,0.999,0.999,0.999,0.998,0.998,0.998,0.998,0.998,0.998,0.998,0.998,0.994,0.993,{"v":0.99,"d":"0.990"},0.989,0.984,0.971,0.949,0.909,0.802,0.557,0.186,0.027,{"v":0,"d":"0.000"},{"v":0,"d":"0.000"},{"v":0,"d":"0.000"},{"v":0,"d":"0.000"},{"v":0,"d":"0.000"},{"v":0,"d":"0.000"},0.922,0.943,0.987,0.999,0.999,0.999,0.999,0.998,0.998,0.999,0.999,0.999,0.999,0.999,0.999,0.999,0.998,0.998,0.996,0.996,0.997,0.996,0.996,0.996,0.996,0.996,0.988,0.985,0.982,0.978,0.968,0.943,{"v":0.9,"d":"0.900"},0.825,0.643,{"v":0.31,"d":"0.310"},0.035,{"v":0,"d":"0.000"},{"v":0,"d":"0.000"},{"v":0,"d":"0.000"},{"v":0,"d":"0.000"},{"v":0,"d":"0.000"},{"v":0,"d":"0.000"},{"v":0,"d":"0.000"}]
["NBFD25",3.2879389,0,-1.5856356,-2,4.5638807,-2,3.3027661,-3,-2.1690686,-4,2.9625863,-5,0.972,0.979,0.988,0.994,0.996,0.998,0.998,0.998,0.998,0.999,0.999,0.999,0.999,0.999,0.999,0.999,0.999,0.999,0.999,0.999,0.999,0.999,0.999,0.999,0.999,0.999,0.997,0.996,0.995,0.992,0.987,0.973,0.959,0.933,0.875,0.682,0.266,0.014,{"v":0,"d":"0.000"},{"v":0,"d":"0.000"},{"v":0,"d":"0.000"},{"v":0,"d":"0.000"},{"v":0,"d":"0.000"},{"v":0,"d":"0.000"},0.931,0.948,0.971,0.986,{"v":0.99,"d":"0.990"},0.994,0.994,0.994,0.996,0.997,0.998,0.998,0.998,0.998,0.998,0.998,0.998,0.997,0.998,0.999,0.999,0.999,0.999,0.998,0.997,0.997,0.993,{"v":0.99,"d":"0.990"},0.986,{"v":0.98,"d":"0.980"},0.969,0.935,{"v":0.9,"d":"0.900"},{"v":0.84,"d":"0.840"},0.716,0.385,0.037,{"v":0,"d":"0.000"},{"v":0,"d":"0.000"},{"v":0,"d":"0.000"},{"v":0,"d":"0.000"},{"v":0,"d":"0.000"},{"v":0,"d":"0.000"},{"v":0,"d":"0.000"},0.867,0.899,0.943,0.972,0.981,0.988,0.989,0.988,0.992,0.995,0.995,0.995,0.995,0.996,0.995,0.995,0.996,0.995,0.995,0.999,0.999,0.998,0.998,0.997,0.995,0.994,0.985,0.981,0.973,{"v":0.96,"d":"0.960"},0.939,0.874,0.809,0.705,0.513,0.148,{"v":0,"d":"0.000"},{"v":0,"d":"0.000"},{"v":0,"d":"0.000"},{"v":0,"d":"0.000"},{"v":0,"d":"0.000"},{"v":0,"d":"0.000"},{"v":0,"d":"0.000"},{"v":0,"d":"0.000"}]
["NBFD29",{"v":3.023484,"d":"3.0234840"},0,-1.4446333,-2,3.4673303,-2,2.0637437,-3,-1.1126222,-4,1.4468973,-5,0.967,0.975,0.985,0.993,0.995,0.999,0.999,0.999,0.999,0.999,0.999,0.999,0.999,0.999,0.999,0.999,0.999,0.999,0.999,0.999,0.999,0.999,0.999,0.999,0.999,0.999,0.998,0.998,0.997,0.996,0.995,0.991,0.986,0.979,0.965,0.927,0.844,0.628,0.147,{"v":0,"d":"0.000"},{"v":0,"d":"0.000"},{"v":0,"d":"0.000"},{"v":0,"d":"0.000"},{"v":0,"d":"0.000"},0.919,0.939,0.962,0.983,0.988,0.996,0.997,0.997,0.998,0.999,0.999,0.999,0.999,0.999,0.999,0.999,0.999,0.999,0.999,0.999,0.999,0.999,0.999,0.998,0.999,0.998,0.996,0.994,0.992,0.991,0.987,0.977,0.966,0.948,0.914,0.828,0.654,0.313,{"v":0,"d":"0.000"},{"v":0,"d":"0.000"},{"v":0,"d":"0.000"},{"v":0,"d":"0.000"},{"v":0,"d":"0.000"},{"v":0,"d":"0.000"},0.845,0.881,0.925,0.966,0.977,0.993,0.994,0.993,0.997,0.999,0.999,0.999,0.999,0.999,0.999,0.999,0.999,0.999,0.999,0.998,0.998,0.998,0.998,0.996,0.997,0.996,0.992,0.988,0.985,0.982,0.973,0.954,0.934,0.899,0.835,0.686,0.427,0.098,{"v":0,"d":"0.000"},{"v":0,"d":"0.000"},{"v":0,"d":"0.000"},{"v":0,"d":"0.000"},{"v":0,"d":"0.000"},{"v":0,"d":"0.000"}]
["NBFD3",3.1633746,0,{"v":-1.327628,"d":"-1.3276280"},-2,3.1133309,-2,{"v":8.352338,"d":"8.3523380"},-4,2.9980499,-6,2.5568853,-6,"","","","","","",0.999,0.998,0.999,0.999,0.999,0.999,0.999,0.999,0.999,0.999,0.999,0.999,0.999,0.999,0.999,0.999,0.999,0.999,0.999,0.999,0.999,0.998,0.997,0.996,0.993,0.987,0.981,0.968,{"v":0.94,"d":"0.940"},{"v":0.87,"d":"0.870"},0.688,0.397,{"v":0,"d":"0.000"},{"v":0,"d":"0.000"},{"v":0,"d":"0.000"},{"v":0,"d":"0.000"},{"v":0,"d":"0.000"},{"v":0,"d":"0.000"},"","","","","","",0.997,0.996,0.998,0.999,0.999,0.999,0.999,0.999,0.999,0.999,0.999,0.999,0.999,0.999,0.999,0.999,0.999,0.999,0.999,0.999,0.997,0.995,0.992,0.989,0.983,0.969,0.952,0.922,0.857,0.705,0.392,0.099,{"v":0,"d":"0.000"},{"v":0,"d":"0.000"},{"v":0,"d":"0.000"},{"v":0,"d":"0.000"},{"v":0,"d":"0.000"},{"v":0,"d":"0.000"},"","","","","","",0.994,0.993,0.996,0.999,0.999,0.999,0.999,0.999,0.999,0.999,0.999,0.999,0.999,0.999,0.999,0.999,0.999,0.998,0.999,0.997,0.994,0.989,0.985,0.978,0.966,{"v":0.94,"d":"0.940"},0.906,{"v":0.85,"d":"0.850"},0.735,0.497,0.154,{"v":0,"d":"0.000"},{"v":0,"d":"0.000"},{"v":0,"d":"0.000"},{"v":0,"d":"0.000"},{"v":0,"d":"0.000"},{"v":0,"d":"0.000"},{"v":0,"d":"0.000"}]
["NBFD30",3.3241277,0,-1.3971809,-2,4.0932303,-2,2.2915572,-3,-1.2906531,-4,1.8478848,-5,{"v":0.97,"d":"0.970"},0.976,{"v":0.99,"d":"0.990"},0.995,0.998,0.999,0.999,0.999,0.999,0.999,0.999,0.999,0.999,0.999,0.999,0.999,0.999,0.999,0.999,0.999,0.999,0.999,0.999,0.999,0.999,0.999,0.997,0.996,0.994,0.992,0.988,0.977,0.962,0.928,0.843,0.597,"","","","","","","","",0.928,0.941,0.976,0.989,0.994,0.997,0.997,0.997,0.998,0.999,0.999,0.999,0.999,0.999,0.999,0.999,0.999,0.999,0.999,0.999,0.999,0.999,0.999,0.998,0.998,0.997,0.992,0.989,0.986,{"v":0.98,"d":"0.980"},{"v":0.97,"d":"0.970"},0.943,0.908,0.829,0.652,0.275,{"v":0,"d":"0.000"},{"v":0,"d":"0.000"},{"v":0,"d":"0.000"},{"v":0,"d":"0.000"},{"v":0,"d":"0.000"},{"v":0,"d":"0.000"},{"v":0,"d":"0.000"},{"v":0,"d":"0.000"},{"v":0.86,"d":"0.860"},0.885,0.952,0.977,0.989,0.994,0.995,0.994,0.996,0.998,0.998,0.998,0.998,0.998,0.997,0.997,0.997,0.997,0.997,0.999,0.999,0.999,0.998,0.996,0.995,0.993,0.985,0.979,0.971,0.961,0.942,0.889,0.824,0.687,0.425,0.076,{"v":0,"d":"0.000"},{"v":0,"d":"0.000"},{"v":0,"d":"0.000"},{"v":0,"d":"0.000"},{"v":0,"d":"0.000"},{"v":0,"d":"0.000"},{"v":0,"d":"0.000"},{"v":0,"d":"0.000"}]
["NBFD32",2.8989349,0,-1.3348892,-2,3.0163481,-2,1.6257886,-3,-7.6966547,-5,1.0143236,-5,0.976,0.981,0.989,0.994,0.996,0.999,0.999,0.999,0.999,0.999,0.999,0.999,0.999,0.999,0.999,0.999,0.999,0.999,0.999,0.999,0.999,0.999,0.999,0.999,0.999,0.999,0.999,0.998,0.998,0.997,0.996,0.993,{"v":0.99,"d":"0.990"},0.984,{"v":0.97,"d":"0.970"},0.922,0.788,0.485,0.046,{"v":0,"d":"0.000"},{"v":0,"d":"0.000"},{"v":0,"d":"0.000"},{"v":0,"d":"0.000"},{"v":0,"d":"0.000"},{"v":0.94,"d":"0.940"},0.954,0.972,0.986,0.991,0.996,0.997,0.997,0.998,0.999,0.999,0.999,0.999,0.999,0.999,0.999,0.999,0.999,0.999,0.999,0.999,0.999,0.999,0.998,0.998,0.998,0.997,0.996,0.994,0.992,{"v":0.99,"d":"0.990"},0.983,0.975,{"v":0.96,"d":"0.960"},0.928,0.816,0.552,0.164,{"v":0,"d":"0.000"},{"v":0,"d":"0.000"},{"v":0,"d":"0.000"},{"v":0,"d":"0.000"},{"v":0,"d":"0.000"},{"v":0,"d":"0.000"},0.884,0.909,0.944,0.972,0.982,0.992,0.994,0.994,0.995,0.997,0.998,0.998,0.998,0.998,0.997,0.998,0.998,0.998,0.999,0.998,0.998,0.997,0.997,0.997,0.997,0.997,0.993,0.991,0.989,0.985,{"v":0.98,"d":"0.980"},0.966,0.951,0.922,{"v":0.86,"d":"0.860"},0.665,0.304,0.027,{"v":0,"d":"0.000"},{"v":0,"d":"0.000"},{"v":0,"d":"0.000"},{"v":0,"d":"0.000"},{"v":0,"d":"0.000"},{"v":0,"d":"0.000"}]
["PCD4",2.5807045,0,-1.0957538,-2,{"v":1.268943,"d":"1.2689430"},-2,6.6387812,-4,-6.4849664,-5,3.4787863,-6,0.928,0.947,0.976,0.994,0.997,0.999,0.998,0.998,0.999,0.999,0.999,0.999,0.999,0.999,0.999,0.999,0.999,0.999,0.999,0.999,0.999,0.999,0.999,0.999,0.999,0.999,0.999,0.999,0.999,0.999,0.999,0.999,0.998,0.995,0.991,0.983,0.967,0.945,0.908,0.859,0.794,0.717,0.623,0.493,0.829,0.873,0.941,0.984,0.993,0.998,0.996,0.996,0.997,0.999,0.999,0.999,0.999,0.999,0.999,0.999,0.999,0.999,0.999,0.999,0.999,0.999,0.999,0.999,0.999,0.999,0.999,0.999,0.999,0.998,0.998,0.996,0.994,0.988,0.977,0.958,{"v":0.92,"d":"0.920"},0.867,0.785,0.684,0.561,0.434,0.304,{"v":0.17,"d":"0.170"},0.688,0.762,0.885,0.968,0.986,0.997,0.993,0.992,0.994,0.999,0.999,0.999,0.999,0.999,0.999,0.999,0.999,0.999,0.999,0.998,0.999,0.999,0.999,0.999,0.999,0.999,0.999,0.999,0.997,0.996,0.997,0.993,0.989,0.976,0.955,0.917,0.847,0.752,0.616,0.467,0.314,0.188,0.093,0.029]
["PCD40",2.5844463,0,-9.0521858,-3,1.4301987,-2,{"v":1.705077,"d":"1.7050770"},-4,{"v":4.964536,"d":"4.9645360"},-6,-1.2927479,-7,"","","","","","",0.999,0.999,0.999,0.999,0.999,0.999,0.999,0.999,0.999,0.999,0.999,0.999,0.999,0.999,0.999,0.999,0.999,0.999,0.999,0.999,0.999,0.999,0.999,0.998,0.998,0.997,0.995,0.991,0.981,{"v":0.96,"d":"0.960"},0.921,0.854,0.751,{"v":0.62,"d":"0.620"},0.471,0.332,0.216,0.112,"","","","","","",0.997,0.997,0.997,0.998,0.998,0.997,0.997,0.997,0.997,0.997,0.997,0.997,0.997,0.999,0.998,0.999,0.999,0.998,0.998,0.999,0.998,0.998,0.997,0.996,0.996,0.993,0.988,0.977,0.954,0.903,0.814,0.675,0.489,0.304,0.154,0.063,0.022,{"v":0,"d":"0.000"},"","","","","","",0.994,0.994,0.995,0.996,0.995,0.995,0.994,0.994,0.994,0.994,0.994,0.994,0.994,0.997,0.997,0.997,0.997,0.996,0.997,0.998,0.997,0.996,0.994,0.992,0.991,0.986,0.976,0.954,0.911,0.815,0.663,0.455,{"v":0.24,"d":"0.240"},0.092,0.024,{"v":0,"d":"0.000"},{"v":0,"d":"0.000"},{"v":0,"d":"0.000"}]
["PCD51",2.5046638,0,-1.0149448,-2,1.2653769,-2,1.6566642,-4,5.3871747,-7,{"v":5.584093,"d":"5.5840930"},-8,0.956,0.969,0.981,0.994,0.997,0.999,0.998,0.998,0.999,0.999,0.999,0.999,0.999,0.999,0.999,0.999,0.999,0.999,0.999,0.999,0.999,0.999,0.999,0.999,0.999,0.999,0.999,0.999,0.999,0.998,0.998,0.998,0.998,0.997,0.996,0.993,0.987,0.976,0.957,0.929,0.887,0.832,0.765,0.681,0.894,0.925,0.954,0.985,0.993,0.998,0.996,0.996,0.997,0.999,0.999,0.999,0.999,0.999,0.999,0.999,0.999,0.999,0.999,0.999,0.999,0.999,0.999,0.999,0.998,0.999,0.998,0.998,0.997,0.996,0.996,0.996,0.995,0.993,0.989,0.982,0.967,{"v":0.94,"d":"0.940"},0.895,0.831,{"v":0.74,"d":"0.740"},{"v":0.63,"d":"0.630"},{"v":0.51,"d":"0.510"},0.381,{"v":0.8,"d":"0.800"},0.856,{"v":0.91,"d":"0.910"},0.971,0.986,0.997,0.992,0.992,0.994,0.998,0.998,0.998,0.999,0.998,0.998,0.999,0.999,0.999,0.999,0.999,0.999,0.999,0.998,0.998,0.997,0.998,0.997,0.996,0.994,0.992,0.991,0.991,{"v":0.99,"d":"0.990"},0.986,0.978,0.964,0.935,0.884,0.802,{"v":0.69,"d":"0.690"},0.547,0.397,{"v":0.26,"d":"0.260"},0.145]
["TAC2",2.9717137,0,-1.4952593,-2,2.0162868,-2,9.4072283,-4,-8.8614104,-5,5.3191242,-6,"","","","","","","","","","","","","","","","","","","","","","","","","","","","","","","","","","","","","","","","","","","","","","","","","","",0.996,0.996,0.996,0.999,0.999,0.999,0.999,0.999,0.999,0.999,0.999,0.999,0.999,0.999,0.999,0.999,0.999,0.999,0.999,0.999,0.999,0.997,0.993,0.992,0.988,0.982,0.972,0.959,{"v":0.94,"d":"0.940"},{"v":0.9,"d":"0.900"},{"v":0.84,"d":"0.840"},{"v":0.75,"d":"0.750"},{"v":0.64,"d":"0.640"},{"v":0.52,"d":"0.520"},{"v":0.38,"d":"0.380"},{"v":0.28,"d":"0.280"},{"v":0.18,"d":"0.180"},{"v":0.07,"d":"0.070"},"","","","","","",0.992,0.993,0.993,0.999,0.999,0.999,0.999,0.998,0.999,0.999,0.999,0.998,0.998,0.998,0.998,0.997,0.996,0.996,0.996,0.996,0.996,0.994,0.987,0.984,0.977,0.965,0.944,{"v":0.92,"d":"0.920"},{"v":0.87,"d":"0.870"},{"v":0.8,"d":"0.800"},{"v":0.7,"d":"0.700"},{"v":0.57,"d":"0.570"},{"v":0.41,"d":"0.410"},{"v":0.27,"d":"0.270"},{"v":0.04,"d":"0.040"},{"v":0.08,"d":"0.080"},{"v":0.03,"d":"0.030"},{"v":0.01,"d":"0.010"}]
["TAC4",2.9425645,0,-1.3266554,-2,2.3559223,-2,-1.6399009,-4,9.2370759,-5,-4.8615982,-6,"","","","","","","","","","","","","","","","","","","","","","","","","","","","","","","","","","","","","","","","","","","","","","","","","","",0.995,0.995,0.996,0.999,0.999,0.999,0.999,0.999,0.999,0.999,0.999,0.999,0.999,0.999,0.999,0.999,0.999,0.999,0.999,0.999,0.999,0.999,0.998,0.997,0.996,0.993,{"v":0.99,"d":"0.990"},0.984,0.973,0.954,0.922,0.877,0.815,0.736,0.631,{"v":0.54,"d":"0.540"},0.432,0.292,"","","","","","",0.991,0.991,0.991,0.999,0.999,0.999,0.999,0.999,0.999,0.999,0.999,0.999,0.999,0.999,0.999,0.999,0.999,0.999,0.999,0.999,0.999,0.997,0.996,0.994,0.992,0.986,{"v":0.98,"d":"0.980"},0.968,0.948,0.911,{"v":0.85,"d":"0.850"},0.768,0.665,0.542,0.398,0.292,0.187,0.085]
["TAC6",3.0182184,0,-1.5381633,-2,2.1520137,-2,6.4608303,-4,-3.2355748,-5,2.0791593,-6,"","","","","","","","","","","","","","","","","","","","","","","","","","","","","","","","","","","","","","","","","","","","","","","","","","",0.997,0.998,0.998,0.999,0.999,0.999,0.999,0.999,0.999,0.999,0.999,0.999,0.999,0.999,0.999,0.999,0.999,0.999,0.999,0.999,0.999,0.998,0.997,0.996,0.995,0.991,0.987,0.979,0.965,0.942,0.903,{"v":0.85,"d":"0.850"},0.776,0.682,0.529,0.458,0.344,0.207,"","","","","","",0.994,0.995,0.996,0.999,0.999,0.999,0.999,0.999,0.999,0.999,0.999,0.998,0.998,0.999,0.999,0.999,0.999,0.998,0.998,0.999,0.997,0.996,0.993,0.992,{"v":0.99,"d":"0.990"},0.981,0.974,0.958,0.931,0.888,0.815,0.722,0.602,0.466,0.279,{"v":0.21,"d":"0.210"},0.119,0.043]
["TAC8",2.9324178,0,-1.4603156,-2,2.1121636,-2,4.8240144,-5,4.9669475,-5,-2.4904491,-6,0.851,0.896,0.967,0.991,0.997,0.999,0.997,0.997,0.996,0.999,0.999,0.999,0.999,0.999,0.999,0.999,0.999,0.999,0.999,0.999,0.999,0.999,0.999,0.999,0.999,0.999,0.999,0.999,0.999,0.999,0.998,0.998,0.996,0.995,0.992,0.987,0.981,0.969,0.953,0.928,0.891,0.859,0.803,0.707,0.669,{"v":0.76,"d":"0.760"},0.919,0.978,0.993,0.998,0.993,0.992,0.991,0.999,0.999,0.999,0.999,0.999,0.999,0.999,0.999,0.999,0.999,0.999,0.999,0.999,0.999,0.999,0.999,0.999,0.999,0.999,0.998,0.998,0.996,0.994,0.991,0.987,{"v":0.98,"d":"0.980"},0.968,0.953,0.924,0.886,{"v":0.83,"d":"0.830"},{"v":0.75,"d":"0.750"},0.684,0.577,0.421,0.448,0.577,0.845,0.956,0.986,0.997,0.986,0.983,0.982,0.998,0.999,0.999,0.999,0.999,0.999,0.999,0.999,0.999,0.999,0.999,0.999,0.999,0.999,0.999,0.999,0.999,0.998,0.998,0.997,0.995,0.992,0.989,0.982,0.973,{"v":0.96,"d":"0.960"},0.938,0.908,0.853,0.785,0.689,0.562,0.467,0.333,0.178]
["TAF1",3.0736378,0,-1.5501284,-2,2.3627699,-2,6.6300852,-4,-2.8353438,-5,2.2090799,-6,0.858,0.903,0.969,0.991,0.998,0.999,0.998,0.999,0.999,0.999,0.999,0.999,0.999,0.999,0.999,0.999,0.999,0.999,0.999,0.999,0.999,0.999,0.999,0.999,0.999,0.999,0.999,0.999,0.999,0.999,0.998,0.997,0.995,0.993,0.986,0.979,0.965,0.941,0.904,0.844,0.717,0.486,0.232,{"v":0,"d":"0.000"},0.681,0.775,0.924,0.979,0.994,0.999,0.996,0.996,0.999,0.999,0.999,0.999,0.999,0.999,0.999,0.999,0.999,0.999,0.999,0.998,0.999,0.999,0.999,0.999,0.999,0.999,0.999,0.999,0.998,0.997,0.995,0.991,0.989,0.983,0.967,0.949,0.914,0.858,0.777,0.655,0.434,0.165,0.026,{"v":0,"d":"0.000"},0.464,0.601,0.854,0.958,0.988,0.999,0.992,0.993,0.999,0.999,0.998,0.998,0.999,0.999,0.999,0.999,0.999,0.998,0.998,0.996,0.997,0.998,0.999,0.999,0.999,0.999,0.999,0.999,0.995,0.994,0.989,0.983,0.977,0.967,0.934,{"v":0.9,"d":"0.900"},0.835,0.736,0.604,0.429,0.189,0.027,{"v":0,"d":"0.000"},{"v":0,"d":"0.000"}]
["TAF2",3.1415564,0,-1.4370304,-2,2.6483051,-2,9.5642714,-4,-5.9411087,-5,{"v":4.703953,"d":"4.7039530"},-6,"","","","","","","","","","","","","","","","","","","","","","","","","","","","","","","","","","","","","","","","","","","","","","","","","","",0.996,0.995,0.996,0.999,0.999,0.999,0.999,0.999,0.999,0.999,0.999,0.999,0.999,0.999,0.999,0.999,0.999,0.999,0.999,0.999,0.997,0.996,0.994,0.991,0.988,{"v":0.98,"d":"0.980"},0.972,0.957,0.933,0.893,{"v":0.82,"d":"0.820"},0.709,{"v":0.51,"d":"0.510"},0.234,0.031,{"v":0,"d":"0.000"},{"v":0,"d":"0.000"},{"v":0,"d":"0.000"},"","","","","","",0.992,0.991,0.992,0.999,0.999,0.999,0.999,0.999,0.999,0.999,0.999,0.999,0.999,0.999,0.999,0.999,0.998,0.997,0.997,0.997,0.995,0.992,0.988,0.983,0.977,{"v":0.96,"d":"0.960"},0.945,0.917,0.871,0.797,0.672,0.502,0.261,0.055,{"v":1E-3,"d":"0.001"},{"v":0,"d":"0.000"},{"v":0,"d":"0.000"},{"v":0,"d":"0.000"}]
["TAF3",3.1743707,0,-1.4110466,-2,2.8862637,-2,{"v":3.355949,"d":"3.3559490"},-5,8.0422109,-5,-2.8956744,-6,0.862,0.906,0.969,0.992,0.998,0.999,0.999,0.999,0.998,0.999,0.999,0.999,0.999,0.999,0.999,0.999,0.999,0.999,0.999,0.999,0.999,0.999,0.999,0.999,0.999,0.999,0.999,0.999,0.999,0.998,0.996,0.994,0.992,0.988,{"v":0.98,"d":"0.980"},0.966,0.944,0.901,0.813,0.628,0.324,{"v":0,"d":"0.000"},{"v":0,"d":"0.000"},{"v":0,"d":"0.000"},{"v":0.69,"d":"0.690"},0.782,0.924,0.979,0.994,0.999,0.998,0.998,0.998,0.999,0.999,0.999,0.999,0.999,0.999,0.999,0.999,0.999,0.999,0.999,0.999,0.999,0.999,0.999,0.999,0.999,0.999,0.997,0.996,0.994,0.991,0.985,0.979,{"v":0.97,"d":"0.970"},0.952,0.918,0.866,{"v":0.77,"d":"0.770"},0.596,0.313,{"v":0.06,"d":"0.060"},{"v":0,"d":"0.000"},{"v":0,"d":"0.000"},{"v":0,"d":"0.000"},0.476,0.612,0.853,0.959,0.989,0.999,0.997,0.995,{"v":0.99,"d":"0.990"},0.996,0.998,0.998,0.999,0.999,0.998,0.998,0.999,0.999,0.999,0.999,0.999,0.999,0.999,0.999,0.999,0.999,0.998,0.995,0.993,0.989,0.982,{"v":0.97,"d":"0.970"},0.959,0.942,0.906,0.843,{"v":0.75,"d":"0.750"},0.593,0.355,0.098,{"v":0,"d":"0.000"},{"v":0,"d":"0.000"},{"v":0,"d":"0.000"},{"v":0,"d":"0.000"}]
["TAF3D",{"v":3.175337,"d":"3.1753370"},0,-1.4107601,-2,{"v":2.78609,"d":"2.7860900"},-2,4.0102824,-4,2.4504764,-5,2.4435731,-8,0.889,0.929,{"v":0.98,"d":"0.980"},0.993,0.998,0.999,0.999,0.999,0.999,0.999,0.999,0.999,0.999,0.999,0.999,0.999,0.999,0.999,0.999,0.999,0.999,0.999,0.999,0.999,0.999,0.999,0.999,0.999,0.999,0.998,0.997,0.995,0.992,0.988,0.981,0.967,0.941,0.894,0.798,0.611,0.239,0.022,{"v":0,"d":"0.000"},{"v":0,"d":"0.000"},0.744,0.832,0.952,0.982,0.994,0.997,0.998,0.998,0.998,0.999,0.999,0.999,0.999,0.999,0.999,0.999,0.999,0.999,0.999,0.999,0.999,0.999,0.999,0.999,0.999,0.999,0.999,0.998,0.997,0.996,0.994,0.988,0.981,0.971,0.952,{"v":0.92,"d":"0.920"},0.859,0.755,0.569,0.291,0.028,{"v":0,"d":"0.000"},{"v":0,"d":"0.000"},{"v":0,"d":"0.000"},0.554,0.693,0.906,0.964,0.988,0.995,0.995,0.995,0.996,0.998,0.998,0.998,0.998,0.998,0.998,0.998,0.999,0.998,0.999,0.999,0.999,0.999,0.999,0.999,0.999,0.999,0.998,0.996,0.994,0.992,0.987,0.975,0.963,0.942,0.907,0.846,0.737,{"v":0.57,"d":"0.570"},0.324,0.085,{"v":0,"d":"0.000"},{"v":0,"d":"0.000"},{"v":0,"d":"0.000"},{"v":0,"d":"0.000"}]
["TAF4",3.1212281,0,-1.4119909,-2,2.6520622,-2,4.0415763,-4,1.4260634,-5,{"v":3.164256,"d":"3.1642560"},-7,"","","","","","","","","","","","","","","","","","","","","","","","","","","","","","","","","","","","","","","","","","","","","","","","","","",0.996,0.996,0.997,0.999,0.999,0.999,0.999,0.999,0.999,0.999,0.999,0.999,0.999,0.999,0.999,0.999,0.999,0.999,0.999,0.999,0.999,0.999,0.997,0.996,0.994,{"v":0.99,"d":"0.990"},0.985,0.978,0.964,0.942,0.898,0.829,{"v":0.7,"d":"0.700"},0.464,0.141,{"v":0,"d":"0.000"},{"v":0,"d":"0.000"},{"v":0,"d":"0.000"},"","","","","","",0.993,0.992,0.995,0.999,0.999,0.999,0.999,0.999,0.999,0.999,0.999,0.999,0.999,0.999,0.999,0.999,0.999,0.999,0.999,0.999,0.997,0.997,0.993,0.992,0.987,{"v":0.98,"d":"0.980"},0.971,0.956,{"v":0.93,"d":"0.930"},0.887,0.806,0.687,{"v":0.49,"d":"0.490"},0.215,{"v":0.02,"d":"0.020"},{"v":0,"d":"0.000"},{"v":0,"d":"0.000"},{"v":0,"d":"0.000"}]
["TAF5",3.2191571,0,-1.5310562,-2,{"v":2.636257,"d":"2.6362570"},-2,1.0534452,-3,-6.1660412,-5,3.9733897,-6,"","","","","","","","","","","","","","","","","","","","","","","","","","","","","","","","","","","","","","","","","","","","","","","","","","","","","","","","","","","","","","","","","","",0.999,0.998,0.996,0.998,0.999,0.998,0.998,0.996,0.993,0.982,0.973,{"v":0.96,"d":"0.960"},{"v":0.93,"d":"0.930"},{"v":0.88,"d":"0.880"},{"v":0.81,"d":"0.810"},{"v":0.71,"d":"0.710"},{"v":0.58,"d":"0.580"},{"v":0.43,"d":"0.430"},{"v":0.24,"d":"0.240"},{"v":0.14,"d":"0.140"},{"v":0,"d":"0.000"},{"v":0,"d":"0.000"},"","","","","","","","","","","","","","","","","","","","","","",0.997,0.996,0.993,0.996,0.997,0.996,0.996,0.991,0.985,0.964,0.946,{"v":0.92,"d":"0.920"},{"v":0.86,"d":"0.860"},{"v":0.77,"d":"0.770"},{"v":0.66,"d":"0.660"},{"v":0.51,"d":"0.510"},{"v":0.34,"d":"0.340"},{"v":0.19,"d":"0.190"},{"v":0.06,"d":"0.060"},{"v":0.02,"d":"0.020"},{"v":0,"d":"0.000"},{"v":0,"d":"0.000"}]
["TAFD25",3.4905528,0,-1.6325771,-2,4.1146322,-2,2.7169124,-3,-1.8260518,-4,2.0641862,-5,0.936,0.962,0.989,0.998,0.999,0.999,0.999,0.999,0.999,0.999,0.999,0.999,0.999,0.999,0.999,0.999,0.999,0.999,0.999,0.999,0.999,0.999,0.999,0.999,0.999,0.999,0.997,0.996,0.994,0.991,0.985,0.969,{"v":0.95,"d":"0.950"},0.909,0.811,0.587,0.219,{"v":0,"d":"0.000"},{"v":0,"d":"0.000"},{"v":0,"d":"0.000"},{"v":0,"d":"0.000"},{"v":0,"d":"0.000"},{"v":0,"d":"0.000"},{"v":0,"d":"0.000"},0.847,0.907,0.973,0.994,0.999,0.999,0.998,0.998,0.999,0.999,0.999,0.999,0.999,0.999,0.999,0.998,0.998,0.998,0.998,0.999,0.999,0.998,0.997,0.997,0.998,0.998,0.993,{"v":0.99,"d":"0.990"},0.984,0.977,0.962,0.924,{"v":0.88,"d":"0.880"},0.787,0.593,0.264,0.023,{"v":0,"d":"0.000"},{"v":0,"d":"0.000"},{"v":0,"d":"0.000"},{"v":0,"d":"0.000"},{"v":0,"d":"0.000"},{"v":0,"d":"0.000"},{"v":0,"d":"0.000"},0.717,0.822,0.946,0.988,0.999,0.999,0.997,0.996,0.998,0.999,0.998,0.998,0.998,0.998,0.997,0.997,0.996,0.996,0.996,0.997,0.997,0.996,0.995,0.995,0.995,0.996,0.986,{"v":0.98,"d":"0.980"},0.969,0.955,0.926,0.854,0.775,0.619,0.352,0.069,{"v":0,"d":"0.000"},{"v":0,"d":"0.000"},{"v":0,"d":"0.000"},{"v":0,"d":"0.000"},{"v":0,"d":"0.000"},{"v":0,"d":"0.000"},{"v":0,"d":"0.000"},{"v":0,"d":"0.000"}]
["TAFD30",3.4419038,0,-1.4175245,-2,{"v":3.435104,"d":"3.4351040"},-2,1.1752271,-3,-3.9010343,-5,3.7417054,-6,0.941,0.966,0.991,0.997,0.999,0.999,0.999,0.999,0.999,0.999,0.999,0.999,0.999,0.999,0.999,0.999,0.999,0.999,0.999,0.999,0.999,0.999,0.999,0.999,0.999,0.999,0.999,0.998,0.998,0.996,0.994,{"v":0.99,"d":"0.990"},0.987,0.981,0.971,0.952,0.924,0.883,{"v":0.82,"d":"0.820"},0.711,0.495,0.253,{"v":0,"d":"0.000"},{"v":0,"d":"0.000"},0.858,0.917,0.977,0.993,0.999,0.999,0.998,0.998,0.999,0.999,0.999,0.999,0.999,0.999,0.999,0.999,0.999,0.999,0.999,0.999,0.999,0.999,0.999,0.999,0.999,0.999,0.998,0.996,0.994,{"v":0.99,"d":"0.990"},0.985,0.976,0.967,0.952,0.928,0.884,{"v":0.82,"d":"0.820"},0.733,0.608,0.427,0.172,0.032,{"v":0,"d":"0.000"},{"v":0,"d":"0.000"},0.736,0.841,0.955,0.986,0.998,0.999,0.996,0.996,0.999,0.999,0.999,0.998,0.998,0.998,0.997,0.997,0.998,0.997,0.998,0.997,0.997,0.997,0.999,0.999,0.999,0.999,0.997,0.992,0.987,{"v":0.98,"d":"0.980"},0.971,0.953,0.935,0.906,{"v":0.86,"d":"0.860"},0.781,0.672,0.537,{"v":0.37,"d":"0.370"},0.183,0.029,{"v":0,"d":"0.000"},{"v":0,"d":"0.000"},{"v":0,"d":"0.000"}]
["TAFD32",{"v":3.396108,"d":"3.3961080"},0,-1.3087065,-2,3.4853516,-2,7.9083177,-4,7.6995212,-6,2.3516742,-6,0.935,0.963,{"v":0.99,"d":"0.990"},0.996,0.999,0.999,0.999,0.999,0.999,0.999,0.999,0.999,0.999,0.999,0.999,0.999,0.999,0.999,0.999,0.999,0.999,0.999,0.999,0.999,0.999,0.999,0.998,0.997,0.996,0.994,0.991,0.986,{"v":0.98,"d":"0.980"},0.971,0.956,0.932,0.888,0.815,0.674,0.437,0.069,{"v":0,"d":"0.000"},{"v":0,"d":"0.000"},{"v":0,"d":"0.000"},0.846,0.909,0.975,0.989,0.997,0.998,0.998,0.998,0.999,0.999,0.999,0.999,0.999,0.999,0.999,0.999,0.999,0.999,0.999,0.999,0.999,0.999,0.999,0.999,0.999,0.998,0.995,0.993,0.989,0.985,0.979,0.965,0.952,0.929,0.894,0.839,0.744,{"v":0.6,"d":"0.600"},0.373,0.126,{"v":0,"d":"0.000"},{"v":0,"d":"0.000"},{"v":0,"d":"0.000"},{"v":0,"d":"0.000"},0.716,0.827,{"v":0.95,"d":"0.950"},0.979,0.993,0.997,0.997,0.997,0.998,0.998,0.998,0.998,0.998,0.998,0.998,0.998,0.998,0.998,0.998,0.999,0.999,0.999,0.999,0.998,0.997,0.996,{"v":0.99,"d":"0.990"},0.986,0.979,0.971,0.958,0.932,0.906,0.864,{"v":0.8,"d":"0.800"},0.704,0.553,{"v":0.36,"d":"0.360"},0.139,0.016,{"v":0,"d":"0.000"},{"v":0,"d":"0.000"},{"v":0,"d":"0.000"},{"v":0,"d":"0.000"}]
["TAFD33",3.4316955,0,-1.3156273,-2,3.5631862,-2,9.1378109,-4,-4.0366886,-6,3.3867688,-6,0.936,0.963,{"v":0.99,"d":"0.990"},0.997,0.999,0.999,0.999,0.999,0.999,0.999,0.999,0.999,0.999,0.999,0.999,0.999,0.999,0.999,0.999,0.999,0.999,0.999,0.999,0.999,0.999,0.999,0.997,0.996,0.994,0.992,0.988,{"v":0.98,"d":"0.980"},0.971,0.955,0.924,0.858,0.702,0.443,0.078,{"v":0,"d":"0.000"},{"v":0,"d":"0.000"},{"v":0,"d":"0.000"},{"v":0,"d":"0.000"},{"v":0,"d":"0.000"},0.847,0.909,0.976,0.993,0.999,0.999,0.997,0.997,0.998,0.998,0.998,0.998,0.998,0.998,0.998,0.998,0.998,0.998,0.998,0.999,0.999,0.999,0.999,0.998,0.997,0.997,0.993,{"v":0.99,"d":"0.990"},0.986,{"v":0.98,"d":"0.980"},0.971,0.951,0.929,0.891,{"v":0.82,"d":"0.820"},0.682,0.413,0.132,{"v":0,"d":"0.000"},{"v":0,"d":"0.000"},{"v":0,"d":"0.000"},{"v":0,"d":"0.000"},{"v":0,"d":"0.000"},{"v":0,"d":"0.000"},0.718,0.827,0.953,0.987,0.999,0.999,0.995,0.994,0.995,0.996,0.996,0.996,0.997,0.996,0.997,0.997,0.997,0.997,0.996,0.998,0.999,0.998,0.997,0.996,0.995,0.993,0.986,{"v":0.98,"d":"0.980"},0.972,0.961,0.943,0.904,0.864,0.794,0.672,0.464,0.171,0.017,{"v":0,"d":"0.000"},{"v":0,"d":"0.000"},{"v":0,"d":"0.000"},{"v":0,"d":"0.000"},{"v":0,"d":"0.000"},{"v":0,"d":"0.000"}]
["TAFD35",3.5274747,0,-1.4839948,-2,3.9745402,-2,{"v":1.803472,"d":"1.8034720"},-3,-8.9279334,-5,1.1377783,-5,0.937,0.963,0.992,0.999,0.999,0.999,0.998,0.998,0.998,0.998,0.998,0.999,0.999,0.999,0.999,0.999,0.999,0.999,0.999,0.999,0.999,0.999,0.999,0.999,0.999,0.998,0.997,0.995,0.993,{"v":0.99,"d":"0.990"},0.986,0.975,0.959,0.937,0.887,{"v":0.77,"d":"0.770"},0.509,{"v":0,"d":"0.000"},{"v":0,"d":"0.000"},{"v":0,"d":"0.000"},{"v":0,"d":"0.000"},{"v":0,"d":"0.000"},{"v":0,"d":"0.000"},{"v":0,"d":"0.000"},{"v":0.85,"d":"0.850"},{"v":0.91,"d":"0.910"},{"v":0.98,"d":"0.980"},0.997,0.999,0.999,0.994,0.994,0.995,0.996,0.996,0.997,0.997,0.997,0.997,0.998,0.998,0.998,0.999,0.999,0.999,0.998,0.998,0.997,0.997,0.996,0.992,0.988,0.983,0.976,0.965,0.938,{"v":0.9,"d":"0.900"},{"v":0.85,"d":"0.850"},{"v":0.74,"d":"0.740"},{"v":0.52,"d":"0.520"},{"v":0.19,"d":"0.190"},{"v":0,"d":"0.000"},{"v":0,"d":"0.000"},{"v":0,"d":"0.000"},{"v":0,"d":"0.000"},{"v":0,"d":"0.000"},{"v":0,"d":"0.000"},{"v":0,"d":"0.000"},0.723,0.829,{"v":0.96,"d":"0.960"},0.994,0.999,0.999,0.989,0.988,{"v":0.99,"d":"0.990"},0.992,0.992,0.993,0.994,0.994,0.994,0.995,0.996,0.996,0.996,0.996,0.996,0.996,0.995,0.994,0.993,0.993,0.984,0.976,0.966,0.953,0.931,0.879,{"v":0.82,"d":"0.820"},{"v":0.73,"d":"0.730"},{"v":0.55,"d":"0.550"},{"v":0.27,"d":"0.270"},{"v":0.03,"d":"0.030"},{"v":0,"d":"0.000"},{"v":0,"d":"0.000"},{"v":0,"d":"0.000"},{"v":0,"d":"0.000"},{"v":0,"d":"0.000"},{"v":0,"d":"0.000"},{"v":0,"d":"0.000"}]
["TAFD37",3.4943369,0,-1.3647624,-2,{"v":3.883317,"d":"3.8833170"},-2,1.1132555,-3,{"v":-7.402237,"d":"-7.4022370"},-6,5.3027754,-6,0.936,0.964,0.991,0.998,0.999,0.999,0.999,0.999,0.999,0.999,0.999,0.999,0.999,0.999,0.999,0.999,0.999,0.999,0.999,0.999,0.999,0.999,0.999,0.999,0.999,0.998,0.997,0.995,0.993,0.991,0.986,0.976,0.964,0.943,0.902,0.817,0.606,0.223,0.018,{"v":0,"d":"0.000"},{"v":0,"d":"0.000"},{"v":0,"d":"0.000"},{"v":0,"d":"0.000"},{"v":0,"d":"0.000"},0.849,0.912,0.977,0.994,0.999,0.999,0.999,0.999,0.999,0.999,0.999,0.999,0.999,0.999,0.999,0.999,0.999,0.999,0.999,0.998,0.998,0.998,0.997,0.997,0.997,0.996,0.992,0.988,0.983,0.977,0.966,{"v":0.94,"d":"0.940"},0.913,0.863,0.773,0.603,0.287,0.024,{"v":0,"d":"0.000"},{"v":0,"d":"0.000"},{"v":0,"d":"0.000"},{"v":0,"d":"0.000"},{"v":0,"d":"0.000"},{"v":0,"d":"0.000"},{"v":0.72,"d":"0.720"},0.832,0.954,0.989,0.999,0.999,0.999,0.998,0.999,0.999,0.999,0.999,0.999,0.999,0.998,0.998,0.998,0.997,0.998,0.997,0.996,0.995,0.995,0.994,0.994,0.992,0.984,0.977,0.967,0.955,0.934,0.884,0.833,0.745,0.597,0.364,0.082,{"v":0,"d":"0.000"},{"v":0,"d":"0.000"},{"v":0,"d":"0.000"},{"v":0,"d":"0.000"},{"v":0,"d":"0.000"},{"v":0,"d":"0.000"},{"v":0,"d":"0.000"}]
["TAFD37A",3.4958125,0,-1.4342354,-2,3.7807251,-2,1.4184073,-3,-4.6470269,-5,{"v":6.919444,"d":"6.9194440"},-6,0.941,0.966,{"v":0.99,"d":"0.990"},0.995,0.998,0.996,0.996,0.996,0.997,0.997,0.997,0.997,0.997,0.997,0.997,0.997,0.998,0.998,0.998,0.999,0.999,0.999,0.999,0.999,0.999,0.999,0.997,0.995,0.994,0.991,0.986,0.975,0.964,0.944,{"v":0.91,"d":"0.910"},0.831,0.681,0.352,0.056,{"v":0,"d":"0.000"},{"v":0,"d":"0.000"},{"v":0,"d":"0.000"},{"v":0,"d":"0.000"},{"v":0,"d":"0.000"},0.859,0.918,0.975,0.987,0.995,0.991,0.991,{"v":0.99,"d":"0.990"},0.992,0.992,0.993,0.993,0.993,0.993,0.994,0.994,0.994,0.995,0.995,0.998,0.998,0.998,0.998,0.998,0.998,0.997,0.992,0.989,0.984,0.977,0.965,0.938,0.911,0.866,0.789,0.629,0.382,0.074,{"v":0,"d":"0.000"},{"v":0,"d":"0.000"},{"v":0,"d":"0.000"},{"v":0,"d":"0.000"},{"v":0,"d":"0.000"},{"v":0,"d":"0.000"},0.737,0.843,{"v":0.95,"d":"0.950"},0.974,0.989,0.981,0.981,0.981,0.984,0.985,0.985,0.986,0.986,0.987,0.987,0.987,0.988,{"v":0.99,"d":"0.990"},{"v":0.99,"d":"0.990"},0.996,0.996,0.996,0.995,0.995,0.995,0.994,0.985,0.977,0.968,0.954,0.931,{"v":0.88,"d":"0.880"},0.831,{"v":0.75,"d":"0.750"},0.623,0.396,0.146,{"v":0,"d":"0.000"},{"v":0,"d":"0.000"},{"v":0,"d":"0.000"},{"v":0,"d":"0.000"},{"v":0,"d":"0.000"},{"v":0,"d":"0.000"},{"v":0,"d":"0.000"}]
["TAFD40",3.8106232,0,-1.6351565,-2,5.8801097,-2,3.4919026,-3,{"v":-1.694811,"d":"-1.6948110"},-4,3.2569333,-5,0.954,0.973,0.992,0.999,0.999,0.999,0.999,0.999,0.999,0.999,0.999,0.999,0.999,0.999,0.999,0.999,0.999,0.999,0.999,0.999,0.999,0.999,0.999,0.999,0.999,0.998,0.992,0.989,0.983,0.973,0.952,0.903,0.849,0.738,0.523,0.146,{"v":0,"d":"0.000"},{"v":0,"d":"0.000"},{"v":0,"d":"0.000"},{"v":0,"d":"0.000"},{"v":0,"d":"0.000"},{"v":0,"d":"0.000"},{"v":0,"d":"0.000"},{"v":0,"d":"0.000"},0.889,0.933,{"v":0.98,"d":"0.980"},0.997,0.999,0.999,0.999,0.999,0.999,0.999,0.999,0.999,0.999,0.999,0.999,0.999,0.999,0.999,0.999,0.999,0.999,0.999,0.999,0.998,0.997,0.994,0.981,0.972,0.959,0.934,0.884,0.776,0.664,0.468,0.196,{"v":0,"d":"0.000"},{"v":0,"d":"0.000"},{"v":0,"d":"0.000"},{"v":0,"d":"0.000"},{"v":0,"d":"0.000"},{"v":0,"d":"0.000"},{"v":0,"d":"0.000"},{"v":0,"d":"0.000"},{"v":0,"d":"0.000"},{"v":0.79,"d":"0.790"},0.871,{"v":0.96,"d":"0.960"},0.995,0.999,0.999,0.998,0.998,0.999,0.999,0.999,0.999,0.999,0.999,0.999,0.999,0.998,0.999,0.998,0.998,0.998,0.998,0.997,0.997,0.994,0.988,0.962,0.945,0.919,0.873,0.782,0.602,0.441,0.219,0.039,{"v":0,"d":"0.000"},{"v":0,"d":"0.000"},{"v":0,"d":"0.000"},{"v":0,"d":"0.000"},{"v":0,"d":"0.000"},{"v":0,"d":"0.000"},{"v":0,"d":"0.000"},{"v":0,"d":"0.000"},{"v":0,"d":"0.000"}]
["TAFD40-W",3.8106232,0,-1.6351565,-2,5.8801097,-2,3.4919026,-3,{"v":-1.694811,"d":"-1.6948110"},-4,3.2569333,-5,0.951,0.974,0.998,0.999,0.999,0.999,0.999,0.999,0.999,0.999,0.999,0.999,0.999,0.999,0.999,0.999,0.999,0.999,0.999,0.999,0.999,0.999,0.999,0.999,0.999,0.998,0.997,0.995,0.993,{"v":0.99,"d":"0.990"},0.982,0.956,0.917,0.819,0.598,0.191,0.005,{"v":0,"d":"0.000"},{"v":0,"d":"0.000"},{"v":0,"d":"0.000"},{"v":0,"d":"0.000"},{"v":0,"d":"0.000"},{"v":0,"d":"0.000"},{"v":0,"d":"0.000"},0.884,0.936,0.995,0.999,0.999,0.999,0.997,0.997,0.999,0.999,0.999,0.999,0.999,0.999,0.999,0.999,0.999,0.999,0.999,0.999,0.999,0.998,0.998,0.998,0.997,0.996,0.991,0.988,0.983,0.976,0.956,0.894,0.805,0.606,0.276,{"v":0,"d":"0.000"},{"v":0,"d":"0.000"},{"v":0,"d":"0.000"},{"v":0,"d":"0.000"},{"v":0,"d":"0.000"},{"v":0,"d":"0.000"},{"v":0,"d":"0.000"},{"v":0,"d":"0.000"},{"v":0,"d":"0.000"},0.781,0.876,0.991,0.999,0.999,0.999,0.995,0.993,0.998,0.999,0.999,0.999,0.999,0.999,0.999,0.999,0.999,0.999,0.998,0.998,0.998,0.997,0.996,0.996,0.995,0.992,0.983,0.976,0.967,0.952,0.914,0.799,0.649,0.368,0.076,{"v":0,"d":"0.000"},{"v":0,"d":"0.000"},{"v":0,"d":"0.000"},{"v":0,"d":"0.000"},{"v":0,"d":"0.000"},{"v":0,"d":"0.000"},{"v":0,"d":"0.000"},{"v":0,"d":"0.000"},{"v":0,"d":"0.000"}]
["TAFD45",{"v":3.672962,"d":"3.6729620"},0,{"v":-1.51805,"d":"-1.5180500"},-2,{"v":4.57187,"d":"4.5718700"},-2,{"v":2.186221,"d":"2.1862210"},-3,{"v":-9.93742,"d":"-9.9374200"},-5,{"v":1.490466,"d":"1.4904660"},-5,"","","","","","",0.999,0.999,0.999,0.999,0.999,0.999,0.999,0.999,0.999,0.999,0.999,0.999,0.999,0.999,0.999,0.999,0.999,0.999,0.999,0.999,0.997,0.995,0.993,{"v":0.99,"d":"0.990"},0.984,{"v":0.97,"d":"0.970"},0.953,0.922,0.854,0.691,0.402,0.151,{"v":0,"d":"0.000"},{"v":0,"d":"0.000"},{"v":0,"d":"0.000"},{"v":0,"d":"0.000"},{"v":0,"d":"0.000"},{"v":0,"d":"0.000"},"","","","","","",0.999,0.999,0.999,0.999,0.999,0.999,0.999,0.999,0.999,0.999,0.999,0.998,0.998,0.998,0.999,0.999,0.999,0.999,0.999,0.999,0.993,0.988,0.982,0.974,0.959,0.926,0.888,0.817,0.674,0.398,0.102,{"v":0,"d":"0.000"},{"v":0,"d":"0.000"},{"v":0,"d":"0.000"},{"v":0,"d":"0.000"},{"v":0,"d":"0.000"},{"v":0,"d":"0.000"},{"v":0,"d":"0.000"},"","","","","","",0.998,0.998,0.999,0.999,0.999,0.999,0.999,0.999,0.999,0.999,0.999,0.999,0.999,0.999,0.999,0.999,0.999,0.999,0.999,0.997,0.986,0.977,0.964,{"v":0.95,"d":"0.950"},0.921,0.857,0.788,0.668,0.454,0.158,{"v":0,"d":"0.000"},{"v":0,"d":"0.000"},{"v":0,"d":"0.000"},{"v":0,"d":"0.000"},{"v":0,"d":"0.000"},{"v":0,"d":"0.000"},{"v":0,"d":"0.000"},{"v":0,"d":"0.000"}]
["TAFD55",3.8317578,0,-1.5266397,-2,5.4573843,-2,2.3109346,-3,-4.4476201,-5,1.6143887,-5,0.949,0.967,0.991,0.998,0.999,0.999,0.999,0.999,0.999,0.999,0.999,0.999,0.999,0.999,0.999,0.999,0.999,0.999,0.999,0.999,0.999,0.999,0.999,0.999,0.999,0.999,0.996,0.994,{"v":0.99,"d":"0.990"},0.985,0.973,0.944,0.913,0.852,0.719,0.462,{"v":0,"d":"0.000"},{"v":0,"d":"0.000"},{"v":0,"d":"0.000"},{"v":0,"d":"0.000"},{"v":0,"d":"0.000"},{"v":0,"d":"0.000"},{"v":0,"d":"0.000"},{"v":0,"d":"0.000"},0.876,0.919,0.978,0.995,0.999,0.999,0.998,0.998,0.999,0.999,0.999,0.999,0.999,0.999,0.999,0.999,0.999,0.999,0.999,0.999,0.999,0.999,0.999,0.999,0.999,0.998,{"v":0.99,"d":"0.990"},0.984,0.975,0.962,0.933,0.866,0.795,0.668,0.437,0.143,{"v":0,"d":"0.000"},{"v":0,"d":"0.000"},{"v":0,"d":"0.000"},{"v":0,"d":"0.000"},{"v":0,"d":"0.000"},{"v":0,"d":"0.000"},{"v":0,"d":"0.000"},{"v":0,"d":"0.000"},0.768,0.845,0.956,0.991,0.999,0.999,0.996,0.995,0.998,0.998,0.998,0.998,0.998,0.998,0.998,0.998,0.998,0.998,0.998,0.998,0.998,0.997,0.999,0.999,0.998,0.996,0.981,0.968,{"v":0.95,"d":"0.950"},0.925,{"v":0.87,"d":"0.870"},0.749,0.633,0.446,0.191,0.021,{"v":0,"d":"0.000"},{"v":0,"d":"0.000"},{"v":0,"d":"0.000"},{"v":0,"d":"0.000"},{"v":0,"d":"0.000"},{"v":0,"d":"0.000"},{"v":0,"d":"0.000"},{"v":0,"d":"0.000"}]
["TAFD55-W",3.8317578,0,-1.5266397,-2,5.4573843,-2,2.3109346,-3,-4.4476201,-5,1.6143887,-5,0.925,0.946,0.982,0.992,0.996,0.999,0.999,0.999,0.999,0.999,0.999,0.999,0.999,0.999,0.999,0.999,0.999,0.999,0.999,0.999,0.999,0.999,0.999,0.999,0.999,0.999,0.997,0.996,0.994,0.992,0.987,0.971,0.951,0.904,0.793,{"v":0.54,"d":"0.540"},0.154,{"v":0,"d":"0.000"},{"v":0,"d":"0.000"},{"v":0,"d":"0.000"},{"v":0,"d":"0.000"},{"v":0,"d":"0.000"},{"v":0,"d":"0.000"},{"v":0,"d":"0.000"},0.823,{"v":0.87,"d":"0.870"},0.956,0.979,0.991,0.997,0.997,0.997,0.999,0.999,0.999,0.999,0.999,0.999,0.999,0.999,0.999,0.999,0.999,0.999,0.999,0.999,0.999,0.998,0.998,0.997,0.993,{"v":0.99,"d":"0.990"},0.986,{"v":0.98,"d":"0.980"},0.967,{"v":0.93,"d":"0.930"},0.882,0.777,0.559,0.214,{"v":0,"d":"0.000"},{"v":0,"d":"0.000"},{"v":0,"d":"0.000"},{"v":0,"d":"0.000"},{"v":0,"d":"0.000"},{"v":0,"d":"0.000"},{"v":0,"d":"0.000"},{"v":0,"d":"0.000"},0.678,0.756,0.914,0.959,0.982,0.993,0.995,0.993,0.998,0.999,0.999,0.999,0.999,0.999,0.999,0.999,0.999,0.999,0.999,0.999,0.999,0.999,0.997,0.997,0.996,0.994,0.986,{"v":0.98,"d":"0.980"},0.972,{"v":0.96,"d":"0.960"},0.935,0.864,0.777,0.603,0.313,0.046,{"v":0,"d":"0.000"},{"v":0,"d":"0.000"},{"v":0,"d":"0.000"},{"v":0,"d":"0.000"},{"v":0,"d":"0.000"},{"v":0,"d":"0.000"},{"v":0,"d":"0.000"},{"v":0,"d":"0.000"}]
["TAFD5F",{"v":3.275546,"d":"3.2755460"},0,-1.4470354,-2,3.0922062,-2,7.3289981,-4,4.6573307,-6,1.8242746,-6,0.889,0.927,0.977,0.994,0.999,0.999,0.999,0.999,0.999,0.999,0.999,0.999,0.999,0.999,0.999,0.999,0.999,0.999,0.999,0.999,0.999,0.999,0.999,0.999,0.999,0.999,0.999,0.998,0.998,0.998,0.996,0.993,0.988,0.984,0.974,0.955,0.924,0.856,0.716,0.458,{"v":0,"d":"0.000"},{"v":0,"d":"0.000"},{"v":0,"d":"0.000"},{"v":0,"d":"0.000"},0.745,0.827,0.944,0.985,0.997,0.999,0.997,0.997,0.998,0.999,0.999,0.999,0.999,0.999,0.999,0.999,0.999,0.999,0.999,0.999,0.999,0.999,0.998,0.999,0.999,0.999,0.999,0.996,0.994,0.994,0.989,0.982,0.971,{"v":0.96,"d":"0.960"},0.937,0.892,0.821,0.678,0.434,0.142,{"v":0,"d":"0.000"},{"v":0,"d":"0.000"},{"v":0,"d":"0.000"},{"v":0,"d":"0.000"},0.555,0.684,0.892,0.971,0.995,0.999,0.994,0.994,0.995,0.998,0.998,0.998,0.998,0.998,0.998,0.997,0.997,0.997,0.996,0.998,0.998,0.998,0.997,0.998,0.999,0.999,0.998,0.993,0.988,0.987,0.978,0.965,0.944,0.922,0.877,0.796,0.675,0.459,0.189,{"v":0.02,"d":"0.020"},{"v":0,"d":"0.000"},{"v":0,"d":"0.000"},{"v":0,"d":"0.000"},{"v":0,"d":"0.000"}]
["TAFD5G",3.2756799,0,-1.4485625,-2,3.0780102,-2,7.8915515,-4,-4.0810229,-6,2.2273965,-6,0.903,{"v":0.94,"d":"0.940"},0.983,0.993,0.997,0.999,0.999,0.999,0.999,0.999,0.999,0.999,0.999,0.999,0.999,0.999,0.999,0.999,0.999,0.999,0.999,0.999,0.999,0.999,0.999,0.999,0.999,0.998,0.997,0.996,0.995,0.991,0.987,0.981,{"v":0.97,"d":"0.970"},0.953,0.919,0.858,0.737,0.509,{"v":0.11,"d":"0.110"},{"v":0,"d":"0.000"},{"v":0,"d":"0.000"},{"v":0,"d":"0.000"},0.776,0.857,0.958,0.983,0.993,0.997,0.997,0.997,0.997,0.998,0.998,0.999,0.999,0.999,0.999,0.999,0.999,0.999,0.999,0.999,0.999,0.999,0.999,0.999,0.999,0.999,0.997,0.996,0.994,0.991,0.986,0.977,0.968,0.953,0.927,0.886,0.809,0.682,0.465,0.185,{"v":0,"d":"0.000"},{"v":0,"d":"0.000"},{"v":0,"d":"0.000"},{"v":0,"d":"0.000"},0.602,0.734,0.918,0.965,0.986,0.993,0.994,0.993,0.995,0.997,0.997,0.997,0.997,0.997,0.997,0.997,0.998,0.998,0.998,0.999,0.999,0.999,0.998,0.998,0.997,0.997,0.994,0.991,0.987,0.982,0.973,0.955,0.938,0.908,{"v":0.86,"d":"0.860"},0.784,0.654,0.465,0.217,0.034,{"v":0,"d":"0.000"},{"v":0,"d":"0.000"},{"v":0,"d":"0.000"},{"v":0,"d":"0.000"}]
["TAFD65",4.0113202,0,-1.7752009,-2,{"v":5.856933,"d":"5.8569330"},-2,4.3200932,-3,-3.1070842,-4,3.7485638,-5,0.963,0.978,0.993,0.996,0.998,0.999,0.999,0.999,0.999,0.999,0.999,0.999,0.999,0.999,0.999,0.999,0.999,0.999,0.999,0.999,0.999,0.999,0.999,0.999,0.999,0.998,0.992,0.988,0.982,0.972,0.952,0.906,0.859,0.775,0.614,{"v":0.25,"d":"0.250"},0.024,{"v":0,"d":"0.000"},{"v":0,"d":"0.000"},{"v":0,"d":"0.000"},{"v":0,"d":"0.000"},{"v":0,"d":"0.000"},{"v":0,"d":"0.000"},{"v":0,"d":"0.000"},{"v":0.91,"d":"0.910"},0.946,0.982,0.991,0.996,0.998,0.998,0.998,0.999,0.999,0.999,0.999,0.999,0.999,0.999,0.999,0.999,0.999,0.999,0.998,0.998,0.998,0.998,0.998,0.997,0.994,0.981,{"v":0.97,"d":"0.970"},0.956,0.932,0.884,0.781,0.685,0.529,0.295,0.031,{"v":0,"d":"0.000"},{"v":0,"d":"0.000"},{"v":0,"d":"0.000"},{"v":0,"d":"0.000"},{"v":0,"d":"0.000"},{"v":0,"d":"0.000"},{"v":0,"d":"0.000"},{"v":0,"d":"0.000"},0.829,0.894,0.965,0.982,0.992,0.996,0.997,0.997,0.998,0.998,0.998,0.998,0.998,0.998,0.998,0.998,0.998,0.999,0.999,0.997,0.997,0.997,0.996,0.995,0.994,0.989,0.962,0.941,0.913,0.868,0.781,0.609,0.469,{"v":0.28,"d":"0.280"},0.087,{"v":0,"d":"0.000"},{"v":0,"d":"0.000"},{"v":0,"d":"0.000"},{"v":0,"d":"0.000"},{"v":0,"d":"0.000"},{"v":0,"d":"0.000"},{"v":0,"d":"0.000"},{"v":0,"d":"0.000"},{"v":0,"d":"0.000"}]